{"text_format":"3","workbook":"xlsx","n_sheets":9,"sheets":["Provider & Athletes Page","Phase I","Phase II ","Phase III","Phase IV","Data Analysis(DEMO)","Data Analysis","Exercise Selection","RPE Chart"],"not_rendered":{"charts":10,"images":2,"macros":1,"external_links":2,"defined_names":29},"read":"whole","date_system":"1900"}

{"sheet":"Provider & Athletes Page","index":0,"n_rows":74,"n_cols":18,"rows_kept":74,"merged":[[0,1,5,3],[0,4,0,13],[1,4,1,13],[2,4,2,13],[3,4,3,13],[4,4,4,13],[9,13,10,13],[10,3,11,6],[10,7,11,8],[12,3,12,8],[12,13,13,13],[13,7,13,8],[14,7,14,8],[15,7,15,8]]}
[null,"Instructions",null,null,"Select template type and enter athletes firmographics "]
[{"$nulls":4},"Enter start date, select current phase, week, and day"]
[{"$nulls":4},"Clear Selection: Will Clear all data entered throughout the template (DO NOT CLICK IF YOU DO NOT WANT DATA CLEARED)"]
[{"$nulls":4},"Please Read: General Overview of User Manual "]
[]
[]
[]
[]
[]
[]
[{"$nulls":3},"Patellar Tendinopathy Rehab Template for",{"$nulls":3},"Weightlifters",{"$nulls":8},"Select Phase","Program"]
[{"$nulls":16},"I","Weightlifters"]
[{"$nulls":3},"Athlete Demographics",{"$nulls":12},"II","Crossfitters"]
[{"$nulls":3},"Height:",null,null,"Athlete Name:",{"$nulls":9},"III","Powerlifters"]
[{"$nulls":3},"Bodyweight:",null,null,"Care Provider:",{"$nulls":9},"IV","General Athlete"]
[{"$nulls":3},"Age:",null,null,"Location:"]
[{"$nulls":16},"Select Day","Select Week"]
[{"$nulls":16},1,1]
[{"$nulls":16},2,2]
[{"$nulls":3},"Start Date",null,"Phase:",null,"Week",null,"Day:",{"$nulls":6},3,3]
[{"$nulls":16},4,4]
[{"$nulls":16},5,5]
[{"$nulls":16},6,6]
[{"$nulls":16},7,7]
[{"$nulls":17},8]
[{"$nulls":17},9]
[{"$nulls":17},10]
[{"$nulls":17},11]
[{"$nulls":17},12]
[{"$nulls":17},13]
[{"$nulls":17},14]
[{"$nulls":17},15]
[{"$nulls":17},16]
[{"$nulls":17},17]
[{"$nulls":17},18]
[{"$nulls":17},19]
[{"$nulls":17},20]
[]
[]
[]
[]
[]
[{"$nulls":17},13]
[{"$nulls":17},14]
[{"$nulls":17},15]
{"$rows_empty":25}
[{"$nulls":17},16]
[{"$nulls":17},17]
[{"$nulls":17},18]
[{"$nulls":17},19]

{"sheet":"Phase I","index":1,"n_rows":81,"n_cols":15,"rows_kept":81,"merged":[[0,0,0,14],[1,0,2,1],[1,2,2,2],[1,3,2,3],[1,4,2,4],[1,5,2,5],[1,6,2,6],[1,7,1,9],[1,10,2,12],[1,13,2,13],[1,14,2,14],[3,0,79,0],[3,1,4,1],[3,2,7,2],[3,3,7,3],[3,10,7,12],[3,14,7,14],[7,1,13,1],[8,2,12,2],[8,3,12,3],[8,10,12,12],[8,14,12,14],[13,4,13,5],[13,8,13,9],[13,10,13,11],[14,1,15,1],[14,2,18,2],[14,3,18,3],[14,10,18,12],[14,14,18,14],[18,1,24,1],[19,2,23,2],[19,3,23,3],[19,10,23,12],[19,14,23,14],[24,4,24,5],[24,8,24,9],[24,10,24,11],[25,1,26,1],[25,2,29,2],[25,3,29,3],[25,10,29,12],[25,14,29,14],[29,1,35,1],[30,2,34,2],[30,3,34,3],[30,10,34,12],[30,14,34,14],[35,4,35,5],[35,8,35,9],[35,10,35,11],[36,1,37,1],[36,2,40,2],[36,3,40,3],[36,10,40,12],[36,14,40,14],[40,1,46,1],[41,2,45,2],[41,3,45,3],[41,10,45,12],[41,14,45,14],[46,4,46,5],[46,8,46,9],[46,10,46,11],[47,1,48,1],[47,2,51,2],[47,3,51,3],[47,10,51,12],[47,14,51,14],[51,1,57,1],[52,2,56,2],[52,3,56,3],[52,10,56,12],[52,14,56,14],[57,4,57,5],[57,8,57,9],[57,10,57,11],[58,1,59,1],[58,2,62,2],[58,3,62,3],[58,10,62,12],[58,14,62,14],[62,1,68,1],[63,2,67,2],[63,3,67,3],[63,10,67,12],[63,14,67,14],[68,4,68,5],[68,8,68,9],[68,10,68,11],[69,1,70,1],[69,2,73,2],[69,3,73,3],[69,10,73,12],[69,14,73,14],[73,1,79,1],[74,2,78,2],[74,3,78,3],[74,10,78,12],[74,14,78,14],[79,4,79,5],[79,8,79,9],[79,10,79,11],[80,0,81,2],[80,3,81,3],[80,4,81,6],[80,7,81,8],[80,9,81,10],[80,11,81,12],[80,13,81,14],[82,11,83,12],[82,13,83,14]]}
["Phase I - Analgesia with Isometrics"]
["Week - Day",null,"Type","Exercise","Sets","Duration","Rest","Objective Score",null,null,"Feedback",null,null,"Exercise\nTonnage","Absolute\nIntensity"]
[{"$nulls":7},"Sets","Duration","Weight"]
["W\nE\nE\nK\n\n1","Biofeedback\nTest:","Double-Leg",null,5,"30 - 45 Seconds","90 - 120 Seconds",{"$nulls":6},{"$f":"IF(H4*I4*(J4)>0, H4*I4*(J4), \"\")","v":""},{"$f":"IF(MAX(J4:J8) > 0, MAX(J4:J8), \"\")","v":""}]
[{"$nulls":4},5,"30 - 45 Seconds","90 - 120 Seconds",{"$nulls":6},{"$f":"IF(H5*I5*(J5)>0, H5*I5*(J5), \"\")","v":""}]
[{"$nulls":4},5,"30 - 45 Seconds","90 - 120 Seconds",{"$nulls":6},""]
[{"$nulls":4},5,"30 - 45 Seconds","90 - 120 Seconds",{"$nulls":6},""]
[null,"Day 1\nIsometric",null,null,5,"30 - 45 Seconds","90 - 120 Seconds",{"$nulls":6},""]
[null,null,"Single-Leg",null,5,"30 - 45 Seconds","90 - 120 Seconds",{"$nulls":6},"",{"$f":"IF(MAX(J9:J13) > 0, MAX(J9:J13), \"\")","v":""}]
[{"$nulls":4},5,"30 - 45 Seconds","90 - 120 Seconds",{"$nulls":6},""]
[{"$nulls":4},5,"30 - 45 Seconds","90 - 120 Seconds",{"$nulls":6},""]
[{"$nulls":4},5,"30 - 45 Seconds","90 - 120 Seconds",{"$nulls":6},""]
[{"$nulls":4},5,"30 - 45 Seconds","90 - 120 Seconds",{"$nulls":6},""]
[null,null,"Session RPE:",null,"Session\nDuration:",{"$nulls":3},"Session Score:",null,{"$f":"IFERROR(IF(SUBSTITUTE(D14,\"RPE \",\"\")*G14, CONCATENATE(SUBSTITUTE(D14,\"RPE \",\"\")*G14, \" AU\"),0),0)","v":0},null,"Daily\nTotals:",{"$f":"IF(SUM(N4:N13)>0, SUM(N4:N13), \"\")","v":""},{"$f":"IF(MAX(O4:O13), MAX(O4:O13), \"\")","v":""}]
[null,"Biofeedback\nTest:","Double-Leg",null,5,"30 - 45 Seconds","90 - 120 Seconds",{"$nulls":6},{"$f":"IF(H15*I15*(J15)>0, H15*I15*(J15), \"\")","v":""},{"$f":"IF(MAX(J15:J19) > 0, MAX(J15:J19), \"\")","v":""}]
[{"$nulls":4},5,"30 - 45 Seconds","90 - 120 Seconds",{"$nulls":6},{"$f":"IF(H16*I16*(J16)>0, H16*I16*(J16), \"\")","v":""}]
[{"$nulls":4},5,"30 - 45 Seconds","90 - 120 Seconds",{"$nulls":6},""]
[{"$nulls":4},5,"30 - 45 Seconds","90 - 120 Seconds",{"$nulls":6},""]
[null,"Day 2\nIsometric",null,null,5,"30 - 45 Seconds","90 - 120 Seconds",{"$nulls":6},""]
[null,null,"Single-Leg",null,5,"30 - 45 Seconds","90 - 120 Seconds",{"$nulls":6},"",{"$f":"IF(MAX(J20:J24) > 0, MAX(J20:J24), \"\")","v":""}]
[{"$nulls":4},5,"30 - 45 Seconds","90 - 120 Seconds",{"$nulls":6},""]
[{"$nulls":4},5,"30 - 45 Seconds","90 - 120 Seconds",{"$nulls":6},""]
[{"$nulls":4},5,"30 - 45 Seconds","90 - 120 Seconds",{"$nulls":6},""]
[{"$nulls":4},5,"30 - 45 Seconds","90 - 120 Seconds",{"$nulls":6},""]
[null,null,"Session RPE:",null,"Session\nDuration:",{"$nulls":3},"Session Score:",null,{"$f":"IFERROR(IF(SUBSTITUTE(D25,\"RPE \",\"\")*G25, CONCATENATE(SUBSTITUTE(D25,\"RPE \",\"\")*G25, \" AU\"),0),0)","v":0},null,"Daily\nTotals:",{"$f":"IF(SUM(N15:N24)>0, SUM(N15:N24), \"\")","v":""},{"$f":"IF(MAX(O15:O24), MAX(O15:O24), \"\")","v":""}]
[null,"Biofeedback\nTest:","Double-Leg",null,5,"30 - 45 Seconds","90 - 120 Seconds",{"$nulls":6},{"$f":"IF(H26*I26*(J26)>0, H26*I26*(J26), \"\")","v":""},{"$f":"IF(MAX(J26:J30) > 0, MAX(J26:J30), \"\")","v":""}]
[{"$nulls":4},5,"30 - 45 Seconds","90 - 120 Seconds",{"$nulls":6},{"$f":"IF(H27*I27*(J27)>0, H27*I27*(J27), \"\")","v":""}]
[{"$nulls":4},5,"30 - 45 Seconds","90 - 120 Seconds",{"$nulls":6},""]
[{"$nulls":4},5,"30 - 45 Seconds","90 - 120 Seconds",{"$nulls":6},""]
[null,"Day 3\nIsometric",null,null,5,"30 - 45 Seconds","90 - 120 Seconds",{"$nulls":6},""]
[null,null,"Single-Leg",null,5,"30 - 45 Seconds","90 - 120 Seconds",{"$nulls":6},"",{"$f":"IF(MAX(J31:J35) > 0, MAX(J31:J35), \"\")","v":""}]
[{"$nulls":4},5,"30 - 45 Seconds","90 - 120 Seconds",{"$nulls":6},""]
[{"$nulls":4},5,"30 - 45 Seconds","90 - 120 Seconds",{"$nulls":6},""]
[{"$nulls":4},5,"30 - 45 Seconds","90 - 120 Seconds",{"$nulls":6},""]
[{"$nulls":4},5,"30 - 45 Seconds","90 - 120 Seconds",{"$nulls":6},""]
[null,null,"Session RPE:",null,"Session\nDuration:",{"$nulls":3},"Session Score:",null,{"$f":"IFERROR(IF(SUBSTITUTE(D36,\"RPE \",\"\")*G36, CONCATENATE(SUBSTITUTE(D36,\"RPE \",\"\")*G36, \" AU\"),0),0)","v":0},null,"Daily\nTotals:",{"$f":"IF(SUM(N26:N35)>0, SUM(N26:N35), \"\")","v":""},{"$f":"IF(MAX(O26:O35), MAX(O26:O35), \"\")","v":""}]
[null,"Biofeedback\nTest:","Double-Leg",null,5,"30 - 45 Seconds","90 - 120 Seconds",{"$nulls":6},{"$f":"IF(H37*I37*(J37)>0, H37*I37*(J37), \"\")","v":""},{"$f":"IF(MAX(J37:J41) > 0, MAX(J37:J41), \"\")","v":""}]
[{"$nulls":4},5,"30 - 45 Seconds","90 - 120 Seconds",{"$nulls":6},{"$f":"IF(H38*I38*(J38)>0, H38*I38*(J38), \"\")","v":""}]
[{"$nulls":4},5,"30 - 45 Seconds","90 - 120 Seconds",{"$nulls":6},""]
[{"$nulls":4},5,"30 - 45 Seconds","90 - 120 Seconds",{"$nulls":6},""]
[null,"Day 4\nIsometric",null,null,5,"30 - 45 Seconds","90 - 120 Seconds",{"$nulls":6},""]
[null,null,"Single-Leg",null,5,"30 - 45 Seconds","90 - 120 Seconds",{"$nulls":6},"",{"$f":"IF(MAX(J42:J46) > 0, MAX(J42:J46), \"\")","v":""}]
[{"$nulls":4},5,"30 - 45 Seconds","90 - 120 Seconds",{"$nulls":6},""]
[{"$nulls":4},5,"30 - 45 Seconds","90 - 120 Seconds",{"$nulls":6},""]
[{"$nulls":4},5,"30 - 45 Seconds","90 - 120 Seconds",{"$nulls":6},""]
[{"$nulls":4},5,"30 - 45 Seconds","90 - 120 Seconds",{"$nulls":6},""]
[null,null,"Session RPE:",null,"Session\nDuration:",{"$nulls":3},"Session Score:",null,{"$f":"IFERROR(IF(SUBSTITUTE(D47,\"RPE \",\"\")*G47, CONCATENATE(SUBSTITUTE(D47,\"RPE \",\"\")*G47, \" AU\"),0),0)","v":0},null,"Daily\nTotals:",{"$f":"IF(SUM(N37:N46)>0, SUM(N37:N46), \"\")","v":""},{"$f":"IF(MAX(O37:O46), MAX(O37:O46), \"\")","v":""}]
[null,"Biofeedback\nTest:","Double-Leg",null,5,"30 - 45 Seconds","90 - 120 Seconds",{"$nulls":6},{"$f":"IF(H48*I48*(J48)>0, H48*I48*(J48), \"\")","v":""},{"$f":"IF(MAX(J48:J52) > 0, MAX(J48:J52), \"\")","v":""}]
[{"$nulls":4},5,"30 - 45 Seconds","90 - 120 Seconds",{"$nulls":6},{"$f":"IF(H49*I49*(J49)>0, H49*I49*(J49), \"\")","v":""}]
[{"$nulls":4},5,"30 - 45 Seconds","90 - 120 Seconds",{"$nulls":6},""]
[{"$nulls":4},5,"30 - 45 Seconds","90 - 120 Seconds",{"$nulls":6},""]
[null,"Day 5\nIsometric",null,null,5,"30 - 45 Seconds","90 - 120 Seconds",{"$nulls":6},""]
[null,null,"Single-Leg",null,5,"30 - 45 Seconds","90 - 120 Seconds",{"$nulls":6},"",{"$f":"IF(MAX(J53:J57) > 0, MAX(J53:J57), \"\")","v":""}]
[{"$nulls":4},5,"30 - 45 Seconds","90 - 120 Seconds",{"$nulls":6},""]
[{"$nulls":4},5,"30 - 45 Seconds","90 - 120 Seconds",{"$nulls":6},""]
[{"$nulls":4},5,"30 - 45 Seconds","90 - 120 Seconds",{"$nulls":6},""]
[{"$nulls":4},5,"30 - 45 Seconds","90 - 120 Seconds",{"$nulls":6},""]
[null,null,"Session RPE:",null,"Session\nDuration:",{"$nulls":3},"Session Score:",null,{"$f":"IFERROR(IF(SUBSTITUTE(D58,\"RPE \",\"\")*G58, CONCATENATE(SUBSTITUTE(D58,\"RPE \",\"\")*G58, \" AU\"),0),0)","v":0},null,"Daily\nTotals:",{"$f":"IF(SUM(N48:N57)>0, SUM(N48:N57), \"\")","v":""},{"$f":"IF(MAX(O48:O57), MAX(O48:O57), \"\")","v":""}]
[null,"Biofeedback\nTest:","Double-Leg",null,5,"30 - 45 Seconds","90 - 120 Seconds",{"$nulls":6},{"$f":"IF(H59*I59*(J59)>0, H59*I59*(J59), \"\")","v":""},{"$f":"IF(MAX(J59:J63) > 0, MAX(J59:J63), \"\")","v":""}]
[{"$nulls":4},5,"30 - 45 Seconds","90 - 120 Seconds",{"$nulls":6},{"$f":"IF(H60*I60*(J60)>0, H60*I60*(J60), \"\")","v":""}]
[{"$nulls":4},5,"30 - 45 Seconds","90 - 120 Seconds",{"$nulls":6},""]
[{"$nulls":4},5,"30 - 45 Seconds","90 - 120 Seconds",{"$nulls":6},""]
[null,"Day 6\nIsometric",null,null,5,"30 - 45 Seconds","90 - 120 Seconds",{"$nulls":6},""]
[null,null,"Single-Leg",null,5,"30 - 45 Seconds","90 - 120 Seconds",{"$nulls":6},"",{"$f":"IF(MAX(J64:J68) > 0, MAX(J64:J68), \"\")","v":""}]
[{"$nulls":4},5,"30 - 45 Seconds","90 - 120 Seconds",{"$nulls":6},""]
[{"$nulls":4},5,"30 - 45 Seconds","90 - 120 Seconds",{"$nulls":6},""]
[{"$nulls":4},5,"30 - 45 Seconds","90 - 120 Seconds",{"$nulls":6},""]
[{"$nulls":4},5,"30 - 45 Seconds","90 - 120 Seconds",{"$nulls":6},""]
[null,null,"Session RPE:",null,"Session\nDuration:",{"$nulls":3},"Session Score:",null,{"$f":"IFERROR(IF(SUBSTITUTE(D69,\"RPE \",\"\")*G69, CONCATENATE(SUBSTITUTE(D69,\"RPE \",\"\")*G69, \" AU\"),0),0)","v":0},null,"Daily\nTotals:",{"$f":"IF(SUM(N59:N68)>0, SUM(N59:N68), \"\")","v":""},{"$f":"IF(MAX(O59:O68), MAX(O59:O68), \"\")","v":""}]
[null,"Biofeedback\nTest:","Double-Leg",null,5,"30 - 45 Seconds","90 - 120 Seconds",{"$nulls":6},{"$f":"IF(H70*I70*(J70)>0, H70*I70*(J70), \"\")","v":""},{"$f":"IF(MAX(J70:J74) > 0, MAX(J70:J74), \"\")","v":""}]
[{"$nulls":4},5,"30 - 45 Seconds","90 - 120 Seconds",{"$nulls":6},{"$f":"IF(H71*I71*(J71)>0, H71*I71*(J71), \"\")","v":""}]
[{"$nulls":4},5,"30 - 45 Seconds","90 - 120 Seconds",{"$nulls":6},""]
[{"$nulls":4},5,"30 - 45 Seconds","90 - 120 Seconds",{"$nulls":6},""]
[null,"Day 7\nIsometric",null,null,5,"30 - 45 Seconds","90 - 120 Seconds",{"$nulls":6},""]
[null,null,"Single-Leg",null,5,"30 - 45 Seconds","90 - 120 Seconds",{"$nulls":6},"",{"$f":"IF(MAX(J75:J79) > 0, MAX(J75:J79), \"\")","v":""}]
[{"$nulls":4},5,"30 - 45 Seconds","90 - 120 Seconds",{"$nulls":6},""]
[{"$nulls":4},5,"30 - 45 Seconds","90 - 120 Seconds",{"$nulls":6},""]
[{"$nulls":4},5,"30 - 45 Seconds","90 - 120 Seconds",{"$nulls":6},""]
[{"$nulls":4},5,"30 - 45 Seconds","90 - 120 Seconds",{"$nulls":6},""]
[null,null,"Session RPE:",null,"Session\nDuration:",null,45,null,"Session Score:",null,{"$f":"IFERROR(IF(SUBSTITUTE(D80,\"RPE \",\"\")*G80, CONCATENATE(SUBSTITUTE(D80,\"RPE \",\"\")*G80, \" AU\"),0),0)","v":0},null,"Daily\nTotals:",{"$f":"IF(SUM(N70:N79)>0, SUM(N70:N79), \"\")","v":""},{"$f":"IF(MAX(O70:O79), MAX(O70:O79), \"\")","v":""}]
["Weekly Totals:",{"$nulls":6},"Tonnage:",null,{"$f":"IF(SUM(N14,N25,N36,N47,N58,N69,N80), SUM(N14,N25,N36,N47,N58,N69,N80),\"\")","v":""},null,"Total AUs:",null,{"$f":"IFERROR(IF(SUM(SUBSTITUTE(K14,\" AU\",\"\"),SUBSTITUTE(K25,\" AU\",\"\"),SUBSTITUTE(K36,\" AU\",\"\"),SUBSTITUTE(K47,\" AU\",\"\"),SUBSTITUTE(K58,\" AU\",\"\"),SUBSTITUTE(K69,\" AU\",\"\"),SUBSTITUTE(K80,\" AU\",\"\")),CONCATENATE(SUM(SUBSTITUTE(K14,\" AU\",\"\"),SUBSTITUTE(K25,\" AU\",\"\"),SUBSTITUTE(K36,\" AU\",\"\"),SUBSTITUTE(K47,\" AU\",\"\"),SUBSTITUTE(K58,\" AU\",\"\"),SUBSTITUTE(K69,\" AU\",\"\"),SUBSTITUTE(K80,\" AU\",\"\")),\" AU\",\"\")),\"\")","v":false}]

{"sheet":"Phase II ","index":2,"n_rows":96,"n_cols":76,"rows_kept":96,"merged":[[0,0,0,75],[1,0,2,0],[1,1,2,1],[1,2,2,2],[1,3,2,3],[1,4,2,4],[1,6,2,6],[1,7,2,7],[1,8,2,8],[1,9,2,9],[1,10,1,12],[1,13,2,15],[1,16,2,16],[1,17,2,17],[1,18,2,18],[1,19,2,19],[1,20,2,20],[1,21,2,21],[1,22,2,22],[1,23,2,23],[1,25,2,25],[1,26,2,26],[1,27,2,27],[1,28,2,28],[1,29,1,31],[1,32,2,34],[1,35,2,35],[1,36,2,36],[1,37,2,37],[1,38,2,38],[1,39,2,39],[1,40,2,40],[1,41,2,41],[1,42,2,42],[1,44,2,44],[1,45,2,45],[1,46,2,46],[1,47,2,47],[1,48,1,50],[1,51,2,53],[1,54,2,54],[1,55,2,55],[1,56,2,56],[1,57,2,57],[1,58,2,58],[1,59,2,59],[1,60,2,60],[1,61,2,61],[1,63,2,63],[1,64,2,64],[1,65,2,65],[1,66,2,66],[1,67,1,69],[1,70,2,72],[1,73,2,73],[1,74,2,74],[1,75,2,75],[3,0,93,0],[3,1,4,1],[3,2,7,2],[3,3,7,3],[3,13,7,15],[3,16,7,16],[3,17,7,17],[3,18,7,18],[3,19,93,19],[3,20,4,20],[3,21,7,21],[3,22,7,22],[3,32,7,34],[3,35,7,35],[3,36,7,36],[3,37,7,37],[3,38,93,38],[3,39,4,39],[3,40,7,40],[3,41,7,41],[3,51,7,53],[3,54,7,54],[3,55,7,55],[3,56,7,56],[3,57,93,57],[3,58,4,58],[3,59,7,59],[3,60,7,60],[3,70,7,72],[3,73,7,73],[3,74,7,74],[3,75,7,75],[7,1,18,1],[7,20,18,20],[7,39,18,39],[7,58,18,58],[8,2,12,2],[8,3,12,3],[8,13,12,15],[8,16,12,16],[8,17,12,17],[8,18,12,18],[8,21,12,21],[8,22,12,22],[8,32,12,34],[8,35,12,35],[8,36,12,36],[8,37,12,37],[8,40,12,40],[8,41,12,41],[8,51,12,53],[8,54,12,54],[8,55,12,55],[8,56,12,56],[8,59,12,59],[8,60,12,60],[8,70,12,72],[8,73,12,73],[8,74,12,74],[8,75,12,75],[13,2,17,2],[13,3,17,3],[13,13,17,15],[13,16,17,16],[13,17,17,17],[13,18,17,18],[13,21,17,21],[13,22,17,22],[13,32,17,34],[13,35,17,35],[13,36,17,36],[13,37,17,37],[13,40,17,40],[13,41,17,41],[13,51,17,53],[13,54,17,54],[13,55,17,55],[13,56,17,56],[13,59,17,59],[13,60,17,60],[13,70,17,72],[13,73,17,73],[13,74,17,74],[13,75,17,75],[18,4,18,5],[18,6,18,8],[18,9,18,12],[18,13,18,14],[18,23,18,24],[18,25,18,27],[18,28,18,31],[18,32,18,33],[18,42,18,43],[18,44,18,46],[18,47,18,50],[18,51,18,52],[18,61,18,62],[18,63,18,65],[18,66,18,69],[18,70,18,71],[19,1,20,1],[19,2,20,2],[19,3,20,5],[19,6,20,6],[19,7,20,8],[19,9,20,9],[19,10,19,12],[19,13,20,15],[19,16,20,16],[19,17,20,18],[19,20,20,20],[19,21,20,21],[19,22,20,24],[19,25,20,25],[19,26,20,27],[19,28,20,28],[19,29,19,31],[19,32,20,34],[19,35,20,35],[19,36,20,37],[19,39,20,39],[19,40,20,40],[19,41,20,43],[19,44,20,44],[19,45,20,46],[19,47,20,47],[19,48,19,50],[19,51,20,53],[19,54,20,54],[19,55,20,56],[19,58,20,58],[19,59,20,59],[19,60,20,62],[19,63,20,63],[19,64,20,65],[19,66,20,66],[19,67,19,69],[19,70,20,72],[19,73,20,73],[19,74,20,75],[21,1,22,1],[21,2,25,2],[21,3,25,5],[21,7,21,8],[21,13,25,15],[21,17,25,18],[21,20,22,20],[21,21,25,21],[21,22,25,24],[21,26,21,27],[21,32,25,34],[21,36,25,37],[21,39,22,39],[21,40,25,40],[21,41,25,43],[21,45,21,46],[21,51,25,53],[21,55,25,56],[21,58,22,58],[21,59,25,59],[21,60,25,62],[21,64,21,65],[21,70,25,72],[21,74,25,75],[22,7,22,8],[22,26,22,27],[22,45,22,46],[22,64,22,65],[23,7,23,8],[23,26,23,27],[23,45,23,46],[23,64,23,65],[24,7,24,8],[24,26,24,27],[24,45,24,46],[24,64,24,65],[25,1,31,1],[25,7,25,8],[25,20,31,20],[25,26,25,27],[25,39,31,39],[25,45,25,46],[25,58,31,58],[25,64,25,65],[26,2,30,2],[26,3,30,5],[26,7,26,8],[26,13,30,15],[26,17,30,18],[26,21,30,21],[26,22,30,24],[26,26,26,27],[26,32,30,34],[26,36,30,37],[26,40,30,40],[26,41,30,43],[26,45,26,46],[26,51,30,53],[26,55,30,56],[26,59,30,59],[26,60,30,62],[26,64,26,65],[26,70,30,72],[26,74,30,75],[27,7,27,8],[27,26,27,27],[27,45,27,46],[27,64,27,65],[28,7,28,8],[28,26,28,27],[28,45,28,46],[28,64,28,65],[29,7,29,8],[29,26,29,27],[29,45,29,46],[29,64,29,65],[30,7,30,8],[30,26,30,27],[30,45,30,46],[30,64,30,65],[31,4,31,5],[31,6,31,8],[31,9,31,12],[31,13,31,14],[31,17,31,18],[31,23,31,24],[31,25,31,27],[31,28,31,31],[31,32,31,33],[31,36,31,37],[31,42,31,43],[31,44,31,46],[31,47,31,50],[31,51,31,52],[31,55,31,56],[31,61,31,62],[31,63,31,65],[31,66,31,69],[31,70,31,71],[32,1,33,1],[32,2,33,2],[32,3,33,5],[32,6,33,6],[32,7,33,8],[32,9,33,9],[32,10,32,12],[32,13,33,15],[32,16,33,16],[32,17,33,17],[32,18,33,18],[32,20,33,20],[32,21,33,21],[32,22,33,24],[32,25,33,25],[32,26,33,27],[32,28,33,28],[32,29,32,31],[32,32,33,34],[32,35,33,35],[32,36,33,36],[32,37,33,37],[32,39,33,39],[32,40,33,40],[32,41,33,43],[32,44,33,44],[32,45,33,46],[32,47,33,47],[32,48,32,50],[32,51,33,53],[32,54,33,54],[32,55,33,55],[32,56,33,56],[32,58,33,58],[32,59,33,59],[32,60,33,62],[32,63,33,63],[32,64,33,65],[32,66,33,66],[32,67,32,69],[32,70,33,72],[32,73,33,73],[32,74,33,74],[32,75,33,75],[34,1,35,1],[34,2,38,2],[34,3,38,3],[34,13,38,15],[34,16,38,16],[34,17,38,17],[34,18,38,18],[34,20,35,20],[34,21,38,21],[34,22,38,22],[34,32,38,34],[34,35,38,35],[34,36,38,36],[34,37,38,37],[34,39,35,39],[34,40,38,40],[34,41,38,41],[34,51,38,53],[34,54,38,54],[34,55,38,55],[34,56,38,56],[34,58,35,58],[34,59,38,59],[34,60,38,60],[34,70,38,72],[34,73,38,73],[34,74,38,74],[34,75,38,75],[38,1,49,1],[38,20,49,20],[38,39,49,39],[38,58,49,58],[39,2,43,2],[39,3,43,3],[39,13,43,15],[39,16,43,16],[39,17,43,17],[39,18,43,18],[39,21,43,21],[39,22,43,22],[39,32,43,34],[39,35,43,35],[39,36,43,36],[39,37,43,37],[39,40,43,40],[39,41,43,41],[39,51,43,53],[39,54,43,54],[39,55,43,55],[39,56,43,56],[39,59,43,59],[39,60,43,60],[39,70,43,72],[39,73,43,73],[39,74,43,74],[39,75,43,75],[44,2,48,2],[44,3,48,3],[44,13,48,15],[44,16,48,16],[44,17,48,17],[44,18,48,18],[44,21,48,21],[44,22,48,22],[44,32,48,34],[44,35,48,35],[44,36,48,36],[44,37,48,37],[44,40,48,40],[44,41,48,41],[44,51,48,53],[44,54,48,54],[44,55,48,55],[44,56,48,56],[44,59,48,59],[44,60,48,60],[44,70,48,72],[44,73,48,73],[44,74,48,74],[44,75,48,75],[49,4,49,5],[49,6,49,8],[49,9,49,12],[49,13,49,14],[49,23,49,24],[49,25,49,27],[49,28,49,31],[49,32,49,33],[49,42,49,43],[49,44,49,46],[49,47,49,50],[49,51,49,52],[49,61,49,62],[49,63,49,65],[49,66,49,69],[49,70,49,71],[50,1,51,1],[50,2,51,2],[50,3,51,5],[50,6,51,6],[50,7,51,8],[50,9,51,9],[50,10,50,12],[50,13,51,15],[50,16,51,16],[50,17,51,18],[50,20,51,20],[50,21,51,21],[50,22,51,24],[50,25,51,25],[50,26,51,27],[50,28,51,28],[50,29,50,31],[50,32,51,34],[50,35,51,35],[50,36,51,37],[50,39,51,39],[50,40,51,40],[50,41,51,43],[50,44,51,44],[50,45,51,46],[50,47,51,47],[50,48,50,50],[50,51,51,53],[50,54,51,54],[50,55,51,56],[50,58,51,58],[50,59,51,59],[50,60,51,62],[50,63,51,63],[50,64,51,65],[50,66,51,66],[50,67,50,69],[50,70,51,72],[50,73,51,73],[50,74,51,75],[52,1,53,1],[52,2,56,2],[52,3,56,5],[52,7,52,8],[52,13,56,15],[52,17,56,18],[52,20,53,20],[52,21,56,21],[52,22,56,24],[52,26,52,27],[52,32,56,34],[52,36,56,37],[52,39,53,39],[52,40,56,40],[52,41,56,43],[52,45,52,46],[52,51,56,53],[52,55,56,56],[52,58,53,58],[52,59,56,59],[52,60,56,62],[52,64,52,65],[52,70,56,72],[52,74,56,75],[53,7,53,8],[53,26,53,27],[53,45,53,46],[53,64,53,65],[54,7,54,8],[54,26,54,27],[54,45,54,46],[54,64,54,65],[55,7,55,8],[55,26,55,27],[55,45,55,46],[55,64,55,65],[56,1,62,1],[56,7,56,8],[56,20,62,20],[56,26,56,27],[56,39,62,39],[56,45,56,46],[56,58,62,58],[56,64,56,65],[57,2,61,2],[57,3,61,5],[57,7,57,8],[57,13,61,15],[57,17,61,18],[57,21,61,21],[57,22,61,24],[57,26,57,27],[57,32,61,34],[57,36,61,37],[57,40,61,40],[57,41,61,43],[57,45,57,46],[57,51,61,53],[57,55,61,56],[57,59,61,59],[57,60,61,62],[57,64,57,65],[57,70,61,72],[57,74,61,75],[58,7,58,8],[58,26,58,27],[58,45,58,46],[58,64,58,65],[59,7,59,8],[59,26,59,27],[59,45,59,46],[59,64,59,65],[60,7,60,8],[60,26,60,27],[60,45,60,46],[60,64,60,65],[61,7,61,8],[61,26,61,27],[61,45,61,46],[61,64,61,65],[62,4,62,5],[62,6,62,8],[62,9,62,12],[62,13,62,14],[62,17,62,18],[62,23,62,24],[62,25,62,27],[62,28,62,31],[62,32,62,33],[62,36,62,37],[62,42,62,43],[62,44,62,46],[62,47,62,50],[62,51,62,52],[62,55,62,56],[62,61,62,62],[62,63,62,65],[62,66,62,69],[62,70,62,71],[62,74,62,75],[63,1,64,1],[63,2,64,2],[63,3,64,3],[63,4,64,4],[63,6,64,6],[63,7,64,7],[63,8,64,8],[63,9,64,9],[63,10,63,12],[63,13,64,15],[63,16,64,16],[63,17,64,17],[63,18,64,18],[63,20,64,20],[63,21,64,21],[63,22,64,22],[63,23,64,23],[63,25,64,25],[63,26,64,26],[63,27,64,27],[63,28,64,28],[63,29,63,31],[63,32,64,34],[63,35,64,35],[63,36,64,36],[63,37,64,37],[63,39,64,39],[63,40,64,40],[63,41,64,41],[63,42,64,42],[63,44,64,44],[63,45,64,45],[63,46,64,46],[63,47,64,47],[63,48,63,50],[63,51,64,53],[63,54,64,54],[63,55,64,55],[63,56,64,56],[63,58,64,58],[63,59,64,59],[63,60,64,60],[63,61,64,61],[63,63,64,63],[63,64,64,64],[63,65,64,65],[63,66,64,66],[63,67,63,69],[63,70,64,72],[63,73,64,73],[63,74,64,74],[63,75,64,75],[65,1,66,1],[65,2,69,2],[65,3,69,3],[65,13,69,15],[65,16,69,16],[65,17,69,17],[65,18,69,18],[65,20,66,20],[65,21,69,21],[65,22,69,22],[65,32,69,34],[65,35,69,35],[65,36,69,36],[65,37,69,37],[65,39,66,39],[65,40,69,40],[65,41,69,41],[65,51,69,53],[65,54,69,54],[65,55,69,55],[65,56,69,56],[65,58,66,58],[65,59,69,59],[65,60,69,60],[65,70,69,72],[65,73,69,73],[65,74,69,74],[65,75,69,75],[69,1,80,1],[69,20,80,20],[69,39,80,39],[69,58,80,58],[70,2,74,2],[70,3,74,3],[70,13,74,15],[70,16,74,16],[70,17,74,17],[70,18,74,18],[70,21,74,21],[70,22,74,22],[70,32,74,34],[70,35,74,35],[70,36,74,36],[70,37,74,37],[70,40,74,40],[70,41,74,41],[70,51,74,53],[70,54,74,54],[70,55,74,55],[70,56,74,56],[70,59,74,59],[70,60,74,60],[70,70,74,72],[70,73,74,73],[70,74,74,74],[70,75,74,75],[75,2,79,2],[75,3,79,3],[75,13,79,15],[75,16,79,16],[75,17,79,17],[75,18,79,18],[75,21,79,21],[75,22,79,22],[75,32,79,34],[75,35,79,35],[75,36,79,36],[75,37,79,37],[75,40,79,40],[75,41,79,41],[75,51,79,53],[75,54,79,54],[75,55,79,55],[75,56,79,56],[75,59,79,59],[75,60,79,60],[75,70,79,72],[75,73,79,73],[75,74,79,74],[75,75,79,75],[80,4,80,5],[80,6,80,8],[80,9,80,12],[80,13,80,14],[80,23,80,24],[80,25,80,27],[80,28,80,31],[80,32,80,33],[80,42,80,43],[80,44,80,46],[80,47,80,50],[80,51,80,52],[80,61,80,62],[80,63,80,65],[80,66,80,69],[80,70,80,71],[81,1,82,1],[81,2,82,2],[81,3,82,5],[81,6,82,6],[81,7,82,8],[81,9,82,9],[81,10,81,12],[81,13,82,15],[81,16,82,16],[81,17,82,18],[81,20,82,20],[81,21,82,21],[81,22,82,24],[81,25,82,25],[81,26,82,27],[81,28,82,28],[81,29,81,31],[81,32,82,34],[81,35,82,35],[81,36,82,37],[81,39,82,39],[81,40,82,40],[81,41,82,43],[81,44,82,44],[81,45,82,46],[81,47,82,47],[81,48,81,50],[81,51,82,53],[81,54,82,54],[81,55,82,56],[81,58,82,58],[81,59,82,59],[81,60,82,62],[81,63,82,63],[81,64,82,65],[81,66,82,66],[81,67,81,69],[81,70,82,72],[81,73,82,73],[81,74,82,75],[83,1,84,1],[83,2,87,2],[83,3,87,5],[83,7,83,8],[83,13,87,15],[83,17,87,18],[83,20,84,20],[83,21,87,21],[83,22,87,24],[83,26,83,27],[83,32,87,34],[83,36,87,37],[83,39,84,39],[83,40,87,40],[83,41,87,43],[83,45,83,46],[83,51,87,53],[83,55,87,56],[83,58,84,58],[83,59,87,59],[83,60,87,62],[83,64,83,65],[83,70,87,72],[83,74,87,75],[84,7,84,8],[84,26,84,27],[84,45,84,46],[84,64,84,65],[85,7,85,8],[85,26,85,27],[85,45,85,46],[85,64,85,65],[86,7,86,8],[86,26,86,27],[86,45,86,46],[86,64,86,65],[87,1,93,1],[87,7,87,8],[87,20,93,20],[87,26,87,27],[87,39,93,39],[87,45,87,46],[87,58,93,58],[87,64,87,65],[88,2,92,2],[88,3,92,5],[88,7,88,8],[88,13,92,15],[88,17,92,18],[88,21,92,21],[88,22,92,24],[88,26,88,27],[88,32,92,34],[88,36,92,37],[88,40,92,40],[88,41,92,43],[88,45,88,46],[88,51,92,53],[88,55,92,56],[88,59,92,59],[88,60,92,62],[88,64,88,65],[88,70,92,72],[88,74,92,75],[89,7,89,8],[89,26,89,27],[89,45,89,46],[89,64,89,65],[90,7,90,8],[90,26,90,27],[90,45,90,46],[90,64,90,65],[91,7,91,8],[91,26,91,27],[91,45,91,46],[91,64,91,65],[92,7,92,8],[92,26,92,27],[92,45,92,46],[92,64,92,65],[93,4,93,5],[93,6,93,8],[93,9,93,12],[93,13,93,14],[93,17,93,18],[93,23,93,24],[93,25,93,27],[93,28,93,31],[93,32,93,33],[93,36,93,37],[93,42,93,43],[93,44,93,46],[93,47,93,50],[93,51,93,52],[93,55,93,56],[93,61,93,62],[93,63,93,65],[93,66,93,69],[93,70,93,71],[93,74,93,75],[94,1,94,2],[94,4,94,6],[94,7,94,9],[94,10,94,12],[94,13,94,14],[94,15,94,16],[94,17,94,18],[94,20,94,21],[94,23,94,25],[94,26,94,28],[94,29,94,31],[94,32,94,33],[94,34,94,35],[94,36,94,37],[94,39,94,40],[94,42,94,44],[94,45,94,47],[94,48,94,50],[94,51,94,52],[94,53,94,54],[94,55,94,56],[94,58,94,59],[94,61,94,63],[94,64,94,66],[94,67,94,69],[94,70,94,71],[94,72,94,73],[94,74,94,75],[95,20,95,21],[95,23,95,25],[95,26,95,28],[95,32,95,33],[95,36,95,37],[95,39,95,40],[95,42,95,44],[95,45,95,47],[95,51,95,52],[95,55,95,56],[95,58,95,59],[95,61,95,63],[95,64,95,66],[95,70,95,71],[95,74,95,75]]}
["Phase II - Tempo Strength Training"]
["Week ","Day","Type","Exercise","Tempo",null,"Sets","Reps","Subjective Intensity","Rest","Objective Score",null,null,"Feedback",null,null,"Exercise\nTonnage","Average\nIntensity","Absolute\nIntensity","Week ","Day","Type","Exercise","Tempo",null,"Sets","Reps","Subjective Intensity","Rest","Objective Score",null,null,"Feedback",null,null,"Exercise\nTonnage","Average\nIntensity","Absolute\nIntensity","Week ","Day","Type","Exercise","Tempo",null,"Sets","Reps","Subjective Intensity","Rest","Objective Score",null,null,"Feedback",null,null,"Exercise\nTonnage","Average\nIntensity","Absolute\nIntensity","Week ","Day","Type","Exercise","Tempo",null,"Sets","Reps","Subjective Intensity","Rest","Objective Score",null,null,"Feedback",null,null,"Exercise\nTonnage","Average\nIntensity","Absolute\nIntensity"]
[{"$nulls":10},"Sets","Reps","Weight",{"$nulls":16},"Sets","Reps","Weight",{"$nulls":16},"Sets","Reps","Weight",{"$nulls":16},"Sets","Reps","Weight"]
["W\nE\nE\nK\n\n2","Biofeedback\nTest:","Double-Leg",null,"3-0-3","Set 1","1 - 2","8-10","RPE 1 - 2","2 - 3 Minutes",{"$nulls":6},{"$f":"IF(SUMPRODUCT(K4:K8,L4:L8,M4:M8), SUMPRODUCT(K4:K8,L4:L8,M4:M8), \"\")","v":""},{"$f":"IFERROR(IF(SUM(M4:M8)/COUNT(K4:K8), ROUND(SUM(M4:M8)/COUNT(K4:K8),1), \"\"),\"\")","v":""},{"$f":"IF(MAX(M4:M8),MAX(M4:M8),\"\")","v":""},"W\nE\nE\nK\n\n3","Biofeedback\nTest:","Double-Leg",null,"3-0-3","Set 1","1 - 2","8-10","RPE 1 - 2","2 - 3 Minutes",{"$nulls":6},{"$f":"IF(SUMPRODUCT(AD4:AD8,AE4:AE8,AF4:AF8), SUMPRODUCT(AD4:AD8,AE4:AE8,AF4:AF8), \"\")","v":""},{"$f":"IFERROR(IF(SUM(AF4:AF8)/COUNT(AD4:AD8), ROUND(SUM(AF4:AF8)/COUNT(AD4:AD8),1), \"\"),\"\")","v":""},{"$f":"IF(MAX(AF4:AF8),MAX(AF4:AF8),\"\")","v":""},"W\nE\nE\nK\n\n4","Biofeedback\nTest:","Double-Leg",null,"3-0-3","Set 1","1 - 2","8-10","RPE 1 - 2","2 - 3 Minutes",{"$nulls":6},{"$f":"IF(SUMPRODUCT(AW4:AW8,AX4:AX8,AY4:AY8), SUMPRODUCT(AW4:AW8,AX4:AX8,AY4:AY8), \"\")","v":""},{"$f":"IFERROR(IF(SUM(AY4:AY8)/COUNT(AW4:AW8), ROUND(SUM(AY4:AY8)/COUNT(AW4:AW8),1), \"\"),\"\")","v":""},{"$f":"IF(MAX(AY4:AY8),MAX(AY4:AY8),\"\")","v":""},"W\nE\nE\nK\n\n5","Biofeedback\nTest:","Double-Leg",null,"3-0-3","Set 1","1 - 2","8-10","RPE 1 - 2","2 - 3 Minutes",{"$nulls":6},{"$f":"IF(SUMPRODUCT(BP4:BP8,BQ4:BQ8,BR4:BR8), SUMPRODUCT(BP4:BP8,BQ4:BQ8,BR4:BR8), \"\")","v":""},{"$f":"IFERROR(IF(SUM(BR4:BR8)/COUNT(BP4:BP8), ROUND(SUM(BR4:BR8)/COUNT(BP4:BP8),1), \"\"),\"\")","v":""},{"$f":"IF(MAX(BR4:BR8),MAX(BR4:BR8),\"\")","v":""}]
[{"$nulls":4},"3-0-3","Set 2","1 - 2","8-10","RPE 2 - 3","2 - 3 Minutes",{"$nulls":13},"3-0-3","Set 2","1 - 2","8-10","RPE 2 - 3","2 - 3 Minutes",{"$nulls":13},"3-0-3","Set 2","1 - 2","8-10","RPE 2 - 3","2 - 3 Minutes",{"$nulls":13},"3-0-3","Set 2","1 - 2","8-10","RPE 2 - 3","2 - 3 Minutes"]
[{"$nulls":4},"3-0-3","Set 3",1,15,"RPE 4 - 6","2 - 3 Minutes",{"$nulls":13},"3-0-3","Set 3",1,15,"RPE 4 - 6","2 - 3 Minutes",{"$nulls":13},"3-0-3","Set 3",1,8,"RPE 4 - 6","2 - 3 Minutes",{"$nulls":13},"3-0-3","Set 3",1,6,"RPE 4 - 6","2 - 3 Minutes"]
[{"$nulls":4},"3-0-3","Set 4",1,15,"RPE 6 - 8","2 - 3 Minutes",{"$nulls":13},"3-0-3","Set 4",1,15,"RPE 6 - 8","2 - 3 Minutes",{"$nulls":13},"3-0-3","Set 4",1,8,"RPE 6 - 8","2 - 3 Minutes",{"$nulls":13},"3-0-3","Set 4",1,6,"RPE 6 - 8","2 - 3 Minutes"]
[null,"Day 1\nIsotonic\n\n\n\n\n\n",null,null,"3-0-3","Set 5",1,15,"RPE 9 - 10","2 - 3 Minutes",{"$nulls":10},"Day 1\nIsotonic\n\n\n\n\n\n",null,null,"3-0-3","Set 5",1,15,"RPE 9 - 10","2 - 3 Minutes",{"$nulls":10},"Day 1\nIsotonic\n\n\n\n\n\n",null,null,"3-0-3","Set 5",1,8,"RPE 9 - 10","2 - 3 Minutes",{"$nulls":10},"Day 1\nIsotonic\n\n\n\n\n\n",null,null,"3-0-3","Set 5",1,6,"RPE 9 - 10","2 - 3 Minutes"]
[null,null,"Double-Leg",null,"3-0-3","Set 1","1 - 2","8-10","RPE 1 - 2","2 - 3 Minutes",{"$nulls":6},{"$f":"IF(SUMPRODUCT(K9:K13,L9:L13,M9:M13), SUMPRODUCT(K9:K13,L9:L13,M9:M13), \"\")","v":""},{"$f":"IFERROR(IF(SUM(M9:M13)/COUNT(K9:K13), ROUND(SUM(M9:M13)/COUNT(K9:K13),1), \"\"),\"\")","v":""},{"$f":"IF(MAX(M9:M13),MAX(M9:M13),\"\")","v":""},null,null,"Double-Leg",null,"3-0-3","Set 1","1 - 2","8-10","RPE 1 - 2","2 - 3 Minutes",{"$nulls":6},{"$f":"IF(SUMPRODUCT(AD9:AD13,AE9:AE13,AF9:AF13), SUMPRODUCT(AD9:AD13,AE9:AE13,AF9:AF13), \"\")","v":""},{"$f":"IFERROR(IF(SUM(AF9:AF13)/COUNT(AD9:AD13), ROUND(SUM(AF9:AF13)/COUNT(AD9:AD13),1), \"\"),\"\")","v":""},{"$f":"IF(MAX(AF9:AF13),MAX(AF9:AF13),\"\")","v":""},null,null,"Double-Leg",null,"3-0-3","Set 1","1 - 2","8-10","RPE 1 - 2","2 - 3 Minutes",{"$nulls":6},{"$f":"IF(SUMPRODUCT(AW9:AW13,AX9:AX13,AY9:AY13), SUMPRODUCT(AW9:AW13,AX9:AX13,AY9:AY13), \"\")","v":""},{"$f":"IFERROR(IF(SUM(AY9:AY13)/COUNT(AW9:AW13), ROUND(SUM(AY9:AY13)/COUNT(AW9:AW13),1), \"\"),\"\")","v":""},{"$f":"IF(MAX(AY9:AY13),MAX(AY9:AY13),\"\")","v":""},null,null,"Double-Leg",null,"3-0-3","Set 1","1 - 2","8-10","RPE 1 - 2","2 - 3 Minutes",{"$nulls":6},{"$f":"IF(SUMPRODUCT(BP9:BP13,BQ9:BQ13,BR9:BR13), SUMPRODUCT(BP9:BP13,BQ9:BQ13,BR9:BR13), \"\")","v":""},{"$f":"IFERROR(IF(SUM(BR9:BR13)/COUNT(BP9:BP13), ROUND(SUM(BR9:BR13)/COUNT(BP9:BP13),1), \"\"),\"\")","v":""},{"$f":"IF(MAX(BR9:BR13),MAX(BR9:BR13),\"\")","v":""}]
[{"$nulls":4},"3-0-3","Set 2","1 - 2","8-10","RPE 2 - 3","2 - 3 Minutes",{"$nulls":13},"3-0-3","Set 2","1 - 2","8-10","RPE 2 - 3","2 - 3 Minutes",{"$nulls":13},"3-0-3","Set 2","1 - 2","8-10","RPE 2 - 3","2 - 3 Minutes",{"$nulls":13},"3-0-3","Set 2","1 - 2","8-10","RPE 2 - 3","2 - 3 Minutes"]
[{"$nulls":4},"3-0-3","Set 3",1,15,"RPE 4 - 6","2 - 3 Minutes",{"$nulls":13},"3-0-3","Set 3",1,15,"RPE 4 - 6","2 - 3 Minutes",{"$nulls":13},"3-0-3","Set 3",1,8,"RPE 4 - 6","2 - 3 Minutes",{"$nulls":13},"3-0-3","Set 3",1,6,"RPE 4 - 6","2 - 3 Minutes"]
[{"$nulls":4},"3-0-3","Set 4",1,15,"RPE 6 - 8","2 - 3 Minutes",{"$nulls":13},"3-0-3","Set 4",1,15,"RPE 6 - 8","2 - 3 Minutes",{"$nulls":13},"3-0-3","Set 4",1,8,"RPE 6 - 8","2 - 3 Minutes",{"$nulls":13},"3-0-3","Set 4",1,6,"RPE 6 - 8","2 - 3 Minutes"]
[{"$nulls":4},"3-0-3","Set 5",1,15,"RPE 9 - 10","2 - 3 Minutes",{"$nulls":13},"3-0-3","Set 5",1,15,"RPE 9 - 10","2 - 3 Minutes",{"$nulls":13},"3-0-3","Set 5",1,8,"RPE 9 - 10","2 - 3 Minutes",{"$nulls":13},"3-0-3","Set 5",1,6,"RPE 9 - 10","2 - 3 Minutes"]
[null,null,"Single-Leg",null,"3-0-3","Set 1","1 - 2","8-10","RPE 1 - 2","2 - 3 Minutes",{"$nulls":6},{"$f":"IF(SUMPRODUCT(K14:K18,L14:L18,M14:M18), SUMPRODUCT(K14:K18,L14:L18,M14:M18), \"\")","v":""},{"$f":"IFERROR(IF(SUM(M14:M18)/COUNT(K14:K18), ROUND(SUM(M14:M18)/COUNT(K14:K18),1), \"\"),\"\")","v":""},{"$f":"IF(MAX(M14:M18),MAX(M14:M18),\"\")","v":""},null,null,"Single-Leg",null,"3-0-3","Set 1","1 - 2","8-10","RPE 1 - 2","2 - 3 Minutes",{"$nulls":6},{"$f":"IF(SUMPRODUCT(AD14:AD18,AE14:AE18,AF14:AF18), SUMPRODUCT(AD14:AD18,AE14:AE18,AF14:AF18), \"\")","v":""},{"$f":"IFERROR(IF(SUM(AF14:AF18)/COUNT(AD14:AD18), ROUND(SUM(AF14:AF18)/COUNT(AD14:AD18),1), \"\"),\"\")","v":""},{"$f":"IF(MAX(AF14:AF18),MAX(AF14:AF18),\"\")","v":""},null,null,"Single-Leg",null,"3-0-3","Set 1","1 - 2","8-10","RPE 1 - 2","2 - 3 Minutes",{"$nulls":6},{"$f":"IF(SUMPRODUCT(AW14:AW18,AX14:AX18,AY14:AY18), SUMPRODUCT(AW14:AW18,AX14:AX18,AY14:AY18), \"\")","v":""},{"$f":"IFERROR(IF(SUM(AY14:AY18)/COUNT(AW14:AW18), ROUND(SUM(AY14:AY18)/COUNT(AW14:AW18),1), \"\"),\"\")","v":""},{"$f":"IF(MAX(AY14:AY18),MAX(AY14:AY18),\"\")","v":""},null,null,"Single-Leg",null,"3-0-3","Set 1","1 - 2","8-10","RPE 1 - 2","2 - 3 Minutes",{"$nulls":6},{"$f":"IF(SUMPRODUCT(BP14:BP18,BQ14:BQ18,BR14:BR18), SUMPRODUCT(BP14:BP18,BQ14:BQ18,BR14:BR18), \"\")","v":""},{"$f":"IFERROR(IF(SUM(BR14:BR18)/COUNT(BP14:BP18), ROUND(SUM(BR14:BR18)/COUNT(BP14:BP18),1), \"\"),\"\")","v":""},{"$f":"IF(MAX(BR14:BR18),MAX(BR14:BR18),\"\")","v":""}]
[{"$nulls":4},"3-0-3","Set 2","1 - 2","8-10","RPE 2 - 3","2 - 3 Minutes",{"$nulls":13},"3-0-3","Set 2","1 - 2","8-10","RPE 2 - 3","2 - 3 Minutes",{"$nulls":13},"3-0-3","Set 2","1 - 2","8-10","RPE 2 - 3","2 - 3 Minutes",{"$nulls":13},"3-0-3","Set 2","1 - 2","8-10","RPE 2 - 3","2 - 3 Minutes"]
[{"$nulls":4},"3-0-3","Set 3",1,15,"RPE 4 - 6","2 - 3 Minutes",{"$nulls":13},"3-0-3","Set 3",1,15,"RPE 4 - 6","2 - 3 Minutes",{"$nulls":13},"3-0-3","Set 3",1,8,"RPE 4 - 6","2 - 3 Minutes",{"$nulls":13},"3-0-3","Set 3",1,6,"RPE 4 - 6","2 - 3 Minutes"]
[{"$nulls":4},"3-0-3","Set 4",1,15,"RPE 6 - 8","2 - 3 Minutes",{"$nulls":13},"3-0-3","Set 4",1,15,"RPE 6 - 8","2 - 3 Minutes",{"$nulls":13},"3-0-3","Set 4",1,8,"RPE 6 - 8","2 - 3 Minutes",{"$nulls":13},"3-0-3","Set 4",1,6,"RPE 6 - 8","2 - 3 Minutes"]
[{"$nulls":4},"3-0-3","Set 5",1,15,"RPE 9 - 10","2 - 3 Minutes",{"$nulls":13},"3-0-3","Set 5",1,15,"RPE 9 - 10","2 - 3 Minutes",{"$nulls":13},"3-0-3","Set 5",1,8,"RPE 9 - 10","2 - 3 Minutes",{"$nulls":13},"3-0-3","Set 5",1,6,"RPE 9 - 10","2 - 3 Minutes"]
[null,null,"Session RPE:",null,"Session Duration:",{"$nulls":4},"Session Score:",{"$nulls":3},{"$f":"IFERROR(IF(SUBSTITUTE(D19,\"RPE \",\"\")*G19, CONCATENATE(SUBSTITUTE(D19,\"RPE \",\"\")*G19, \" AU\"),0),0)","v":0},null,"Daily Totals:",{"$f":"IF(SUM(Q4:Q18)<1,\"\",SUM(Q4:Q18))","v":""},{"$f":"IFERROR(IF(SUM(M4:M18)/COUNT(K4:K18), ROUND(SUM(M4:M18)/COUNT(K4:K18),1),\"\"),\"\")","v":""},{"$f":"IF(SUM(S4:S18)>0,SUM(S4:S18),\"\")","v":""},null,null,"Session RPE:",null,"Session Duration:",{"$nulls":4},"Session Score:",{"$nulls":3},{"$f":"IFERROR(IF(SUBSTITUTE(W19,\"RPE \",\"\")*Z19, CONCATENATE(SUBSTITUTE(W19,\"RPE \",\"\")*Z19, \" AU\"),0),0)","v":0},null,"Daily Totals:",{"$f":"IF(SUM(AJ4:AJ18)<1,\"\",SUM(AJ4:AJ18))","v":""},{"$f":"IFERROR(IF(SUM(AF4:AF18)/COUNT(AD4:AD18), ROUND(SUM(AF4:AF18)/COUNT(AD4:AD18),1),\"\"),\"\")","v":""},{"$f":"IF(SUM(AL4:AL18)>0,SUM(AL4:AL18),\"\")","v":""},null,null,"Session RPE:",null,"Session Duration:",{"$nulls":4},"Session Score:",{"$nulls":3},{"$f":"IFERROR(IF(SUBSTITUTE(AP19,\"RPE \",\"\")*AS19, CONCATENATE(SUBSTITUTE(AP19,\"RPE \",\"\")*AS19, \" AU\"),0),0)","v":0},null,"Daily Totals:",{"$f":"IF(SUM(BC4:BC18)<1,\"\",SUM(BC4:BC18))","v":""},{"$f":"IFERROR(IF(SUM(AY4:AY18)/COUNT(AW4:AW18), ROUND(SUM(AY4:AY18)/COUNT(AW4:AW18),1),\"\"),\"\")","v":""},{"$f":"IF(SUM(BE4:BE18)>0,SUM(BE4:BE18),\"\")","v":""},null,null,"Session RPE:",null,"Session Duration:",{"$nulls":4},"Session Score:",{"$nulls":3},{"$f":"IFERROR(IF(SUBSTITUTE(BI19,\"RPE \",\"\")*BL19, CONCATENATE(SUBSTITUTE(BI19,\"RPE \",\"\")*BL19, \" AU\"),0),0)","v":0},null,"Daily Totals:",{"$f":"IF(SUM(BV4:BV18)<1,\"\",SUM(BV4:BV18))","v":""},{"$f":"IFERROR(IF(SUM(BR4:BR18)/COUNT(BP4:BP18), ROUND(SUM(BR4:BR18)/COUNT(BP4:BP18),1),\"\"),\"\")","v":""},{"$f":"IF(SUM(BX4:BX18)>0,SUM(BX4:BX18),\"\")","v":""}]
[null,"Day","Type","Exercise",null,null,"Sets","Duration",null,"Rest","Objective Score",null,null,"Feedback",null,null,"Exercise\nTonnage","Absolute\nIntensity",null,null,"Day","Type","Exercise",null,null,"Sets","Duration",null,"Rest","Objective Score",null,null,"Feedback",null,null,"Exercise\nTonnage","Absolute\nIntensity",null,null,"Day","Type","Exercise",null,null,"Sets","Duration",null,"Rest","Objective Score",null,null,"Feedback",null,null,"Exercise\nTonnage","Absolute\nIntensity",null,null,"Day","Type","Exercise",null,null,"Sets","Duration",null,"Rest","Objective Score",null,null,"Feedback",null,null,"Exercise\nTonnage","Absolute\nIntensity"]
[{"$nulls":10},"Sets","Duration","Weight",{"$nulls":16},"Sets","Duration","Weight",{"$nulls":16},"Sets","Duration","Weight",{"$nulls":16},"Sets","Duration","Weight"]
[null,"Biofeedback\nTest:","Double-Leg",{"$nulls":3},5,"30 - 45 Seconds",null,"90 - 120 Seconds",{"$nulls":6},{"$f":"IF(K22*L22*(M22)>0, K22*L22*(M22), \"\")","v":""},{"$f":"IF(MAX(M22:M26) > 0, MAX(M22:M26), \"\")","v":""},null,null,"Biofeedback\nTest:","Double-Leg",{"$nulls":3},5,"30 - 45 Seconds",null,"90 - 120 Seconds",{"$nulls":6},{"$f":"IF(AD22*AE22*(AF22)>0, AD22*AE22*(AF22), \"\")","v":""},{"$f":"IF(MAX(AF22:AF26) > 0, MAX(AF22:AF26), \"\")","v":""},null,null,"Biofeedback\nTest:","Double-Leg",{"$nulls":3},5,"30 - 45 Seconds",null,"90 - 120 Seconds",{"$nulls":6},{"$f":"IF(AW22*AX22*(AY22)>0, AW22*AX22*(AY22), \"\")","v":""},{"$f":"IF(MAX(AY22:AY26) > 0, MAX(AY22:AY26), \"\")","v":""},null,null,"Biofeedback\nTest:","Double-Leg",{"$nulls":3},5,"30 - 45 Seconds",null,"90 - 120 Seconds",{"$nulls":6},{"$f":"IF(BP22*BQ22*(BR22)>0, BP22*BQ22*(BR22), \"\")","v":""},{"$f":"IF(MAX(BR22:BR26) > 0, MAX(BR22:BR26), \"\")","v":""}]
[{"$nulls":6},5,"30 - 45 Seconds",null,"90 - 120 Seconds",{"$nulls":6},{"$f":"IF(K23*L23*(M23)>0, K23*L23*(M23), \"\")","v":""},{"$nulls":8},5,"30 - 45 Seconds",null,"90 - 120 Seconds",{"$nulls":6},{"$f":"IF(AD23*AE23*(AF23)>0, AD23*AE23*(AF23), \"\")","v":""},{"$nulls":8},5,"30 - 45 Seconds",null,"90 - 120 Seconds",{"$nulls":6},{"$f":"IF(AW23*AX23*(AY23)>0, AW23*AX23*(AY23), \"\")","v":""},{"$nulls":8},5,"30 - 45 Seconds",null,"90 - 120 Seconds",{"$nulls":6},{"$f":"IF(BP23*BQ23*(BR23)>0, BP23*BQ23*(BR23), \"\")","v":""}]
[null,"Test #1",{"$nulls":4},5,"31 - 45 Seconds",null,"91 - 120 Seconds",{"$nulls":6},"",{"$nulls":8},5,"31 - 45 Seconds",null,"91 - 120 Seconds",{"$nulls":6},"",{"$nulls":3},"Test #1",{"$nulls":4},5,"31 - 45 Seconds",null,"91 - 120 Seconds",{"$nulls":6},"",{"$nulls":3},"Test #1",{"$nulls":4},5,"31 - 45 Seconds",null,"91 - 120 Seconds",{"$nulls":6},""]
[null,"Test #2",{"$nulls":4},5,"32 - 45 Seconds",null,"92 - 120 Seconds",{"$nulls":6},"",{"$nulls":8},5,"32 - 45 Seconds",null,"92 - 120 Seconds",{"$nulls":6},"",{"$nulls":3},"Test #2",{"$nulls":4},5,"32 - 45 Seconds",null,"92 - 120 Seconds",{"$nulls":6},"",{"$nulls":3},"Test #2",{"$nulls":4},5,"32 - 45 Seconds",null,"92 - 120 Seconds",{"$nulls":6},""]
[null,"Day 2\nIsometric",{"$nulls":4},5,"33 - 45 Seconds",null,"93 - 120 Seconds",{"$nulls":6},"",{"$nulls":3},"Day 2\nIsometric",{"$nulls":4},5,"33 - 45 Seconds",null,"93 - 120 Seconds",{"$nulls":6},"",{"$nulls":3},"Day 2\nIsometric",{"$nulls":4},5,"33 - 45 Seconds",null,"93 - 120 Seconds",{"$nulls":6},"",{"$nulls":3},"Day 2\nIsometric",{"$nulls":4},5,"33 - 45 Seconds",null,"93 - 120 Seconds",{"$nulls":6},""]
[null,null,"Single-Leg",{"$nulls":3},5,"34 - 45 Seconds",null,"94 - 120 Seconds",{"$nulls":6},"",{"$f":"IF(MAX(M27:M31) > 0, MAX(M27:M31), \"\")","v":""},{"$nulls":3},"Single-Leg",{"$nulls":3},5,"34 - 45 Seconds",null,"94 - 120 Seconds",{"$nulls":6},"",{"$f":"IF(MAX(AF27:AF31) > 0, MAX(AF27:AF31), \"\")","v":""},{"$nulls":3},"Single-Leg",{"$nulls":3},5,"34 - 45 Seconds",null,"94 - 120 Seconds",{"$nulls":6},"",{"$f":"IF(MAX(AY27:AY31) > 0, MAX(AY27:AY31), \"\")","v":""},{"$nulls":3},"Single-Leg",{"$nulls":3},5,"34 - 45 Seconds",null,"94 - 120 Seconds",{"$nulls":6},"",{"$f":"IF(MAX(BR27:BR31) > 0, MAX(BR27:BR31), \"\")","v":""}]
[{"$nulls":6},5,"35 - 45 Seconds",null,"95 - 120 Seconds",{"$nulls":6},"",{"$nulls":8},5,"35 - 45 Seconds",null,"95 - 120 Seconds",{"$nulls":6},"",{"$nulls":8},5,"35 - 45 Seconds",null,"95 - 120 Seconds",{"$nulls":6},"",{"$nulls":8},5,"35 - 45 Seconds",null,"95 - 120 Seconds",{"$nulls":6},""]
[{"$nulls":6},5,"36 - 45 Seconds",null,"96 - 120 Seconds",{"$nulls":6},"",{"$nulls":8},5,"36 - 45 Seconds",null,"96 - 120 Seconds",{"$nulls":6},"",{"$nulls":8},5,"36 - 45 Seconds",null,"96 - 120 Seconds",{"$nulls":6},"",{"$nulls":8},5,"36 - 45 Seconds",null,"96 - 120 Seconds",{"$nulls":6},""]
[{"$nulls":6},5,"37 - 45 Seconds",null,"97 - 120 Seconds",{"$nulls":6},"",{"$nulls":8},5,"37 - 45 Seconds",null,"97 - 120 Seconds",{"$nulls":6},"",{"$nulls":8},5,"37 - 45 Seconds",null,"97 - 120 Seconds",{"$nulls":6},"",{"$nulls":8},5,"37 - 45 Seconds",null,"97 - 120 Seconds",{"$nulls":6},""]
[{"$nulls":6},5,"30 - 45 Seconds",null,"90 - 120 Seconds",{"$nulls":6},"",{"$nulls":8},5,"30 - 45 Seconds",null,"90 - 120 Seconds",{"$nulls":6},"",{"$nulls":8},5,"30 - 45 Seconds",null,"90 - 120 Seconds",{"$nulls":6},"",{"$nulls":8},5,"30 - 45 Seconds",null,"90 - 120 Seconds",{"$nulls":6},""]
[null,null,"Session RPE:",null,"Session Duration:",{"$nulls":4},"Session Score:",{"$nulls":3},{"$f":"IFERROR(IF(SUBSTITUTE(D32,\"RPE \",\"\")*G32, CONCATENATE(SUBSTITUTE(D32,\"RPE \",\"\")*G32, \" AU\"),0),0)","v":0},null,"Daily Totals:",{"$f":"IF(SUM(Q22:Q31)>0, SUM(Q22:Q31), \"\")","v":""},{"$f":"IF(MAX(R22:R31), MAX(R22:R31), \"\")","v":""},{"$nulls":3},"Session RPE:",null,"Session Duration:",{"$nulls":4},"Session Score:",{"$nulls":3},{"$f":"IFERROR(IF(SUBSTITUTE(W32,\"RPE \",\"\")*Z32, CONCATENATE(SUBSTITUTE(W32,\"RPE \",\"\")*Z32, \" AU\"),\"\"),\"\")","v":""},null,"Daily Totals:",{"$f":"IF(SUM(AJ22:AJ31)>0, SUM(AJ22:AJ31), \"\")","v":""},{"$f":"IF(MAX(AK22:AK31), MAX(AK22:AK31), \"\")","v":""},{"$nulls":3},"Session RPE:",null,"Session Duration:",{"$nulls":4},"Session Score:",{"$nulls":3},{"$f":"IFERROR(IF(SUBSTITUTE(AP32,\"RPE \",\"\")*AS32, CONCATENATE(SUBSTITUTE(AP32,\"RPE \",\"\")*AS32, \" AU\"),0),0)","v":0},null,"Daily Totals:",{"$f":"IF(SUM(BC22:BC31)>0, SUM(BC22:BC31), \"\")","v":""},{"$f":"IF(MAX(BD22:BD31), MAX(BD22:BD31), \"\")","v":""},{"$nulls":3},"Session RPE:",null,"Session Duration:",{"$nulls":4},"Session Score:",{"$nulls":3},{"$f":"IFERROR(IF(SUBSTITUTE(BI32,\"RPE \",\"\")*BL32, CONCATENATE(SUBSTITUTE(BI32,\"RPE \",\"\")*BL32, \" AU\"),0),0)","v":0},null,"Daily Totals:",{"$f":"IF(SUM(BV17:BV31)<1,\"\",SUM(BV17:BV31))","v":""},{"$f":"IFERROR(IF(SUM(BR17:BR31)/COUNT(BP17:BP31), ROUND(SUM(BR17:BR31)/COUNT(BP17:BP31),1),\"\"),\"\")","v":""},{"$f":"IF(SUM(BX17:BX31)>0,SUM(BX17:BX31),\"\")","v":""}]
[null,"Day","Type","Exercise","Tempo",null,"Sets","Reps","Subjective Intensity","Rest","Objective Score",null,null,"Feedback",null,null,"Exercise\nTonnage","Average\nIntensity","Absolute\nIntensity",null,"Day","Type","Exercise","Tempo",null,"Sets","Reps","Subjective Intensity","Rest","Objective Score",null,null,"Feedback",null,null,"Exercise\nTonnage","Average\nIntensity","Absolute\nIntensity",null,"Day","Type","Exercise","Tempo",null,"Sets","Reps","Subjective Intensity","Rest","Objective Score",null,null,"Feedback",null,null,"Exercise\nTonnage","Average\nIntensity","Absolute\nIntensity",null,"Day","Type","Exercise","Tempo",null,"Sets","Reps","Subjective Intensity","Rest","Objective Score",null,null,"Feedback",null,null,"Exercise\nTonnage","Average\nIntensity","Absolute\nIntensity"]
[{"$nulls":10},"Sets","Reps","Weight",{"$nulls":16},"Sets","Reps","Weight",{"$nulls":16},"Sets","Reps","Weight",{"$nulls":16},"Sets","Reps","Weight"]
[null,"Biofeedback\nTest:","Double-Leg",null,"3-0-3","Set 1","1 - 2","8-10","RPE 1 - 2","2 - 3 Minutes",{"$nulls":6},{"$f":"IF(SUMPRODUCT(K35:K39,L35:L39,M35:M39), SUMPRODUCT(K35:K39,L35:L39,M35:M39), \"\")","v":""},{"$f":"IFERROR(IF(SUM(M35:M39)/COUNT(K35:K39), ROUND(SUM(M35:M39)/COUNT(K35:K39),1), \"\"),\"\")","v":""},{"$f":"IF(MAX(M35:M39),MAX(M35:M39),\"\")","v":""},null,"Biofeedback\nTest:","Double-Leg",null,"3-0-3","Set 1","1 - 2","8-10","RPE 1 - 2","2 - 3 Minutes",{"$nulls":6},{"$f":"IF(SUMPRODUCT(AD35:AD39,AE35:AE39,AF35:AF39), SUMPRODUCT(AD35:AD39,AE35:AE39,AF35:AF39), \"\")","v":""},{"$f":"IFERROR(IF(SUM(AF35:AF39)/COUNT(AD35:AD39), ROUND(SUM(AF35:AF39)/COUNT(AD35:AD39),1), \"\"),\"\")","v":""},{"$f":"IF(MAX(AF35:AF39),MAX(AF35:AF39),\"\")","v":""},null,"Biofeedback\nTest:","Double-Leg",null,"3-0-3","Set 1","1 - 2","8-10","RPE 1 - 2","2 - 3 Minutes",{"$nulls":6},{"$f":"IF(SUMPRODUCT(AW35:AW39,AX35:AX39,AY35:AY39), SUMPRODUCT(AW35:AW39,AX35:AX39,AY35:AY39), \"\")","v":""},{"$f":"IFERROR(IF(SUM(AY35:AY39)/COUNT(AW35:AW39), ROUND(SUM(AY35:AY39)/COUNT(AW35:AW39),1), \"\"),\"\")","v":""},{"$f":"IF(MAX(AY35:AY39),MAX(AY35:AY39),\"\")","v":""},null,"Biofeedback\nTest:","Double-Leg",null,"3-0-3","Set 1","1 - 2","8-10","RPE 1 - 2","2 - 3 Minutes",{"$nulls":6},{"$f":"IF(SUMPRODUCT(BP35:BP39,BQ35:BQ39,BR35:BR39), SUMPRODUCT(BP35:BP39,BQ35:BQ39,BR35:BR39), \"\")","v":""},{"$f":"IFERROR(IF(SUM(BR35:BR39)/COUNT(BP35:BP39), ROUND(SUM(BR35:BR39)/COUNT(BP35:BP39),1), \"\"),\"\")","v":""},{"$f":"IF(MAX(BR35:BR39),MAX(BR35:BR39),\"\")","v":""}]
[{"$nulls":4},"3-0-3","Set 2","1 - 2","8-10","RPE 2 - 3","2 - 3 Minutes",{"$nulls":13},"3-0-3","Set 2","1 - 2","8-10","RPE 2 - 3","2 - 3 Minutes",{"$nulls":13},"3-0-3","Set 2","1 - 2","8-10","RPE 2 - 3","2 - 3 Minutes",{"$nulls":13},"3-0-3","Set 2","1 - 2","8-10","RPE 2 - 3","2 - 3 Minutes"]
[{"$nulls":4},"3-0-3","Set 3",1,15,"RPE 4 - 6","2 - 3 Minutes",{"$nulls":13},"3-0-3","Set 3",1,15,"RPE 4 - 6","2 - 3 Minutes",{"$nulls":13},"3-0-3","Set 3",1,8,"RPE 4 - 6","2 - 3 Minutes",{"$nulls":13},"3-0-3","Set 3",1,6,"RPE 4 - 6","2 - 3 Minutes"]
[{"$nulls":4},"3-0-3","Set 4",1,15,"RPE 6 - 8","2 - 3 Minutes",{"$nulls":13},"3-0-3","Set 4",1,15,"RPE 6 - 8","2 - 3 Minutes",{"$nulls":13},"3-0-3","Set 4",1,8,"RPE 6 - 8","2 - 3 Minutes",{"$nulls":13},"3-0-3","Set 4",1,6,"RPE 6 - 8","2 - 3 Minutes"]
[null,"Day 3\nIsotonic\n\n\n\n\n\n",null,null,"3-0-3","Set 5",1,15,"RPE 9 - 10","2 - 3 Minutes",{"$nulls":10},"Day 3\nIsotonic\n\n\n\n\n\n",null,null,"3-0-3","Set 5",1,15,"RPE 9 - 10","2 - 3 Minutes",{"$nulls":10},"Day 3\nIsotonic\n\n\n\n\n\n",null,null,"3-0-3","Set 5",1,8,"RPE 9 - 10","2 - 3 Minutes",{"$nulls":10},"Day 3\nIsotonic\n\n\n\n\n\n",null,null,"3-0-3","Set 5",1,6,"RPE 9 - 10","2 - 3 Minutes"]
[null,null,"Double-Leg",null,"3-0-3","Set 1","1 - 2","8-10","RPE 1 - 2","2 - 3 Minutes",{"$nulls":6},{"$f":"IF(SUMPRODUCT(K40:K44,L40:L44,M40:M44), SUMPRODUCT(K40:K44,L40:L44,M40:M44), \"\")","v":""},{"$f":"IFERROR(IF(SUM(M40:M44)/COUNT(K40:K44), ROUND(SUM(M40:M44)/COUNT(K40:K44),1), \"\"),\"\")","v":""},{"$f":"IF(MAX(M40:M44),MAX(M40:M44),\"\")","v":""},null,null,"Double-Leg",null,"3-0-3","Set 1","1 - 2","8-10","RPE 1 - 2","2 - 3 Minutes",{"$nulls":6},{"$f":"IF(SUMPRODUCT(AD40:AD44,AE40:AE44,AF40:AF44), SUMPRODUCT(AD40:AD44,AE40:AE44,AF40:AF44), \"\")","v":""},{"$f":"IFERROR(IF(SUM(AF40:AF44)/COUNT(AD40:AD44), ROUND(SUM(AF40:AF44)/COUNT(AD40:AD44),1), \"\"),\"\")","v":""},{"$f":"IF(MAX(AF40:AF44),MAX(AF40:AF44),\"\")","v":""},null,null,"Double-Leg",null,"3-0-3","Set 1","1 - 2","8-10","RPE 1 - 2","2 - 3 Minutes",{"$nulls":6},{"$f":"IF(SUMPRODUCT(AW40:AW44,AX40:AX44,AY40:AY44), SUMPRODUCT(AW40:AW44,AX40:AX44,AY40:AY44), \"\")","v":""},{"$f":"IFERROR(IF(SUM(AY40:AY44)/COUNT(AW40:AW44), ROUND(SUM(AY40:AY44)/COUNT(AW40:AW44),1), \"\"),\"\")","v":""},{"$f":"IF(MAX(AY40:AY44),MAX(AY40:AY44),\"\")","v":""},null,null,"Double-Leg",null,"3-0-3","Set 1","1 - 2","8-10","RPE 1 - 2","2 - 3 Minutes",{"$nulls":6},{"$f":"IF(SUMPRODUCT(BP40:BP44,BQ40:BQ44,BR40:BR44), SUMPRODUCT(BP40:BP44,BQ40:BQ44,BR40:BR44), \"\")","v":""},{"$f":"IFERROR(IF(SUM(BR40:BR44)/COUNT(BP40:BP44), ROUND(SUM(BR40:BR44)/COUNT(BP40:BP44),1), \"\"),\"\")","v":""},{"$f":"IF(MAX(BR40:BR44),MAX(BR40:BR44),\"\")","v":""}]
[{"$nulls":4},"3-0-3","Set 2","1 - 2","8-10","RPE 2 - 3","2 - 3 Minutes",{"$nulls":13},"3-0-3","Set 2","1 - 2","8-10","RPE 2 - 3","2 - 3 Minutes",{"$nulls":13},"3-0-3","Set 2","1 - 2","8-10","RPE 2 - 3","2 - 3 Minutes",{"$nulls":13},"3-0-3","Set 2","1 - 2","8-10","RPE 2 - 3","2 - 3 Minutes"]
[{"$nulls":4},"3-0-3","Set 3",1,15,"RPE 4 - 6","2 - 3 Minutes",{"$nulls":13},"3-0-3","Set 3",1,15,"RPE 4 - 6","2 - 3 Minutes",{"$nulls":13},"3-0-3","Set 3",1,8,"RPE 4 - 6","2 - 3 Minutes",{"$nulls":13},"3-0-3","Set 3",1,6,"RPE 4 - 6","2 - 3 Minutes"]
[{"$nulls":4},"3-0-3","Set 4",1,15,"RPE 6 - 8","2 - 3 Minutes",{"$nulls":13},"3-0-3","Set 4",1,15,"RPE 6 - 8","2 - 3 Minutes",{"$nulls":13},"3-0-3","Set 4",1,8,"RPE 6 - 8","2 - 3 Minutes",{"$nulls":13},"3-0-3","Set 4",1,6,"RPE 6 - 8","2 - 3 Minutes"]
[{"$nulls":4},"3-0-3","Set 5",1,15,"RPE 9 - 10","2 - 3 Minutes",{"$nulls":13},"3-0-3","Set 5",1,15,"RPE 9 - 10","2 - 3 Minutes",{"$nulls":13},"3-0-3","Set 5",1,8,"RPE 9 - 10","2 - 3 Minutes",{"$nulls":13},"3-0-3","Set 5",1,6,"RPE 9 - 10","2 - 3 Minutes"]
[null,null,"Single-Leg",null,"3-0-3","Set 1","1 - 2","8-10","RPE 1 - 2","2 - 3 Minutes",{"$nulls":6},{"$f":"IF(SUMPRODUCT(K45:K49,L45:L49,M45:M49), SUMPRODUCT(K45:K49,L45:L49,M45:M49), \"\")","v":""},{"$f":"IFERROR(IF(SUM(M45:M49)/COUNT(K45:K49), ROUND(SUM(M45:M49)/COUNT(K45:K49),1), \"\"),\"\")","v":""},{"$f":"IF(MAX(M45:M49),MAX(M45:M49),\"\")","v":""},null,null,"Single-Leg",null,"3-0-3","Set 1","1 - 2","8-10","RPE 1 - 2","2 - 3 Minutes",{"$nulls":6},{"$f":"IF(SUMPRODUCT(AD45:AD49,AE45:AE49,AF45:AF49), SUMPRODUCT(AD45:AD49,AE45:AE49,AF45:AF49), \"\")","v":""},{"$f":"IFERROR(IF(SUM(AF45:AF49)/COUNT(AD45:AD49), ROUND(SUM(AF45:AF49)/COUNT(AD45:AD49),1), \"\"),\"\")","v":""},{"$f":"IF(MAX(AF45:AF49),MAX(AF45:AF49),\"\")","v":""},null,null,"Single-Leg",null,"3-0-3","Set 1","1 - 2","8-10","RPE 1 - 2","2 - 3 Minutes",{"$nulls":6},{"$f":"IF(SUMPRODUCT(AW45:AW49,AX45:AX49,AY45:AY49), SUMPRODUCT(AW45:AW49,AX45:AX49,AY45:AY49), \"\")","v":""},{"$f":"IFERROR(IF(SUM(AY45:AY49)/COUNT(AW45:AW49), ROUND(SUM(AY45:AY49)/COUNT(AW45:AW49),1), \"\"),\"\")","v":""},{"$f":"IF(MAX(AY45:AY49),MAX(AY45:AY49),\"\")","v":""},null,null,"Single-Leg",null,"3-0-3","Set 1","1 - 2","8-10","RPE 1 - 2","2 - 3 Minutes",{"$nulls":6},{"$f":"IF(SUMPRODUCT(BP45:BP49,BQ45:BQ49,BR45:BR49), SUMPRODUCT(BP45:BP49,BQ45:BQ49,BR45:BR49), \"\")","v":""},{"$f":"IFERROR(IF(SUM(BR45:BR49)/COUNT(BP45:BP49), ROUND(SUM(BR45:BR49)/COUNT(BP45:BP49),1), \"\"),\"\")","v":""},{"$f":"IF(MAX(BR45:BR49),MAX(BR45:BR49),\"\")","v":""}]
[{"$nulls":4},"3-0-3","Set 2","1 - 2","8-10","RPE 2 - 3","2 - 3 Minutes",{"$nulls":13},"3-0-3","Set 2","1 - 2","8-10","RPE 2 - 3","2 - 3 Minutes",{"$nulls":13},"3-0-3","Set 2","1 - 2","8-10","RPE 2 - 3","2 - 3 Minutes",{"$nulls":13},"3-0-3","Set 2","1 - 2","8-10","RPE 2 - 3","2 - 3 Minutes"]
[{"$nulls":4},"3-0-3","Set 3",1,15,"RPE 4 - 6","2 - 3 Minutes",{"$nulls":13},"3-0-3","Set 3",1,15,"RPE 4 - 6","2 - 3 Minutes",{"$nulls":13},"3-0-3","Set 3",1,8,"RPE 4 - 6","2 - 3 Minutes",{"$nulls":13},"3-0-3","Set 3",1,6,"RPE 4 - 6","2 - 3 Minutes"]
[{"$nulls":4},"3-0-3","Set 4",1,15,"RPE 6 - 8","2 - 3 Minutes",{"$nulls":13},"3-0-3","Set 4",1,15,"RPE 6 - 8","2 - 3 Minutes",{"$nulls":13},"3-0-3","Set 4",1,8,"RPE 6 - 8","2 - 3 Minutes",{"$nulls":13},"3-0-3","Set 4",1,6,"RPE 6 - 8","2 - 3 Minutes"]
[{"$nulls":4},"3-0-3","Set 5",1,15,"RPE 9 - 10","2 - 3 Minutes",{"$nulls":13},"3-0-3","Set 5",1,15,"RPE 9 - 10","2 - 3 Minutes",{"$nulls":13},"3-0-3","Set 5",1,8,"RPE 9 - 10","2 - 3 Minutes",{"$nulls":13},"3-0-3","Set 5",1,6,"RPE 9 - 10","2 - 3 Minutes"]
[null,null,"Session RPE:",null,"Session Duration:",{"$nulls":4},"Session Score:",{"$nulls":3},{"$f":"IFERROR(IF(SUBSTITUTE(D50,\"RPE \",\"\")*G50, CONCATENATE(SUBSTITUTE(D50,\"RPE \",\"\")*G50, \" AU\"),0),0)","v":0},null,"Daily Totals:",{"$f":"IF(SUM(Q35:Q49)<1,\"\",SUM(Q35:Q49))","v":""},{"$f":"IFERROR(IF(SUM(M35:M49)/COUNT(K35:K49), ROUND(SUM(M35:M49)/COUNT(K35:K49),1),\"\"),\"\")","v":""},{"$f":"IF(SUM(S35:S49)>0,SUM(S35:S49),\"\")","v":""},null,null,"Session RPE:",null,"Session Duration:",{"$nulls":4},"Session Score:",{"$nulls":3},{"$f":"IFERROR(IF(SUBSTITUTE(W50,\"RPE \",\"\")*Z50, CONCATENATE(SUBSTITUTE(W50,\"RPE \",\"\")*Z50, \" AU\"),0),0)","v":0},null,"Daily Totals:",{"$f":"IF(SUM(AJ35:AJ49)<1,\"\",SUM(AJ35:AJ49))","v":""},{"$f":"IFERROR(IF(SUM(AF35:AF49)/COUNT(AD35:AD49), ROUND(SUM(AF35:AF49)/COUNT(AD35:AD49),1),\"\"),\"\")","v":""},{"$f":"IF(SUM(AL35:AL49)>0,SUM(AL35:AL49),\"\")","v":""},null,null,"Session RPE:",null,"Session Duration:",{"$nulls":4},"Session Score:",{"$nulls":3},{"$f":"IFERROR(IF(SUBSTITUTE(AP50,\"RPE \",\"\")*AS50, CONCATENATE(SUBSTITUTE(AP50,\"RPE \",\"\")*AS50, \" AU\"),0),0)","v":0},null,"Daily Totals:",{"$f":"IF(SUM(BC35:BC49)<1,\"\",SUM(BC35:BC49))","v":""},{"$f":"IFERROR(IF(SUM(AY35:AY49)/COUNT(AW35:AW49), ROUND(SUM(AY35:AY49)/COUNT(AW35:AW49),1),\"\"),\"\")","v":""},{"$f":"IF(SUM(BE35:BE49)>0,SUM(BE35:BE49),\"\")","v":""},null,null,"Session RPE:",null,"Session Duration:",{"$nulls":4},"Session Score:",{"$nulls":3},{"$f":"IFERROR(IF(SUBSTITUTE(BI50,\"RPE \",\"\")*BL50, CONCATENATE(SUBSTITUTE(BI50,\"RPE \",\"\")*BL50, \" AU\"),0),0)","v":0},null,"Daily Totals:",{"$f":"IF(SUM(BV35:BV49)<1,\"\",SUM(BV35:BV49))","v":""},{"$f":"IFERROR(IF(SUM(BR35:BR49)/COUNT(BP35:BP49), ROUND(SUM(BR35:BR49)/COUNT(BP35:BP49),1),\"\"),\"\")","v":""},{"$f":"IF(SUM(BX35:BX49)>0,SUM(BX35:BX49),\"\")","v":""}]
[null,"Day","Type","Exercise",null,null,"Sets","Duration",null,"Rest","Objective Score",null,null,"Feedback",null,null,"Exercise\nTonnage","Absolute\nIntensity",null,null,"Day","Type","Exercise",null,null,"Sets","Duration",null,"Rest","Objective Score",null,null,"Feedback",null,null,"Exercise\nTonnage","Absolute\nIntensity",null,null,"Day","Type","Exercise",null,null,"Sets","Duration",null,"Rest","Objective Score",null,null,"Feedback",null,null,"Exercise\nTonnage","Absolute\nIntensity",null,null,"Day","Type","Exercise",null,null,"Sets","Duration",null,"Rest","Objective Score",null,null,"Feedback",null,null,"Exercise\nTonnage","Absolute\nIntensity"]
[{"$nulls":10},"Sets","Duration","Weight",{"$nulls":16},"Sets","Duration","Weight",{"$nulls":16},"Sets","Duration","Weight",{"$nulls":16},"Sets","Duration","Weight"]
[null,"Biofeedback\nTest:","Double-Leg",{"$nulls":3},5,"30 - 45 Seconds",null,"90 - 120 Seconds",{"$nulls":6},{"$f":"IF(K53*L53*(M53)>0, K53*L53*(M53), \"\")","v":""},{"$f":"IF(MAX(M53:M57) > 0, MAX(M53:M57), \"\")","v":""},null,null,"Biofeedback\nTest:","Double-Leg",{"$nulls":3},5,"30 - 45 Seconds",null,"90 - 120 Seconds",{"$nulls":6},{"$f":"IF(AD53*AE53*(AF53)>0, AD53*AE53*(AF53), \"\")","v":""},{"$f":"IF(MAX(AF53:AF57) > 0, MAX(AF53:AF57), \"\")","v":""},null,null,"Biofeedback\nTest:","Double-Leg",{"$nulls":3},5,"30 - 45 Seconds",null,"90 - 120 Seconds",{"$nulls":6},{"$f":"IF(AW53*AX53*(AY53)>0, AW53*AX53*(AY53), \"\")","v":""},{"$f":"IF(MAX(AY53:AY57) > 0, MAX(AY53:AY57), \"\")","v":""},null,null,"Biofeedback\nTest:","Double-Leg",{"$nulls":3},5,"30 - 45 Seconds",null,"90 - 120 Seconds",{"$nulls":6},{"$f":"IF(BP53*BQ53*(BR53)>0, BP53*BQ53*(BR53), \"\")","v":""},{"$f":"IF(MAX(BR53:BR57) > 0, MAX(BR53:BR57), \"\")","v":""}]
[{"$nulls":6},5,"30 - 45 Seconds",null,"90 - 120 Seconds",{"$nulls":6},{"$f":"IF(K54*L54*(M54)>0, K54*L54*(M54), \"\")","v":""},{"$nulls":8},5,"30 - 45 Seconds",null,"90 - 120 Seconds",{"$nulls":6},{"$f":"IF(AD54*AE54*(AF54)>0, AD54*AE54*(AF54), \"\")","v":""},{"$nulls":8},5,"30 - 45 Seconds",null,"90 - 120 Seconds",{"$nulls":6},{"$f":"IF(AW54*AX54*(AY54)>0, AW54*AX54*(AY54), \"\")","v":""},{"$nulls":8},5,"30 - 45 Seconds",null,"90 - 120 Seconds",{"$nulls":6},{"$f":"IF(BP54*BQ54*(BR54)>0, BP54*BQ54*(BR54), \"\")","v":""}]
[{"$nulls":6},5,"31 - 45 Seconds",null,"91 - 120 Seconds",{"$nulls":6},"",{"$nulls":8},5,"31 - 45 Seconds",null,"91 - 120 Seconds",{"$nulls":6},"",{"$nulls":8},5,"31 - 45 Seconds",null,"91 - 120 Seconds",{"$nulls":6},"",{"$nulls":8},5,"31 - 45 Seconds",null,"91 - 120 Seconds",{"$nulls":6},""]
[{"$nulls":6},5,"32 - 45 Seconds",null,"92 - 120 Seconds",{"$nulls":6},"",{"$nulls":8},5,"32 - 45 Seconds",null,"92 - 120 Seconds",{"$nulls":6},"",{"$nulls":8},5,"32 - 45 Seconds",null,"92 - 120 Seconds",{"$nulls":6},"",{"$nulls":8},5,"32 - 45 Seconds",null,"92 - 120 Seconds",{"$nulls":6},""]
[null,"Day 4\nIsometric",{"$nulls":4},5,"33 - 45 Seconds",null,"93 - 120 Seconds",{"$nulls":6},"",{"$nulls":3},"Day 4\nIsometric",{"$nulls":4},5,"33 - 45 Seconds",null,"93 - 120 Seconds",{"$nulls":6},"",{"$nulls":3},"Day 4\nIsometric",{"$nulls":4},5,"33 - 45 Seconds",null,"93 - 120 Seconds",{"$nulls":6},"",{"$nulls":3},"Day 4\nIsometric",{"$nulls":4},5,"33 - 45 Seconds",null,"93 - 120 Seconds",{"$nulls":6},""]
[null,null,"Single-Leg",{"$nulls":3},5,"34 - 45 Seconds",null,"94 - 120 Seconds",{"$nulls":6},"",{"$f":"IF(MAX(M58:M62) > 0, MAX(M58:M62), \"\")","v":""},{"$nulls":3},"Single-Leg",{"$nulls":3},5,"34 - 45 Seconds",null,"94 - 120 Seconds",{"$nulls":6},"",{"$f":"IF(MAX(AF58:AF62) > 0, MAX(AF58:AF62), \"\")","v":""},{"$nulls":3},"Single-Leg",{"$nulls":3},5,"34 - 45 Seconds",null,"94 - 120 Seconds",{"$nulls":6},"",{"$f":"IF(MAX(AY58:AY62) > 0, MAX(AY58:AY62), \"\")","v":""},{"$nulls":3},"Single-Leg",{"$nulls":3},5,"34 - 45 Seconds",null,"94 - 120 Seconds",{"$nulls":6},"",{"$f":"IF(MAX(BR58:BR62) > 0, MAX(BR58:BR62), \"\")","v":""}]
[{"$nulls":6},5,"35 - 45 Seconds",null,"95 - 120 Seconds",{"$nulls":6},"",{"$nulls":8},5,"35 - 45 Seconds",null,"95 - 120 Seconds",{"$nulls":6},"",{"$nulls":8},5,"35 - 45 Seconds",null,"95 - 120 Seconds",{"$nulls":6},"",{"$nulls":8},5,"35 - 45 Seconds",null,"95 - 120 Seconds",{"$nulls":6},""]
[{"$nulls":6},5,"36 - 45 Seconds",null,"96 - 120 Seconds",{"$nulls":6},"",{"$nulls":8},5,"36 - 45 Seconds",null,"96 - 120 Seconds",{"$nulls":6},"",{"$nulls":8},5,"36 - 45 Seconds",null,"96 - 120 Seconds",{"$nulls":6},"",{"$nulls":8},5,"36 - 45 Seconds",null,"96 - 120 Seconds",{"$nulls":6},""]
[{"$nulls":6},5,"37 - 45 Seconds",null,"97 - 120 Seconds",{"$nulls":6},"",{"$nulls":8},5,"37 - 45 Seconds",null,"97 - 120 Seconds",{"$nulls":6},"",{"$nulls":8},5,"37 - 45 Seconds",null,"97 - 120 Seconds",{"$nulls":6},"",{"$nulls":8},5,"37 - 45 Seconds",null,"97 - 120 Seconds",{"$nulls":6},""]
[{"$nulls":6},5,"30 - 45 Seconds",null,"90 - 120 Seconds",{"$nulls":6},"",{"$nulls":8},5,"30 - 45 Seconds",null,"90 - 120 Seconds",{"$nulls":6},"",{"$nulls":8},5,"30 - 45 Seconds",null,"90 - 120 Seconds",{"$nulls":6},"",{"$nulls":8},5,"30 - 45 Seconds",null,"90 - 120 Seconds",{"$nulls":6},""]
[null,null,"Session RPE:",null,"Session Duration:",{"$nulls":4},"Session Score:",{"$nulls":3},{"$f":"IFERROR(IF(SUBSTITUTE(D63,\"RPE \",\"\")*G63, CONCATENATE(SUBSTITUTE(D63,\"RPE \",\"\")*G63, \" AU\"),0),0)","v":0},null,"Daily Totals:",{"$f":"IF(SUM(Q53:Q62)>0, SUM(Q53:Q62), \"\")","v":""},{"$f":"IF(MAX(R53:R62), MAX(R53:R62), \"\")","v":""},{"$nulls":3},"Session RPE:",null,"Session Duration:",{"$nulls":4},"Session Score:",{"$nulls":3},{"$f":"IFERROR(IF(SUBSTITUTE(W63,\"RPE \",\"\")*Z63, CONCATENATE(SUBSTITUTE(W63,\"RPE \",\"\")*Z63, \" AU\"),0),0)","v":0},null,"Daily Totals:",{"$f":"IF(SUM(AJ53:AJ62)>0, SUM(AJ53:AJ62), \"\")","v":""},{"$f":"IF(MAX(AK53:AK62), MAX(AK53:AK62), \"\")","v":""},{"$nulls":3},"Session RPE:",null,"Session Duration:",{"$nulls":4},"Session Score:",{"$nulls":3},{"$f":"IFERROR(IF(SUBSTITUTE(AP63,\"RPE \",\"\")*AS63, CONCATENATE(SUBSTITUTE(AP63,\"RPE \",\"\")*AS63, \" AU\"),0),0)","v":0},null,"Daily Totals:",{"$f":"IF(SUM(BC53:BC62)>0, SUM(BC53:BC62), \"\")","v":""},{"$f":"IF(MAX(BD53:BD62), MAX(BD53:BD62), \"\")","v":""},{"$nulls":3},"Session RPE:",null,"Session Duration:",{"$nulls":4},"Session Score:",{"$nulls":3},{"$f":"IFERROR(IF(SUBSTITUTE(BI63,\"RPE \",\"\")*BL63, CONCATENATE(SUBSTITUTE(BI63,\"RPE \",\"\")*BL63, \" AU\"),0),0)","v":0},null,"Daily Totals:",{"$f":"IF(SUM(BV53:BV62)>0, SUM(BV53:BV62), \"\")","v":""},{"$f":"IF(MAX(BW53:BW62), MAX(BW53:BW62), \"\")","v":""}]
[null,"Day","Type","Exercise","Tempo",null,"Sets","Reps","Subjective Intensity","Rest","Objective Score",null,null,"Feedback",null,null,"Exercise\nTonnage","Average\nIntensity","Absolute\nIntensity",null,"Day","Type","Exercise","Tempo",null,"Sets","Reps","Subjective Intensity","Rest","Objective Score",null,null,"Feedback",null,null,"Exercise\nTonnage","Average\nIntensity","Absolute\nIntensity",null,"Day","Type","Exercise","Tempo",null,"Sets","Reps","Subjective Intensity","Rest","Objective Score",null,null,"Feedback",null,null,"Exercise\nTonnage","Average\nIntensity","Absolute\nIntensity",null,"Day","Type","Exercise","Tempo",null,"Sets","Reps","Subjective Intensity","Rest","Objective Score",null,null,"Feedback",null,null,"Exercise\nTonnage","Average\nIntensity","Absolute\nIntensity"]
[{"$nulls":10},"Sets","Reps","Weight",{"$nulls":16},"Sets","Reps","Weight",{"$nulls":16},"Sets","Reps","Weight",{"$nulls":16},"Sets","Reps","Weight"]
[null,"Biofeedback\nTest:","Double-Leg",null,"3-0-3","Set 1","1 - 2","8-10","RPE 1 - 2","2 - 3 Minutes",{"$nulls":6},{"$f":"IF(SUMPRODUCT(K66:K70,L66:L70,M66:M70), SUMPRODUCT(K66:K70,L66:L70,M66:M70), \"\")","v":""},{"$f":"IFERROR(IF(SUM(M66:M70)/COUNT(K66:K70), ROUND(SUM(M66:M70)/COUNT(K66:K70),1), \"\"),\"\")","v":""},{"$f":"IF(MAX(M66:M70),MAX(M66:M70),\"\")","v":""},null,"Biofeedback\nTest:","Double-Leg",null,"3-0-3","Set 1","1 - 2","8-10","RPE 1 - 2","2 - 3 Minutes",{"$nulls":6},{"$f":"IF(SUMPRODUCT(AD66:AD70,AE66:AE70,AF66:AF70), SUMPRODUCT(AD66:AD70,AE66:AE70,AF66:AF70), \"\")","v":""},{"$f":"IFERROR(IF(SUM(AF66:AF70)/COUNT(AD66:AD70), ROUND(SUM(AF66:AF70)/COUNT(AD66:AD70),1), \"\"),\"\")","v":""},{"$f":"IF(MAX(AF66:AF70),MAX(AF66:AF70),\"\")","v":""},null,"Biofeedback\nTest:","Double-Leg",null,"3-0-3","Set 1","1 - 2","8-10","RPE 1 - 2","2 - 3 Minutes",{"$nulls":6},{"$f":"IF(SUMPRODUCT(AW66:AW70,AX66:AX70,AY66:AY70), SUMPRODUCT(AW66:AW70,AX66:AX70,AY66:AY70), \"\")","v":""},{"$f":"IFERROR(IF(SUM(AY66:AY70)/COUNT(AW66:AW70), ROUND(SUM(AY66:AY70)/COUNT(AW66:AW70),1), \"\"),\"\")","v":""},{"$f":"IF(MAX(AY66:AY70),MAX(AY66:AY70),\"\")","v":""},null,"Biofeedback\nTest:","Double-Leg",null,"3-0-3","Set 1","1 - 2","8-10","RPE 1 - 2","2 - 3 Minutes",{"$nulls":6},{"$f":"IF(SUMPRODUCT(BP66:BP70,BQ66:BQ70,BR66:BR70), SUMPRODUCT(BP66:BP70,BQ66:BQ70,BR66:BR70), \"\")","v":""},{"$f":"IFERROR(IF(SUM(BR66:BR70)/COUNT(BP66:BP70), ROUND(SUM(BR66:BR70)/COUNT(BP66:BP70),1), \"\"),\"\")","v":""},{"$f":"IF(MAX(BR66:BR70),MAX(BR66:BR70),\"\")","v":""}]
[{"$nulls":4},"3-0-3","Set 2","1 - 2","8-10","RPE 2 - 3","2 - 3 Minutes",{"$nulls":13},"3-0-3","Set 2","1 - 2","8-10","RPE 2 - 3","2 - 3 Minutes",{"$nulls":13},"3-0-3","Set 2","1 - 2","8-10","RPE 2 - 3","2 - 3 Minutes",{"$nulls":13},"3-0-3","Set 2","1 - 2","8-10","RPE 2 - 3","2 - 3 Minutes"]
[{"$nulls":4},"3-0-3","Set 3",1,15,"RPE 4 - 6","2 - 3 Minutes",{"$nulls":13},"3-0-3","Set 3",1,15,"RPE 4 - 6","2 - 3 Minutes",{"$nulls":13},"3-0-3","Set 3",1,8,"RPE 4 - 6","2 - 3 Minutes",{"$nulls":13},"3-0-3","Set 3",1,6,"RPE 4 - 6","2 - 3 Minutes"]
[{"$nulls":4},"3-0-3","Set 4",1,15,"RPE 6 - 8","2 - 3 Minutes",{"$nulls":13},"3-0-3","Set 4",1,15,"RPE 6 - 8","2 - 3 Minutes",{"$nulls":13},"3-0-3","Set 4",1,8,"RPE 6 - 8","2 - 3 Minutes",{"$nulls":13},"3-0-3","Set 4",1,6,"RPE 6 - 8","2 - 3 Minutes"]
[null,"Day 5\nIsotonic\n\n\n\n\n\n",null,null,"3-0-3","Set 5",1,15,"RPE 9 - 10","2 - 3 Minutes",{"$nulls":10},"Day 5\nIsotonic\n\n\n\n\n\n",null,null,"3-0-3","Set 5",1,15,"RPE 9 - 10","2 - 3 Minutes",{"$nulls":10},"Day 5\nIsotonic\n\n\n\n\n\n",null,null,"3-0-3","Set 5",1,8,"RPE 9 - 10","2 - 3 Minutes",{"$nulls":10},"Day 5\nIsotonic\n\n\n\n\n\n",null,null,"3-0-3","Set 5",1,6,"RPE 9 - 10","2 - 3 Minutes"]
[null,null,"Double-Leg",null,"3-0-3","Set 1","1 - 2","8-10","RPE 1 - 2","2 - 3 Minutes",{"$nulls":6},{"$f":"IF(SUMPRODUCT(K71:K75,L71:L75,M71:M75), SUMPRODUCT(K71:K75,L71:L75,M71:M75), \"\")","v":""},{"$f":"IFERROR(IF(SUM(M71:M75)/COUNT(K71:K75), ROUND(SUM(M71:M75)/COUNT(K71:K75),1), \"\"),\"\")","v":""},{"$f":"IF(MAX(M71:M75),MAX(M71:M75),\"\")","v":""},null,null,"Double-Leg",null,"3-0-3","Set 1","1 - 2","8-10","RPE 1 - 2","2 - 3 Minutes",{"$nulls":6},{"$f":"IF(SUMPRODUCT(AD71:AD75,AE71:AE75,AF71:AF75), SUMPRODUCT(AD71:AD75,AE71:AE75,AF71:AF75), \"\")","v":""},{"$f":"IFERROR(IF(SUM(AF71:AF75)/COUNT(AD71:AD75), ROUND(SUM(AF71:AF75)/COUNT(AD71:AD75),1), \"\"),\"\")","v":""},{"$f":"IF(MAX(AF71:AF75),MAX(AF71:AF75),\"\")","v":""},null,null,"Double-Leg",null,"3-0-3","Set 1","1 - 2","8-10","RPE 1 - 2","2 - 3 Minutes",{"$nulls":6},{"$f":"IF(SUMPRODUCT(AW71:AW75,AX71:AX75,AY71:AY75), SUMPRODUCT(AW71:AW75,AX71:AX75,AY71:AY75), \"\")","v":""},{"$f":"IFERROR(IF(SUM(AY71:AY75)/COUNT(AW71:AW75), ROUND(SUM(AY71:AY75)/COUNT(AW71:AW75),1), \"\"),\"\")","v":""},{"$f":"IF(MAX(AY71:AY75),MAX(AY71:AY75),\"\")","v":""},null,null,"Double-Leg",null,"3-0-3","Set 1","1 - 2","8-10","RPE 1 - 2","2 - 3 Minutes",{"$nulls":6},{"$f":"IF(SUMPRODUCT(BP71:BP75,BQ71:BQ75,BR71:BR75), SUMPRODUCT(BP71:BP75,BQ71:BQ75,BR71:BR75), \"\")","v":""},{"$f":"IFERROR(IF(SUM(BR71:BR75)/COUNT(BP71:BP75), ROUND(SUM(BR71:BR75)/COUNT(BP71:BP75),1), \"\"),\"\")","v":""},{"$f":"IF(MAX(BR71:BR75),MAX(BR71:BR75),\"\")","v":""}]
[{"$nulls":4},"3-0-3","Set 2","1 - 2","8-10","RPE 2 - 3","2 - 3 Minutes",{"$nulls":13},"3-0-3","Set 2","1 - 2","8-10","RPE 2 - 3","2 - 3 Minutes",{"$nulls":13},"3-0-3","Set 2","1 - 2","8-10","RPE 2 - 3","2 - 3 Minutes",{"$nulls":13},"3-0-3","Set 2","1 - 2","8-10","RPE 2 - 3","2 - 3 Minutes"]
[{"$nulls":4},"3-0-3","Set 3",1,15,"RPE 4 - 6","2 - 3 Minutes",{"$nulls":13},"3-0-3","Set 3",1,15,"RPE 4 - 6","2 - 3 Minutes",{"$nulls":13},"3-0-3","Set 3",1,8,"RPE 4 - 6","2 - 3 Minutes",{"$nulls":13},"3-0-3","Set 3",1,6,"RPE 4 - 6","2 - 3 Minutes"]
[{"$nulls":4},"3-0-3","Set 4",1,15,"RPE 6 - 8","2 - 3 Minutes",{"$nulls":13},"3-0-3","Set 4",1,15,"RPE 6 - 8","2 - 3 Minutes",{"$nulls":13},"3-0-3","Set 4",1,8,"RPE 6 - 8","2 - 3 Minutes",{"$nulls":13},"3-0-3","Set 4",1,6,"RPE 6 - 8","2 - 3 Minutes"]
[{"$nulls":4},"3-0-3","Set 5",1,15,"RPE 9 - 10","2 - 3 Minutes",{"$nulls":13},"3-0-3","Set 5",1,15,"RPE 9 - 10","2 - 3 Minutes",{"$nulls":13},"3-0-3","Set 5",1,8,"RPE 9 - 10","2 - 3 Minutes",{"$nulls":13},"3-0-3","Set 5",1,6,"RPE 9 - 10","2 - 3 Minutes"]
[null,null,"Single-Leg",null,"3-0-3","Set 1","1 - 2","8-10","RPE 1 - 2","2 - 3 Minutes",{"$nulls":6},{"$f":"IF(SUMPRODUCT(K76:K80,L76:L80,M76:M80), SUMPRODUCT(K76:K80,L76:L80,M76:M80), \"\")","v":""},{"$f":"IFERROR(IF(SUM(M76:M80)/COUNT(K76:K80), ROUND(SUM(M76:M80)/COUNT(K76:K80),1), \"\"),\"\")","v":""},{"$f":"IF(MAX(M76:M80),MAX(M76:M80),\"\")","v":""},null,null,"Single-Leg",null,"3-0-3","Set 1","1 - 2","8-10","RPE 1 - 2","2 - 3 Minutes",{"$nulls":6},{"$f":"IF(SUMPRODUCT(AD76:AD80,AE76:AE80,AF76:AF80), SUMPRODUCT(AD76:AD80,AE76:AE80,AF76:AF80), \"\")","v":""},{"$f":"IFERROR(IF(SUM(AF76:AF80)/COUNT(AD76:AD80), ROUND(SUM(AF76:AF80)/COUNT(AD76:AD80),1), \"\"),\"\")","v":""},{"$f":"IF(MAX(AF76:AF80),MAX(AF76:AF80),\"\")","v":""},null,null,"Single-Leg",null,"3-0-3","Set 1","1 - 2","8-10","RPE 1 - 2","2 - 3 Minutes",{"$nulls":6},{"$f":"IF(SUMPRODUCT(AW76:AW80,AX76:AX80,AY76:AY80), SUMPRODUCT(AW76:AW80,AX76:AX80,AY76:AY80), \"\")","v":""},{"$f":"IFERROR(IF(SUM(AY76:AY80)/COUNT(AW76:AW80), ROUND(SUM(AY76:AY80)/COUNT(AW76:AW80),1), \"\"),\"\")","v":""},{"$f":"IF(MAX(AY76:AY80),MAX(AY76:AY80),\"\")","v":""},null,null,"Single-Leg",null,"3-0-3","Set 1","1 - 2","8-10","RPE 1 - 2","2 - 3 Minutes",{"$nulls":6},{"$f":"IF(SUMPRODUCT(BP76:BP80,BQ76:BQ80,BR76:BR80), SUMPRODUCT(BP76:BP80,BQ76:BQ80,BR76:BR80), \"\")","v":""},{"$f":"IFERROR(IF(SUM(BR76:BR80)/COUNT(BP76:BP80), ROUND(SUM(BR76:BR80)/COUNT(BP76:BP80),1), \"\"),\"\")","v":""},{"$f":"IF(MAX(BR76:BR80),MAX(BR76:BR80),\"\")","v":""}]
[{"$nulls":4},"3-0-3","Set 2","1 - 2","8-10","RPE 2 - 3","2 - 3 Minutes",{"$nulls":13},"3-0-3","Set 2","1 - 2","8-10","RPE 2 - 3","2 - 3 Minutes",{"$nulls":13},"3-0-3","Set 2","1 - 2","8-10","RPE 2 - 3","2 - 3 Minutes",{"$nulls":13},"3-0-3","Set 2","1 - 2","8-10","RPE 2 - 3","2 - 3 Minutes"]
[{"$nulls":4},"3-0-3","Set 3",1,15,"RPE 4 - 6","2 - 3 Minutes",{"$nulls":13},"3-0-3","Set 3",1,15,"RPE 4 - 6","2 - 3 Minutes",{"$nulls":13},"3-0-3","Set 3",1,8,"RPE 4 - 6","2 - 3 Minutes",{"$nulls":13},"3-0-3","Set 3",1,6,"RPE 4 - 6","2 - 3 Minutes"]
[{"$nulls":4},"3-0-3","Set 4",1,15,"RPE 6 - 8","2 - 3 Minutes",{"$nulls":13},"3-0-3","Set 4",1,15,"RPE 6 - 8","2 - 3 Minutes",{"$nulls":13},"3-0-3","Set 4",1,8,"RPE 6 - 8","2 - 3 Minutes",{"$nulls":13},"3-0-3","Set 4",1,6,"RPE 6 - 8","2 - 3 Minutes"]
[{"$nulls":4},"3-0-3","Set 5",1,15,"RPE 9 - 10","2 - 3 Minutes",{"$nulls":13},"3-0-3","Set 5",1,15,"RPE 9 - 10","2 - 3 Minutes",{"$nulls":13},"3-0-3","Set 5",1,8,"RPE 9 - 10","2 - 3 Minutes",{"$nulls":13},"3-0-3","Set 5",1,6,"RPE 9 - 10","2 - 3 Minutes"]
[null,null,"Session RPE:",null,"Session Duration:",{"$nulls":4},"Session Score:",{"$nulls":3},{"$f":"IFERROR(IF(SUBSTITUTE(D81,\"RPE \",\"\")*G81, CONCATENATE(SUBSTITUTE(D81,\"RPE \",\"\")*G81, \" AU\"),0),0)","v":0},null,"Daily Totals:",{"$f":"IF(SUM(Q66:Q80)<1,\"\",SUM(Q66:Q80))","v":""},{"$f":"IFERROR(IF(SUM(M66:M80)/COUNT(K66:K80), ROUND(SUM(M66:M80)/COUNT(K66:K80),1),\"\"),\"\")","v":""},{"$f":"IF(SUM(S66:S80)>0,SUM(S66:S80),\"\")","v":""},null,null,"Session RPE:",null,"Session Duration:",{"$nulls":4},"Session Score:",{"$nulls":3},{"$f":"IFERROR(IF(SUBSTITUTE(W81,\"RPE \",\"\")*Z81, CONCATENATE(SUBSTITUTE(W81,\"RPE \",\"\")*Z81, \" AU\"),0),0)","v":0},null,"Daily Totals:",{"$f":"IF(SUM(AJ66:AJ80)<1,\"\",SUM(AJ66:AJ80))","v":""},{"$f":"IFERROR(IF(SUM(AF66:AF80)/COUNT(AD66:AD80), ROUND(SUM(AF66:AF80)/COUNT(AD66:AD80),1),\"\"),\"\")","v":""},{"$f":"IF(SUM(AL66:AL80)>0,SUM(AL66:AL80),\"\")","v":""},null,null,"Session RPE:",null,"Session Duration:",{"$nulls":4},"Session Score:",{"$nulls":3},{"$f":"IFERROR(IF(SUBSTITUTE(AP81,\"RPE \",\"\")*AS81, CONCATENATE(SUBSTITUTE(AP81,\"RPE \",\"\")*AS81, \" AU\"),0),0)","v":0},null,"Daily Totals:",{"$f":"IF(SUM(BC66:BC80)<1,\"\",SUM(BC66:BC80))","v":""},{"$f":"IFERROR(IF(SUM(AY66:AY80)/COUNT(AW66:AW80), ROUND(SUM(AY66:AY80)/COUNT(AW66:AW80),1),\"\"),\"\")","v":""},{"$f":"IF(SUM(BE66:BE80)>0,SUM(BE66:BE80),\"\")","v":""},null,null,"Session RPE:",null,"Session Duration:",{"$nulls":4},"Session Score:",{"$nulls":3},{"$f":"IFERROR(IF(SUBSTITUTE(BI81,\"RPE \",\"\")*BL81, CONCATENATE(SUBSTITUTE(BI81,\"RPE \",\"\")*BL81, \" AU\"),0),0)","v":0},null,"Daily Totals:",{"$f":"IF(SUM(BV66:BV80)<1,\"\",SUM(BV66:BV80))","v":""},{"$f":"IFERROR(IF(SUM(BR66:BR80)/COUNT(BP66:BP80), ROUND(SUM(BR66:BR80)/COUNT(BP66:BP80),1),\"\"),\"\")","v":""},{"$f":"IF(SUM(BX66:BX80)>0,SUM(BX66:BX80),\"\")","v":""}]
[null,"Day","Type","Exercise",null,null,"Sets","Duration",null,"Rest","Objective Score",null,null,"Feedback",null,null,"Exercise\nTonnage","Absolute\nIntensity",null,null,"Day","Type","Exercise",null,null,"Sets","Duration",null,"Rest","Objective Score",null,null,"Feedback",null,null,"Exercise\nTonnage","Absolute\nIntensity",null,null,"Day","Type","Exercise",null,null,"Sets","Duration",null,"Rest","Objective Score",null,null,"Feedback",null,null,"Exercise\nTonnage","Absolute\nIntensity",null,null,"Day","Type","Exercise",null,null,"Sets","Duration",null,"Rest","Objective Score",null,null,"Feedback",null,null,"Exercise\nTonnage","Absolute\nIntensity"]
[{"$nulls":10},"Sets","Duration","Weight",{"$nulls":16},"Sets","Duration","Weight",{"$nulls":16},"Sets","Duration","Weight",{"$nulls":16},"Sets","Duration","Weight"]
[null,"Biofeedback\nTest:","Double-Leg",{"$nulls":3},5,"30 - 45 Seconds",null,"90 - 120 Seconds",{"$nulls":6},{"$f":"IF(K84*L84*(M84)>0, K84*L84*(M84), \"\")","v":""},{"$f":"IF(MAX(M84:M88) > 0, MAX(M84:M88), \"\")","v":""},null,null,"Biofeedback\nTest:","Double-Leg",{"$nulls":3},5,"30 - 45 Seconds",null,"90 - 120 Seconds",{"$nulls":6},{"$f":"IF(AD84*AE84*(AF84)>0, AD84*AE84*(AF84), \"\")","v":""},{"$f":"IF(MAX(AF84:AF88) > 0, MAX(AF84:AF88), \"\")","v":""},null,null,"Biofeedback\nTest:","Double-Leg",{"$nulls":3},5,"30 - 45 Seconds",null,"90 - 120 Seconds",{"$nulls":6},{"$f":"IF(AW84*AX84*(AY84)>0, AW84*AX84*(AY84), \"\")","v":""},{"$f":"IF(MAX(AY84:AY88) > 0, MAX(AY84:AY88), \"\")","v":""},null,null,"Biofeedback\nTest:","Double-Leg",{"$nulls":3},5,"30 - 45 Seconds",null,"90 - 120 Seconds",{"$nulls":6},{"$f":"IF(BP84*BQ84*(BR84)>0, BP84*BQ84*(BR84), \"\")","v":""},{"$f":"IF(MAX(BR84:BR88) > 0, MAX(BR84:BR88), \"\")","v":""}]
[{"$nulls":6},5,"30 - 45 Seconds",null,"90 - 120 Seconds",{"$nulls":6},{"$f":"IF(K85*L85*(M85)>0, K85*L85*(M85), \"\")","v":""},{"$nulls":8},5,"30 - 45 Seconds",null,"90 - 120 Seconds",{"$nulls":6},{"$f":"IF(AD85*AE85*(AF85)>0, AD85*AE85*(AF85), \"\")","v":""},{"$nulls":8},5,"30 - 45 Seconds",null,"90 - 120 Seconds",{"$nulls":6},{"$f":"IF(AW85*AX85*(AY85)>0, AW85*AX85*(AY85), \"\")","v":""},{"$nulls":8},5,"30 - 45 Seconds",null,"90 - 120 Seconds",{"$nulls":6},{"$f":"IF(BP85*BQ85*(BR85)>0, BP85*BQ85*(BR85), \"\")","v":""}]
[{"$nulls":6},5,"31 - 45 Seconds",null,"91 - 120 Seconds",{"$nulls":6},"",{"$nulls":8},5,"31 - 45 Seconds",null,"91 - 120 Seconds",{"$nulls":6},"",{"$nulls":8},5,"31 - 45 Seconds",null,"91 - 120 Seconds",{"$nulls":6},"",{"$nulls":8},5,"31 - 45 Seconds",null,"91 - 120 Seconds",{"$nulls":6},""]
[{"$nulls":6},5,"32 - 45 Seconds",null,"92 - 120 Seconds",{"$nulls":6},"",{"$nulls":8},5,"32 - 45 Seconds",null,"92 - 120 Seconds",{"$nulls":6},"",{"$nulls":8},5,"32 - 45 Seconds",null,"92 - 120 Seconds",{"$nulls":6},"",{"$nulls":8},5,"32 - 45 Seconds",null,"92 - 120 Seconds",{"$nulls":6},""]
[null,"Day 6\nIsometric",{"$nulls":4},5,"33 - 45 Seconds",null,"93 - 120 Seconds",{"$nulls":6},"",{"$nulls":3},"Day 6\nIsometric",{"$nulls":4},5,"33 - 45 Seconds",null,"93 - 120 Seconds",{"$nulls":6},"",{"$nulls":3},"Day 6\nIsometric",{"$nulls":4},5,"33 - 45 Seconds",null,"93 - 120 Seconds",{"$nulls":6},"",{"$nulls":3},"Day 6\nIsometric",{"$nulls":4},5,"33 - 45 Seconds",null,"93 - 120 Seconds",{"$nulls":6},""]
[null,null,"Single-Leg",{"$nulls":3},5,"34 - 45 Seconds",null,"94 - 120 Seconds",{"$nulls":6},"",{"$f":"IF(MAX(M89:M93) > 0, MAX(M89:M93), \"\")","v":""},{"$nulls":3},"Single-Leg",{"$nulls":3},5,"34 - 45 Seconds",null,"94 - 120 Seconds",{"$nulls":6},"",{"$f":"IF(MAX(AF89:AF93) > 0, MAX(AF89:AF93), \"\")","v":""},{"$nulls":3},"Single-Leg",{"$nulls":3},5,"34 - 45 Seconds",null,"94 - 120 Seconds",{"$nulls":6},"",{"$f":"IF(MAX(AY89:AY93) > 0, MAX(AY89:AY93), \"\")","v":""},{"$nulls":3},"Single-Leg",{"$nulls":3},5,"34 - 45 Seconds",null,"94 - 120 Seconds",{"$nulls":6},"",{"$f":"IF(MAX(BR89:BR93) > 0, MAX(BR89:BR93), \"\")","v":""}]
[{"$nulls":6},5,"35 - 45 Seconds",null,"95 - 120 Seconds",{"$nulls":6},"",{"$nulls":8},5,"35 - 45 Seconds",null,"95 - 120 Seconds",{"$nulls":6},"",{"$nulls":8},5,"35 - 45 Seconds",null,"95 - 120 Seconds",{"$nulls":6},"",{"$nulls":8},5,"35 - 45 Seconds",null,"95 - 120 Seconds",{"$nulls":6},""]
[{"$nulls":6},5,"36 - 45 Seconds",null,"96 - 120 Seconds",{"$nulls":6},"",{"$nulls":8},5,"36 - 45 Seconds",null,"96 - 120 Seconds",{"$nulls":6},"",{"$nulls":8},5,"36 - 45 Seconds",null,"96 - 120 Seconds",{"$nulls":6},"",{"$nulls":8},5,"36 - 45 Seconds",null,"96 - 120 Seconds",{"$nulls":6},""]
[{"$nulls":6},5,"37 - 45 Seconds",null,"97 - 120 Seconds",{"$nulls":6},"",{"$nulls":8},5,"37 - 45 Seconds",null,"97 - 120 Seconds",{"$nulls":6},"",{"$nulls":8},5,"37 - 45 Seconds",null,"97 - 120 Seconds",{"$nulls":6},"",{"$nulls":8},5,"37 - 45 Seconds",null,"97 - 120 Seconds",{"$nulls":6},""]
[{"$nulls":6},5,"30 - 45 Seconds",null,"90 - 120 Seconds",{"$nulls":6},"",{"$nulls":8},5,"30 - 45 Seconds",null,"90 - 120 Seconds",{"$nulls":6},"",{"$nulls":8},5,"30 - 45 Seconds",null,"90 - 120 Seconds",{"$nulls":6},"",{"$nulls":8},5,"30 - 45 Seconds",null,"90 - 120 Seconds",{"$nulls":6},""]
[null,null,"Session RPE:",null,"Session Duration:",{"$nulls":4},"Session Score:",{"$nulls":3},{"$f":"IFERROR(IF(SUBSTITUTE(D94,\"RPE \",\"\")*G94, CONCATENATE(SUBSTITUTE(D94,\"RPE \",\"\")*G94, \" AU\"),0),0)","v":0},null,"Daily Totals:",{"$f":"IF(SUM(Q84:Q93)>0, SUM(Q84:Q93), \"\")","v":""},{"$f":"IF(MAX(R84:R93), MAX(R84:R93), \"\")","v":""},{"$nulls":3},"Session RPE:",null,"Session Duration:",{"$nulls":4},"Session Score:",{"$nulls":3},{"$f":"IFERROR(IF(SUBSTITUTE(W94,\"RPE \",\"\")*Z94, CONCATENATE(SUBSTITUTE(W94,\"RPE \",\"\")*Z94, \" AU\"),0),0)","v":0},null,"Daily Totals:",{"$f":"IF(SUM(AJ84:AJ93)>0, SUM(AJ84:AJ93), \"\")","v":""},{"$f":"IF(MAX(AK84:AK93), MAX(AK84:AK93), \"\")","v":""},{"$nulls":3},"Session RPE:",null,"Session Duration:",{"$nulls":4},"Session Score:",{"$nulls":3},{"$f":"IFERROR(IF(SUBSTITUTE(AP94,\"RPE \",\"\")*AS94, CONCATENATE(SUBSTITUTE(AP94,\"RPE \",\"\")*AS94, \" AU\"),0),0)","v":0},null,"Daily Totals:",{"$f":"IF(SUM(BC84:BC93)>0, SUM(BC84:BC93), \"\")","v":""},{"$f":"IF(MAX(BD84:BD93), MAX(BD84:BD93), \"\")","v":""},{"$nulls":3},"Session RPE:",null,"Session Duration:",{"$nulls":4},"Session Score:",{"$nulls":3},{"$f":"IFERROR(IF(SUBSTITUTE(BI94,\"RPE \",\"\")*BL94, CONCATENATE(SUBSTITUTE(BI94,\"RPE \",\"\")*BL94, \" AU\"),0),0)","v":0},null,"Daily Totals:",{"$f":"IF(SUM(BV84:BV93)>0, SUM(BV84:BV93), \"\")","v":""},{"$f":"IF(MAX(BW84:BW93), MAX(BW84:BW93), \"\")","v":""}]
["WEEKLY \nTOTALS","Tonnage:",null,{"$f":"IF(SUM(Q4:Q18,Q35:Q49,Q66:Q80)>0, SUM(Q4:Q18,Q35:Q49,Q66:Q80),\"\")","v":""},"Average\nIntensity:",null,null,{"$f":"IFERROR(IF(SUM(M4:M18,M35:M49,M66:M80)/COUNT(K4:K18,K35:K49,K66:K80)>0,ROUND(SUM(M4:M18,M35:M49,M66:M80)/COUNT(K4:K18,K35:K49,K66:K80),1),\"\"),\"\")","v":""},null,null,"Absolute\n Intensity:",null,null,{"$f":"IF(SUM(S4:S18,S35:S49,S66:S80) > 0, SUM(S4:S18,S35:S49,S66:S80),\"\")","v":""},null,"Total AUs:",null,{"$f":"IFERROR(IF(SUBSTITUTE(N19, \" AU\", \"\") + SUBSTITUTE(N32, \" AU\", \"\")  + SUBSTITUTE(N50, \" AU\", \"\") + SUBSTITUTE(N63, \" AU\", \"\") + SUBSTITUTE(N81, \" AU\", \"\")  + SUBSTITUTE(N94, \" AU\", \"\") > 0, CONCATENATE(SUBSTITUTE(N19, \" AU\", \"\") + SUBSTITUTE(N32, \" AU\", \"\")  + SUBSTITUTE(N50, \" AU\", \"\") + SUBSTITUTE(N63, \" AU\", \"\") + SUBSTITUTE(N81, \" AU\", \"\")  + SUBSTITUTE(N94, \" AU\", \"\"), \" AU\"), \"\"),\"\")","v":""},null,null,"Tonnage:",null,{"$f":"IF(SUM(AJ4:AJ18,AJ35:AJ49,AJ66:AJ80)>0, SUM(AJ4:AJ18,AJ35:AJ49,AJ66:AJ80),\"\")","v":""},"Average\nIntensity:",null,null,{"$f":"IFERROR(IF(SUM(AF4:AF18,AF35:AF49,AF66:AF80)/COUNT(AD4:AD18,AD35:AD49,AD66:AD80)>0,ROUND(SUM(AF4:AF18,AF35:AF49,AF66:AF80)/COUNT(AD4:AD18,AD35:AD49,AD66:AD80),1),\"\"),\"\")","v":""},null,null,"Absolute\n Intensity:",null,null,{"$f":"IF(SUM(AL4:AL18,AL35:AL49,AL66:AL80) > 0, SUM(AL4:AL18,AL35:AL49,AL66:AL80),\"\")","v":""},null,"Total AUs:",null,{"$f":"IFERROR(IF(SUBSTITUTE(AG19, \" AU\", \"\") + SUBSTITUTE(AG32, \" AU\", \"\")  + SUBSTITUTE(AG50, \" AU\", \"\") + SUBSTITUTE(AG63, \" AU\", \"\") + SUBSTITUTE(AG81, \" AU\", \"\")  + SUBSTITUTE(AG94, \" AU\", \"\") > 0, CONCATENATE(SUBSTITUTE(AG19, \" AU\", \"\") + SUBSTITUTE(AG32, \" AU\", \"\")  + SUBSTITUTE(AG50, \" AU\", \"\") + SUBSTITUTE(AG63, \" AU\", \"\") + SUBSTITUTE(AG81, \" AU\", \"\")  + SUBSTITUTE(AG94, \" AU\", \"\"), \" AU\"), \"\"),\"\")","v":""},null,null,"Tonnage:",null,{"$f":"IF(SUM(BC4:BC18,BC35:BC49,BC66:BC80)>0, SUM(BC4:BC18,BC35:BC49,BC66:BC80),\"\")","v":""},"Average\nIntensity:",null,null,{"$f":"IFERROR(IF(SUM(AY4:AY18,AY35:AY49,AY66:AY80)/COUNT(AW4:AW18,AW35:AW49,AW66:AW80)>0,ROUND(SUM(AY4:AY18,AY35:AY49,AY66:AY80)/COUNT(AW4:AW18,AW35:AW49,AW66:AW80),1),\"\"),\"\")","v":""},null,null,"Absolute\n Intensity:",null,null,{"$f":"IF(SUM(BE4:BE18,BE35:BE49,BE66:BE80) > 0, SUM(BE4:BE18,BE35:BE49,BE66:BE80),\"\")","v":""},null,"Total AUs:",null,{"$f":"IFERROR(IF(SUBSTITUTE(AZ19, \" AU\", \"\") + SUBSTITUTE(AZ32, \" AU\", \"\")  + SUBSTITUTE(AZ50, \" AU\", \"\") + SUBSTITUTE(AZ63, \" AU\", \"\") + SUBSTITUTE(AZ81, \" AU\", \"\")  + SUBSTITUTE(AZ94, \" AU\", \"\") > 0, CONCATENATE(SUBSTITUTE(AZ19, \" AU\", \"\") + SUBSTITUTE(AZ32, \" AU\", \"\")  + SUBSTITUTE(AZ50, \" AU\", \"\") + SUBSTITUTE(AZ63, \" AU\", \"\") + SUBSTITUTE(AZ81, \" AU\", \"\")  + SUBSTITUTE(AZ94, \" AU\", \"\"), \" AU\"), \"\"),\"\")","v":""},null,null,"Tonnage:",null,{"$f":"IF(SUM(BV4:BV18,BV35:BV49,BV66:BV80)>0, SUM(BV4:BV18,BV35:BV49,BV66:BV80),\"\")","v":""},"Average\nIntensity:",null,null,{"$f":"IFERROR(IF(SUM(BR4:BR18,BR35:BR49,BR66:BR80)/COUNT(BP4:BP18,BP35:BP49,BP66:BP80)>0,ROUND(SUM(BR4:BR18,BR35:BR49,BR66:BR80)/COUNT(BP4:BP18,BP35:BP49,BP66:BP80),1),\"\"),\"\")","v":""},null,null,"Absolute\n Intensity:",null,null,{"$f":"IF(MAX(BX4:BX18,BX35:BX49,BX66:BX80) > 0, MAX(BX4:BX18,BX35:BX49,BX66:BX80),\"\")","v":""},null,"Total AUs:",null,{"$f":"IFERROR(IF(SUBSTITUTE(BS19, \" AU\", \"\") + SUBSTITUTE(BS32, \" AU\", \"\")  + SUBSTITUTE(BS50, \" AU\", \"\") + SUBSTITUTE(BS63, \" AU\", \"\") + SUBSTITUTE(BS81, \" AU\", \"\")  + SUBSTITUTE(BS94, \" AU\", \"\") > 0, CONCATENATE(SUBSTITUTE(BS19, \" AU\", \"\") + SUBSTITUTE(BS32, \" AU\", \"\")  + SUBSTITUTE(BS50, \" AU\", \"\") + SUBSTITUTE(BS63, \" AU\", \"\") + SUBSTITUTE(BS81, \" AU\", \"\")  + SUBSTITUTE(BS94, \" AU\", \"\"), \" AU\"), \"\"),\"\")","v":""}]
[{"$nulls":20},"Weekly\n% Difference",null,{"$f":"IF( W95 <> \"\", (IF(W95<>\"\",W95, 0) - IF(D95<>\"\",D95, 0))/IF(D95<>\"\",D95, 1), \"\")","v":""},{"$nulls":3},{"$f":"IF( AA95 <> \"\", (IF(AA95<>\"\",AA95, 0) - IF(H95<>\"\",H95, 0))/IF(H95<>\"\",H95, 1), \"\")","v":""},{"$nulls":5},{"$f":"IF(AG95 <> \"\", (IF(AG95<>\"\",AG95, 0) - IF(N95<>\"\",N95, 0))/IF(N95<>\"\",N95,1), \"\")","v":""},{"$nulls":3},{"$f":"IF(AK95 <> \"\", (IF(AK95<>\"\",SUBSTITUTE(AK95,\" AU\",\"\"), 0) - IF(R95<>\"\",SUBSTITUTE(R95,\" AU\",\"\"), 0))/IF(R95<>\"\",SUBSTITUTE(R95,\" AU\",\"\"), 1), \"\")","v":""},null,null,"Weekly\n% Difference",null,{"$f":"IF( AP95 <> \"\", (IF(AP95<>\"\",AP95, 0) - IF(W95<>\"\",W95, 0))/IF(W95<>\"\",W95, 1), \"\")","v":""},{"$nulls":3},{"$f":"IF( AT95 <> \"\", (IF(AT95<>\"\",AT95, 0) - IF(AA95<>\"\",AA95, 0))/IF(AA95<>\"\",AA95, 1), \"\")","v":""},{"$nulls":5},{"$f":"IF(AZ95 <> \"\", (IF(AZ95<>\"\",AZ95, 0) - IF(AG95<>\"\",AG95, 0))/IF(AG95<>\"\",AG95,1), \"\")","v":""},{"$nulls":3},{"$f":"IF(BD95 <> \"\", (IF(BD95<>\"\",SUBSTITUTE(BD95,\" AU\",\"\"), 0) - IF(AK95<>\"\",SUBSTITUTE(AK95,\" AU\",\"\"), 0))/IF(AK95<>\"\",SUBSTITUTE(AK95,\" AU\",\"\"), 1), \"\")","v":""},null,null,"Weekly\n% Difference",null,{"$f":"IF( BI95 <> \"\", (IF(BI95<>\"\",BI95, 0) - IF(AP95<>\"\",AP95, 0))/IF(AP95<>\"\",AP95, 1), \"\")","v":""},{"$nulls":3},{"$f":"IF( BM95 <> \"\", (IF(BM95<>\"\",BM95, 0) - IF(AT95<>\"\",AT95, 0))/IF(AT95<>\"\",AT95, 1), \"\")","v":""},{"$nulls":5},{"$f":"IF(BS95 <> \"\", (IF(BS95<>\"\",BS95, 0) - IF(AZ95<>\"\",AZ95, 0))/IF(AZ95<>\"\",AZ95,1), \"\")","v":""},{"$nulls":3},{"$f":"IF(BW95 <> \"\", (IF(BW95<>\"\",SUBSTITUTE(BW95,\" AU\",\"\"), 0) - IF(BD95<>\"\",SUBSTITUTE(BD95,\" AU\",\"\"), 0))/IF(BD95<>\"\",SUBSTITUTE(BD95,\" AU\",\"\"), 1), \"\")","v":""}]

{"sheet":"Phase III","index":3,"n_rows":133,"n_cols":209,"rows_kept":133,"merged":[[0,0,0,189],[1,0,2,0],[1,1,2,1],[1,2,2,2],[1,3,2,3],[1,4,2,4],[1,5,2,5],[1,6,2,6],[1,7,2,7],[1,8,2,8],[1,9,2,9],[1,10,1,12],[1,13,2,15],[1,19,2,19],[1,20,2,20],[1,21,2,21],[1,22,2,22],[1,23,2,23],[1,24,2,24],[1,29,1,31],[1,32,2,34],[1,38,2,38],[1,39,2,39],[1,40,2,40],[1,41,2,41],[1,42,2,42],[1,43,2,43],[1,44,2,44],[1,45,2,45],[1,46,2,46],[1,47,2,47],[1,48,1,50],[1,51,2,53],[1,57,2,57],[1,58,2,58],[1,59,2,59],[1,62,2,62],[1,70,2,72],[1,76,2,76],[1,78,2,78],[1,79,2,79],[1,80,2,80],[1,81,2,81],[1,82,2,82],[1,83,2,83],[1,84,2,84],[1,89,2,91],[1,95,2,95],[1,96,2,96],[1,97,2,97],[1,98,2,98],[1,99,2,99],[1,100,2,100],[1,101,2,101],[1,102,2,102],[1,103,2,103],[1,104,2,104],[1,105,1,107],[1,108,2,110],[1,114,2,114],[1,115,2,115],[1,116,2,116],[1,117,2,117],[1,118,2,118],[1,119,2,119],[1,120,2,120],[1,121,2,121],[1,122,2,122],[1,123,2,123],[1,124,1,126],[1,127,2,129],[1,152,2,152],[1,153,2,153],[1,154,2,154],[1,155,2,155],[1,156,2,156],[1,157,2,157],[1,158,2,158],[1,159,2,159],[1,160,2,160],[1,161,2,161],[1,162,1,164],[1,165,2,167],[1,171,2,171],[1,172,2,172],[1,173,2,173],[1,174,2,174],[1,175,2,175],[1,176,2,176],[1,177,2,177],[1,178,2,178],[1,179,2,179],[1,180,2,180],[1,181,1,183],[3,1,4,1],[3,2,12,2],[3,20,4,20],[3,38,130,38],[3,39,4,39],[3,40,12,40],[3,58,4,58],[3,59,12,59],[3,77,4,77],[3,78,12,78],[3,95,130,95],[3,96,4,96],[3,97,12,97],[3,108,12,110],[3,114,130,114],[3,115,4,115],[3,116,12,116],[3,127,12,129],[3,134,4,134],[3,152,130,152],[3,153,4,153],[3,154,12,154],[3,171,130,171],[3,172,4,172],[3,173,12,173],[8,1,29,1],[8,20,29,20],[8,39,29,39],[8,58,29,58],[8,77,29,77],[8,96,29,96],[8,115,29,115],[8,134,29,134],[8,153,29,153],[8,172,29,172],[13,32,13,34],[13,51,13,53],[13,70,13,72],[13,89,13,91],[13,108,13,110],[13,127,13,129],[13,165,13,167],[13,184,13,186],[14,2,28,2],[14,21,28,21],[14,32,18,34],[14,40,28,40],[14,70,18,72],[14,75,18,75],[14,78,28,78],[14,89,18,91],[14,94,18,94],[14,97,28,97],[14,108,18,110],[14,113,18,113],[14,116,28,116],[14,127,18,129],[14,154,28,154],[14,165,18,167],[14,170,18,170],[14,173,28,173],[14,184,18,186],[19,55,23,55],[19,70,23,72],[19,89,23,91],[19,94,23,94],[19,108,23,110],[19,113,23,113],[19,165,23,167],[19,170,23,170],[24,55,28,55],[24,89,28,91],[24,94,28,94],[24,108,28,110],[24,113,28,113],[24,127,28,129],[24,165,28,167],[29,6,29,8],[29,9,29,12],[29,13,29,14],[29,123,29,126],[29,127,29,128],[30,2,31,2],[30,3,31,5],[30,7,31,8],[30,9,31,9],[30,10,30,12],[30,13,31,15],[30,16,31,16],[30,17,31,18],[30,20,31,20],[30,21,31,21],[30,22,31,24],[30,25,31,25],[30,26,31,27],[30,28,31,28],[30,35,31,35],[30,36,31,37],[30,39,31,39],[30,40,31,40],[30,41,31,43],[30,44,31,44],[30,45,31,46],[30,47,31,47],[30,48,30,50],[30,51,31,53],[30,54,31,54],[30,55,31,56],[30,67,30,69],[30,70,31,72],[30,74,31,75],[30,79,31,81],[30,83,31,84],[30,92,31,92],[30,93,31,94],[30,98,31,100],[30,117,31,119],[30,120,31,120],[30,121,31,122],[30,123,31,123],[30,130,31,130],[30,172,31,172],[30,173,31,173],[30,177,31,177],[32,1,33,1],[32,2,36,2],[32,3,36,5],[32,7,32,8],[32,13,36,15],[32,17,36,18],[32,20,33,20],[32,21,36,21],[32,22,36,24],[32,26,32,27],[32,32,36,34],[32,36,36,37],[32,39,33,39],[32,40,36,40],[32,41,36,43],[32,58,33,58],[32,59,36,59],[32,60,36,62],[32,64,32,65],[32,70,36,72],[32,74,36,75],[32,78,36,78],[32,79,36,81],[32,83,32,84],[32,93,36,94],[32,96,33,96],[32,97,36,97],[32,98,36,100],[32,115,33,115],[32,116,36,116],[32,117,36,119],[32,134,33,134],[32,153,33,153],[32,172,33,172],[33,7,33,8],[33,26,33,27],[33,64,33,65],[33,83,33,84],[34,7,34,8],[34,26,34,27],[34,64,34,65],[34,83,34,84],[35,7,35,8],[35,26,35,27],[35,45,35,46],[35,64,35,65],[35,83,35,84],[36,7,36,8],[36,26,36,27],[36,45,36,46],[36,64,36,65],[36,83,36,84],[36,102,36,103],[37,1,47,1],[37,2,41,2],[37,3,41,5],[37,7,37,8],[37,13,41,15],[37,17,41,18],[37,20,47,20],[37,21,41,21],[37,22,41,24],[37,26,37,27],[37,32,41,34],[37,36,41,37],[37,39,47,39],[37,40,41,40],[37,41,41,43],[37,45,37,46],[37,51,41,53],[37,55,41,56],[37,58,47,58],[37,59,41,59],[37,60,41,62],[37,64,37,65],[37,70,41,72],[37,74,41,75],[37,78,41,78],[37,79,41,81],[37,83,37,84],[37,89,41,91],[37,93,41,94],[37,96,47,96],[37,97,41,97],[37,98,41,100],[37,102,37,103],[37,108,41,110],[37,112,41,113],[37,115,47,115],[37,116,41,116],[37,117,41,119],[37,134,47,134],[37,153,47,153],[37,172,47,172],[38,7,38,8],[38,26,38,27],[38,45,38,46],[38,64,38,65],[38,83,38,84],[38,102,38,103],[39,7,39,8],[39,26,39,27],[39,45,39,46],[39,64,39,65],[39,83,39,84],[39,102,39,103],[40,7,40,8],[40,26,40,27],[40,45,40,46],[40,64,40,65],[40,83,40,84],[40,102,40,103],[40,121,40,122],[41,7,41,8],[41,26,41,27],[41,45,41,46],[41,64,41,65],[41,83,41,84],[41,102,41,103],[41,121,41,122],[42,2,46,2],[42,3,46,5],[42,7,42,8],[42,13,46,15],[42,17,46,18],[42,21,46,21],[42,22,46,24],[42,26,42,27],[42,32,46,34],[42,36,46,37],[42,40,46,40],[42,41,46,43],[42,45,42,46],[42,51,46,53],[42,55,46,56],[42,59,46,59],[42,60,46,62],[42,74,46,75],[42,78,46,78],[42,79,46,81],[42,83,42,84],[42,89,46,91],[42,93,46,94],[42,97,46,97],[42,98,46,100],[42,102,42,103],[42,108,46,110],[42,112,46,113],[42,116,46,116],[42,117,46,119],[42,121,42,122],[42,127,46,129],[42,131,46,132],[43,7,43,8],[43,26,43,27],[43,45,43,46],[43,64,43,65],[43,83,43,84],[43,102,43,103],[43,121,43,122],[44,7,44,8],[44,26,44,27],[44,45,44,46],[44,64,44,65],[44,83,44,84],[44,102,44,103],[44,121,44,122],[45,7,45,8],[45,26,45,27],[45,45,45,46],[45,64,45,65],[45,102,45,103],[45,121,45,122],[45,159,45,160],[46,7,46,8],[46,26,46,27],[46,45,46,46],[46,64,46,65],[46,83,46,84],[46,102,46,103],[46,121,46,122],[46,155,46,157],[46,159,46,160],[47,4,47,5],[47,6,47,8],[47,9,47,12],[47,13,47,14],[47,17,47,18],[47,23,47,24],[47,25,47,27],[47,28,47,31],[47,32,47,33],[47,36,47,37],[47,55,47,56],[47,61,47,62],[47,63,47,65],[47,66,47,69],[47,70,47,71],[47,74,47,75],[47,80,47,81],[47,82,47,84],[47,85,47,88],[47,89,47,90],[47,99,47,100],[47,101,47,103],[47,112,47,113],[47,131,47,132],[48,1,49,1],[48,2,49,2],[48,3,49,3],[48,4,49,4],[48,5,49,5],[48,6,49,6],[48,7,49,7],[48,8,49,8],[48,9,49,9],[48,10,48,12],[48,13,49,15],[48,16,49,16],[48,17,49,17],[48,18,49,18],[48,20,49,20],[48,21,49,21],[48,22,49,22],[48,23,49,23],[48,24,49,24],[48,25,49,25],[48,26,49,26],[48,27,49,27],[48,28,49,28],[48,29,48,31],[48,32,49,34],[48,35,49,35],[48,36,49,36],[48,40,49,40],[48,41,49,41],[48,42,49,42],[48,43,49,43],[48,44,49,44],[48,45,49,45],[48,46,49,46],[48,47,49,47],[48,55,49,55],[48,56,49,56],[48,58,49,58],[48,59,49,59],[48,115,49,115],[48,116,49,116],[50,17,54,17],[50,18,54,18],[50,20,51,20],[50,32,54,34],[50,36,54,36],[50,37,54,37],[50,39,51,39],[50,58,51,58],[50,115,51,115],[50,153,51,153],[50,172,51,172],[55,1,65,1],[55,17,59,17],[55,18,59,18],[55,20,65,20],[55,32,59,34],[55,36,59,36],[55,37,59,37],[55,39,65,39],[55,58,65,58],[55,115,65,115],[55,131,59,131],[55,153,65,153],[55,172,65,172],[60,13,64,15],[60,17,64,17],[60,18,64,18],[60,32,64,34],[60,36,64,36],[60,37,64,37],[60,132,64,132],[65,13,65,14],[65,44,65,46],[65,47,65,50],[65,51,65,52],[65,63,65,65],[65,66,65,69],[66,1,67,1],[66,2,67,2],[66,3,67,5],[66,6,67,6],[66,7,67,8],[66,9,67,9],[66,10,66,12],[66,13,67,15],[66,16,67,16],[66,17,67,18],[66,20,67,20],[66,21,67,21],[66,22,67,24],[66,25,67,25],[66,26,67,27],[66,28,67,28],[66,29,66,31],[66,32,67,34],[66,35,67,35],[66,36,67,37],[66,39,67,39],[66,40,67,40],[66,44,67,44],[66,47,67,47],[66,48,66,50],[66,51,67,53],[66,63,67,63],[66,77,67,77],[66,78,67,78],[66,97,67,97],[66,140,67,141],[66,142,67,142],[66,143,66,145],[66,146,67,148],[66,149,67,149],[66,150,67,151],[66,153,67,153],[66,154,67,154],[66,155,67,157],[66,158,67,158],[66,159,67,160],[66,161,67,161],[66,162,66,164],[66,165,67,167],[66,168,67,168],[66,169,67,170],[66,173,67,173],[66,174,67,176],[66,177,67,177],[66,178,67,179],[66,180,67,180],[66,181,66,183],[66,184,67,186],[68,2,72,2],[68,3,72,5],[68,7,68,8],[68,13,72,15],[68,17,72,18],[68,21,72,21],[68,22,72,24],[68,26,68,27],[68,32,72,34],[68,36,72,37],[68,58,69,58],[68,77,69,77],[68,96,69,96],[68,115,69,115],[68,135,72,135],[68,136,72,138],[68,154,72,154],[68,155,72,157],[68,159,68,160],[68,165,72,167],[68,169,72,170],[68,173,72,173],[68,174,72,176],[68,188,72,189],[69,7,69,8],[69,26,69,27],[69,159,69,160],[69,178,69,179],[70,7,70,8],[70,26,70,27],[70,159,70,160],[70,178,70,179],[71,7,71,8],[71,178,71,179],[72,7,72,8],[72,178,72,179],[73,2,77,2],[73,3,77,5],[73,7,73,8],[73,13,77,15],[73,17,77,18],[73,21,77,21],[73,22,77,24],[73,32,77,34],[73,36,77,37],[73,58,83,58],[73,77,83,77],[73,96,83,96],[73,115,83,115],[73,135,77,135],[73,136,77,138],[73,154,77,154],[73,155,77,157],[73,169,77,170],[73,173,77,173],[73,174,77,176],[73,178,73,179],[73,192,77,192],[73,193,77,195],[74,7,74,8],[74,26,74,27],[74,159,74,160],[74,178,74,179],[75,7,75,8],[75,26,75,27],[75,159,75,160],[75,178,75,179],[76,7,76,8],[76,26,76,27],[77,7,77,8],[77,26,77,27],[78,2,82,2],[78,3,82,5],[78,7,78,8],[78,13,82,15],[78,17,82,18],[78,21,82,21],[78,22,82,24],[78,26,78,27],[78,32,82,34],[78,36,82,37],[78,135,82,135],[78,136,82,138],[78,140,78,141],[78,146,82,148],[78,150,82,151],[78,154,82,154],[78,155,82,157],[78,173,82,173],[78,174,82,176],[78,178,78,179],[78,184,82,186],[78,188,82,189],[78,192,82,192],[78,193,82,195],[79,7,79,8],[79,26,79,27],[79,140,79,141],[79,178,79,179],[80,7,80,8],[80,26,80,27],[80,41,80,43],[80,45,80,46],[80,140,80,141],[80,178,80,179],[81,7,81,8],[81,26,81,27],[81,140,81,141],[81,178,81,179],[82,7,82,8],[82,26,82,27],[82,45,82,46],[82,140,82,141],[82,178,82,179],[83,4,83,5],[83,6,83,8],[83,9,83,12],[83,13,83,14],[83,17,83,18],[83,23,83,24],[83,25,83,27],[83,28,83,31],[83,32,83,33],[83,36,83,37],[83,42,83,43],[83,44,83,46],[83,47,83,50],[83,118,83,119],[83,120,83,122],[83,123,83,126],[83,137,83,138],[83,139,83,141],[83,142,83,145],[83,146,83,147],[83,156,83,157],[83,158,83,160],[83,161,83,164],[83,165,83,166],[83,175,83,176],[83,177,83,179],[83,180,83,183],[83,188,83,189],[84,23,85,23],[84,24,85,24],[84,25,85,25],[84,26,85,26],[84,27,85,27],[84,29,84,31],[84,32,85,34],[84,35,85,35],[84,36,85,36],[84,37,85,37],[84,43,85,43],[84,44,85,44],[84,45,85,45],[84,46,85,46],[84,47,85,47],[84,48,84,50],[84,51,85,53],[84,54,85,54],[84,55,85,55],[84,56,85,56],[84,58,85,58],[84,59,85,59],[84,60,85,60],[84,77,85,77],[84,78,85,78],[84,79,85,79],[84,80,85,80],[84,81,85,81],[84,82,85,82],[84,83,85,83],[84,84,85,84],[84,85,85,85],[84,86,84,88],[84,89,85,91],[84,92,85,92],[84,93,85,93],[84,94,85,94],[84,96,85,96],[84,97,85,97],[84,98,85,98],[84,101,85,101],[84,102,85,102],[84,103,85,103],[84,104,85,104],[84,105,84,107],[84,108,85,110],[84,111,85,111],[84,112,85,112],[84,113,85,113],[84,135,85,135],[84,136,85,136],[84,137,85,137],[84,141,85,141],[84,142,85,142],[84,143,84,145],[84,146,85,148],[84,149,85,149],[84,150,85,150],[84,151,85,151],[84,172,85,172],[84,173,85,173],[86,1,87,1],[86,2,95,2],[86,13,95,15],[86,20,87,20],[86,21,95,21],[86,39,87,39],[86,58,87,58],[86,153,87,153],[86,173,95,173],[93,1,112,1],[93,20,112,20],[93,39,112,39],[93,58,112,58],[93,153,112,153],[96,13,96,15],[97,2,111,2],[97,13,101,15],[97,17,101,17],[97,18,101,18],[97,21,111,21],[97,173,111,173],[102,13,106,15],[102,17,106,17],[102,18,106,18],[102,36,106,36],[107,16,111,16],[107,17,111,17],[107,18,111,18],[107,32,111,34],[112,4,112,5],[112,32,112,33],[113,1,114,1],[113,2,114,2],[113,3,114,5],[113,6,114,6],[113,7,114,8],[113,9,114,9],[113,10,113,12],[113,13,114,15],[113,16,114,16],[113,17,114,18],[113,20,114,20],[113,21,114,21],[113,22,114,24],[113,25,114,25],[113,26,114,27],[113,28,114,28],[113,29,113,31],[113,32,114,34],[113,35,114,35],[113,36,114,37],[113,39,114,39],[113,40,114,40],[113,41,114,43],[113,44,114,44],[113,45,114,46],[113,47,114,47],[113,48,113,50],[113,51,114,53],[113,54,114,54],[113,55,114,56],[113,58,114,58],[113,59,114,59],[113,60,114,62],[113,77,114,77],[113,78,114,78],[113,79,114,81],[113,82,114,82],[113,83,114,84],[113,85,114,85],[113,86,113,88],[113,89,114,91],[113,92,114,92],[113,93,114,94],[113,96,114,96],[113,97,114,97],[113,124,113,126],[113,127,114,129],[115,2,119,2],[115,3,119,5],[115,7,115,8],[115,13,119,15],[115,17,119,18],[115,21,119,21],[115,22,119,24],[115,26,115,27],[115,32,119,34],[115,36,119,37],[115,40,119,40],[115,41,119,43],[115,45,115,46],[115,51,119,53],[115,55,119,56],[115,58,116,58],[115,59,119,59],[115,60,119,62],[115,77,116,77],[115,78,119,78],[115,79,119,81],[115,83,115,84],[115,96,116,96],[115,115,116,115],[115,134,116,134],[115,153,116,153],[115,191,116,191],[116,7,116,8],[116,26,116,27],[116,45,116,46],[116,83,116,84],[117,7,117,8],[117,26,117,27],[117,45,117,46],[117,83,117,84],[118,7,118,8],[118,26,118,27],[118,45,118,46],[118,83,118,84],[119,7,119,8],[119,26,119,27],[119,45,119,46],[119,83,119,84],[120,2,124,2],[120,3,124,5],[120,7,120,8],[120,13,124,15],[120,17,124,18],[120,21,124,21],[120,22,124,24],[120,26,120,27],[120,32,124,34],[120,36,124,37],[120,40,124,40],[120,41,124,43],[120,45,120,46],[120,51,124,53],[120,55,124,56],[120,58,130,58],[120,59,124,59],[120,60,124,62],[120,74,124,75],[120,77,130,77],[120,78,124,78],[120,79,124,81],[120,83,120,84],[120,89,124,91],[120,93,124,94],[120,96,130,96],[120,115,130,115],[120,134,130,134],[120,153,130,153],[120,172,130,172],[120,191,130,191],[121,7,121,8],[121,26,121,27],[121,45,121,46],[121,64,121,65],[121,83,121,84],[122,7,122,8],[122,26,122,27],[122,45,122,46],[122,64,122,65],[122,83,122,84],[123,7,123,8],[123,26,123,27],[123,45,123,46],[123,83,123,84],[124,7,124,8],[124,26,124,27],[124,45,124,46],[124,64,124,65],[124,83,124,84],[125,2,129,2],[125,3,129,5],[125,7,125,8],[125,13,129,15],[125,17,129,18],[125,21,129,21],[125,22,129,24],[125,26,125,27],[125,32,129,34],[125,36,129,37],[125,40,129,40],[125,41,129,43],[125,45,125,46],[125,51,129,53],[125,55,129,56],[125,59,129,59],[125,60,129,62],[125,64,125,65],[125,70,129,72],[125,74,129,75],[125,78,129,78],[125,79,129,81],[125,83,125,84],[125,89,129,91],[125,93,129,94],[126,7,126,8],[126,26,126,27],[126,45,126,46],[126,64,126,65],[126,83,126,84],[127,7,127,8],[127,26,127,27],[127,45,127,46],[127,64,127,65],[127,83,127,84],[128,7,128,8],[128,26,128,27],[128,45,128,46],[128,64,128,65],[128,83,128,84],[129,7,129,8],[129,26,129,27],[129,45,129,46],[129,64,129,65],[129,83,129,84],[130,4,130,5],[130,6,130,8],[130,9,130,12],[130,13,130,14],[130,17,130,18],[130,23,130,24],[130,25,130,27],[130,28,130,31],[130,32,130,33],[130,36,130,37],[130,42,130,43],[130,44,130,46],[130,47,130,50],[130,51,130,52],[130,55,130,56],[130,61,130,62],[130,63,130,65],[130,66,130,69],[130,70,130,71],[130,74,130,75],[130,80,130,81],[130,82,130,84],[130,85,130,88],[130,89,130,90],[130,93,130,94]],"merged_total":2941,"flags":["merged_cut"]}
["Phase III - Dynamic Loading "]
["Week ","Day","Weightlifting\n Movement","Cluster Type","Exercise","Tempo","Sets","Reps","Weight","Rest","Score",null,null,"Feedback",null,null,"Exercise Tonnage","Average Intensity","Absolute Intensity","Week ","Day","Weightlifting\n Movement","Cluster Type","Exercise","Tempo","Sets","Reps","Weight","Rest","Score",null,null,"Feedback",null,null,"Exercise Tonnage","Average Intensity","Absolute Intensity","Week ","Day","Weightlifting\n Movement","Cluster Type","Exercise","Tempo","Sets","Reps","Weight","Rest","Score",null,null,"Feedback",null,null,"Exercise Tonnage","Average Intensity","Absolute Intensity","Week ","Day","Weightlifting\n Movement","Cluster Type","Exercise","Tempo","Sets","Reps","Weight","Rest","Score",null,null,"Feedback",null,null,"Exercise Tonnage","Average Intensity","Absolute Intensity","Week ","Day","Weightlifting\n Movement","Cluster Type","Exercise","Tempo","Sets","Reps","Weight","Rest","Score",null,null,"Feedback",null,null,"Exercise Tonnage","Average Intensity","Absolute Intensity","Week ","Day","Weightlifting\n Movement","Cluster Type","Exercise","Tempo","Sets","Reps","Weight","Rest","Score",null,null,"Feedback",null,null,"Exercise Tonnage","Average Intensity","Absolute Intensity","Week ","Day","Weightlifting\n Movement","Cluster Type","Exercise","Tempo","Sets","Reps","Weight","Rest","Score",null,null,"Feedback",null,null,"Exercise Tonnage","Average Intensity","Absolute Intensity","Week ","Day","Weightlifting\n Movement","Cluster Type","Exercise","Tempo","Sets","Reps","Weight","Rest","Score",null,null,"Feedback",null,null,"Exercise Tonnage","Average Intensity","Absolute Intensity","Week ","Day","Weightlifting\n Movement","Cluster Type","Exercise","Tempo","Sets","Reps","Weight","Rest","Score",null,null,"Feedback",null,null,"Exercise Tonnage","Average Intensity","Absolute Intensity","Week ","Day","Weightlifting\n Movement","Cluster Type","Exercise","Tempo","Sets","Reps","Weight","Rest","Score",null,null,"Feedback",null,null,"Exercise Tonnage","Average Intensity","Absolute Intensity","Week ","Day","Weightlifting\n Movement","Cluster Type","Exercise","Tempo","Sets","Reps","Weight","Rest","Score",null,null,"Feedback",null,null,"Exercise Tonnage","Average Intensity","Absolute Intensity"]
[{"$nulls":10},"Sets","Reps","Weight",{"$nulls":16},"Sets","Reps","Weight",{"$nulls":16},"Sets","Reps","Weight",{"$nulls":16},"Sets","Reps","Weight",{"$nulls":16},"Sets","Reps","Weight",{"$nulls":16},"Sets","Reps","Weight",{"$nulls":16},"Sets","Reps","Weight",{"$nulls":16},"Sets","Reps","Weight",{"$nulls":16},"Sets","Reps","Weight",{"$nulls":16},"Sets","Reps","Weight",{"$nulls":16},"Sets","Reps","Weight"]
["W\nE\nE\nK\n\n6","Biofeedback\nTest:",{"$nulls":14},{"$f":"IF(K4*L4*M4<1, \"\", K4*L4*M4)","v":""},{"$f":"IFERROR(IF(SUM(M4:M13)/COUNT(K4:K13), ROUND(SUM(M4:M13)/COUNT(K4:K13),1), \"\"),\"\")","v":""},{"$f":"IF(MAX(M4:M13),MAX(M4:M13),\"\")","v":""},"W\nE\nE\nK\n\n7","Biofeedback\nTest:",{"$nulls":14},{"$f":"IF(AD4*AE4*AF4<1, \"\", AD4*AE4*AF4)","v":""},{"$f":"IFERROR(IF(SUM(AF4:AF13)/COUNT(AD4:AD13), ROUND(SUM(AF4:AF13)/COUNT(AD4:AD13),1), \"\"),\"\")","v":""},{"$f":"IF(MAX(AF4:AF13),MAX(AF4:AF13),\"\")","v":""},"W\nE\nE\nK\n\n8","Biofeedback\nTest:",{"$nulls":14},{"$f":"IF(AW4*AX4*AY4<1, \"\", AW4*AX4*AY4)","v":""},{"$f":"IFERROR(IF(SUM(AY4:AY13)/COUNT(AW4:AW13), ROUND(SUM(AY4:AY13)/COUNT(AW4:AW13),1), \"\"),\"\")","v":""},{"$f":"IF(MAX(AY4:AY13),MAX(AY4:AY13),\"\")","v":""},"W\nE\nE\nK\n\n9","Biofeedback\nTest:",{"$nulls":14},{"$f":"IF(BP4*BQ4*BR4<1, \"\", BP4*BQ4*BR4)","v":""},{"$f":"IFERROR(IF(SUM(BR4:BR13)/COUNT(BP4:BP13), ROUND(SUM(BR4:BR13)/COUNT(BP4:BP13),1), \"\"),\"\")","v":""},{"$f":"IF(MAX(BR4:BR13),MAX(BR4:BR13),\"\")","v":""},"W\nE\nE\nK\n\n10","Biofeedback\nTest:",{"$nulls":14},{"$f":"IF(CI4*CJ4*CK4<1, \"\", CI4*CJ4*CK4)","v":""},{"$f":"IFERROR(IF(SUM(CK4:CK13)/COUNT(CI4:CI13), ROUND(SUM(CK4:CK13)/COUNT(CI4:CI13),1), \"\"),\"\")","v":""},{"$f":"IF(MAX(CK4:CK13),MAX(CK4:CK13),\"\")","v":""},"W\nE\nE\nK\n\n11","Biofeedback\nTest:",{"$nulls":14},{"$f":"IF(DB4*DC4*DD4<1, \"\", DB4*DC4*DD4)","v":""},{"$f":"IFERROR(IF(SUM(DD4:DD13)/COUNT(DB4:DB13), ROUND(SUM(DD4:DD13)/COUNT(DB4:DB13),1), \"\"),\"\")","v":""},{"$f":"IF(MAX(DD4:DD13),MAX(DD4:DD13),\"\")","v":""},"W\nE\nE\nK\n\n12","Biofeedback\nTest:",{"$nulls":14},{"$f":"IF(DU4*DV4*DW4<1, \"\", DU4*DV4*DW4)","v":""},{"$f":"IFERROR(IF(SUM(DW4:DW13)/COUNT(DU4:DU13), ROUND(SUM(DW4:DW13)/COUNT(DU4:DU13),1), \"\"),\"\")","v":""},{"$f":"IF(MAX(DW4:DW13),MAX(DW4:DW13),\"\")","v":""},"W\nE\nE\nK\n\n13","Biofeedback\nTest:",{"$nulls":14},{"$f":"IF(EN4*EO4*EP4<1, \"\", EN4*EO4*EP4)","v":""},{"$f":"IFERROR(IF(SUM(EP4:EP13)/COUNT(EN4:EN13), ROUND(SUM(EP4:EP13)/COUNT(EN4:EN13),1), \"\"),\"\")","v":""},{"$f":"IF(MAX(EP4:EP13),MAX(EP4:EP13),\"\")","v":""},"W\nE\nE\nK\n\n14","Biofeedback\nTest:",{"$nulls":14},{"$f":"IF(FG4*FH4*FI4<1, \"\", FG4*FH4*FI4)","v":""},{"$f":"IFERROR(IF(SUM(FI4:FI13)/COUNT(FG4:FG13), ROUND(SUM(FI4:FI13)/COUNT(FG4:FG13),1), \"\"),\"\")","v":""},{"$f":"IF(MAX(FI4:FI13),MAX(FI4:FI13),\"\")","v":""},"W\nE\nE\nK\n\n15","Biofeedback\nTest:",{"$nulls":14},{"$f":"IF(FZ4*GA4*GB4<1, \"\", FZ4*GA4*GB4)","v":""},{"$f":"IFERROR(IF(SUM(GB4:GB13)/COUNT(FZ4:FZ13), ROUND(SUM(GB4:GB13)/COUNT(FZ4:FZ13),1), \"\"),\"\")","v":""},{"$f":"IF(MAX(GB4:GB13),MAX(GB4:GB13),\"\")","v":""},"W\nE\nE\nK\n\n16","Biofeedback\nTest:",{"$nulls":14},{"$f":"IF(GS4*GT4*GU4<1, \"\", GS4*GT4*GU4)","v":""},{"$f":"IFERROR(IF(SUM(GU4:GU13)/COUNT(GS4:GS13), ROUND(SUM(GU4:GU13)/COUNT(GS4:GS13),1), \"\"),\"\")","v":""},{"$f":"IF(MAX(GU4:GU13),MAX(GU4:GU13),\"\")","v":""}]
[{"$nulls":16},{"$f":"IF(K5*L5*M5<1, \"\", K5*L5*M5)","v":""},{"$nulls":18},{"$f":"IF(AD5*AE5*AF5<1, \"\", AD5*AE5*AF5)","v":""},{"$nulls":18},{"$f":"IF(AW5*AX5*AY5<1, \"\", AW5*AX5*AY5)","v":""},{"$nulls":18},{"$f":"IF(BP5*BQ5*BR5<1, \"\", BP5*BQ5*BR5)","v":""},{"$nulls":18},{"$f":"IF(CI5*CJ5*CK5<1, \"\", CI5*CJ5*CK5)","v":""},{"$nulls":18},{"$f":"IF(DB5*DC5*DD5<1, \"\", DB5*DC5*DD5)","v":""},{"$nulls":18},{"$f":"IF(DU5*DV5*DW5<1, \"\", DU5*DV5*DW5)","v":""},{"$nulls":18},{"$f":"IF(EN5*EO5*EP5<1, \"\", EN5*EO5*EP5)","v":""},{"$nulls":18},{"$f":"IF(FG5*FH5*FI5<1, \"\", FG5*FH5*FI5)","v":""},{"$nulls":18},{"$f":"IF(FZ5*GA5*GB5<1, \"\", FZ5*GA5*GB5)","v":""},{"$nulls":18},{"$f":"IF(GS5*GT5*GU5<1, \"\", GS5*GT5*GU5)","v":""}]
[{"$nulls":16},"",{"$nulls":18},"",{"$nulls":18},"",{"$nulls":18},"",{"$nulls":18},"",{"$nulls":18},"",{"$nulls":18},"",{"$nulls":18},"",{"$nulls":18},"",{"$nulls":18},"",{"$nulls":18},""]
[{"$nulls":16},"",{"$nulls":18},"",{"$nulls":18},"",{"$nulls":18},"",{"$nulls":18},"",{"$nulls":18},"",{"$nulls":18},"",{"$nulls":18},"",{"$nulls":18},"",{"$nulls":18},"",{"$nulls":18},""]
[{"$nulls":16},"",{"$nulls":18},"",{"$nulls":18},"",{"$nulls":18},"",{"$nulls":18},"",{"$nulls":18},"",{"$nulls":18},"",{"$nulls":18},"",{"$nulls":18},"",{"$nulls":18},"",{"$nulls":18},""]
[null,"Day 1\nDynamic\n+\nIsotonic\n\n",{"$nulls":14},"",{"$nulls":3},"Day 1\nDynamic\n+\nIsotonic\n\n",{"$nulls":14},"",{"$nulls":3},"Day 1\nDynamic\n+\nIsotonic\n\n",{"$nulls":14},"",{"$nulls":3},"Day 1\nDynamic\n+\nIsotonic\n\n",{"$nulls":14},"",{"$nulls":3},"Day 1\nDynamic\n+\nIsotonic\n\n",{"$nulls":14},"",{"$nulls":3},"Day 1\nDynamic\n+\nIsotonic\n\n",{"$nulls":14},"",{"$nulls":3},"Day 1\nDynamic\n+\nIsotonic\n\n",{"$nulls":14},"",{"$nulls":3},"Day 1\nDynamic\n+\nIsotonic\n\n",{"$nulls":14},"",{"$nulls":3},"Day 1\nDynamic\n+\nIsotonic\n\n",{"$nulls":14},"",{"$nulls":3},"Day 1\nDynamic\n+\nIsotonic\n\n",{"$nulls":14},"",{"$nulls":3},"Day 1\nDynamic\n+\nIsotonic\n\n",{"$nulls":14},""]
[{"$nulls":16},"",{"$nulls":18},"",{"$nulls":18},"",{"$nulls":18},"",{"$nulls":18},"",{"$nulls":18},"",{"$nulls":18},"",{"$nulls":18},"",{"$nulls":18},"",{"$nulls":18},"",{"$nulls":18},""]
[{"$nulls":16},"",{"$nulls":18},"",{"$nulls":18},"",{"$nulls":18},"",{"$nulls":18},"",{"$nulls":18},"",{"$nulls":18},"",{"$nulls":18},"",{"$nulls":18},"",{"$nulls":18},"",{"$nulls":18},""]
[{"$nulls":16},"",{"$nulls":18},"",{"$nulls":18},"",{"$nulls":18},"",{"$nulls":18},"",{"$nulls":18},"",{"$nulls":18},"",{"$nulls":18},"",{"$nulls":18},"",{"$nulls":18},"",{"$nulls":18},""]
[{"$nulls":16},"",{"$nulls":18},"",{"$nulls":18},"",{"$nulls":18},"",{"$nulls":18},"",{"$nulls":18},"",{"$nulls":18},"",{"$nulls":18},"",{"$nulls":18},"",{"$nulls":18},"",{"$nulls":18},""]
[{"$nulls":3},"Isotonic Type","Isotonic Exercise","Tempo","Sets","Reps","Weight","Rest","Sets","Reps","Weight","Feedback",null,null,"Exercise Tonnage","Average Intensity","Absolute Intensity",{"$nulls":3},"Isotonic Type","Isotonic Exercise","Tempo","Sets","Reps","Weight","Rest","Sets","Reps","Weight","Feedback",null,null,"Exercise Tonnage","Average Intensity","Absolute Intensity",{"$nulls":3},"Isotonic Type","Isotonic Exercise","Tempo","Sets","Reps","Weight","Rest","Sets","Reps","Weight","Feedback",null,null,"Exercise Tonnage","Average Intensity","Absolute Intensity",{"$nulls":3},"Isotonic Type","Isotonic Exercise","Tempo","Sets","Reps","Weight","Rest","Sets","Reps","Weight","Feedback",null,null,"Exercise Tonnage","Average Intensity","Absolute Intensity",{"$nulls":3},"Isotonic Type","Isotonic Exercise","Tempo","Sets","Reps","Weight","Rest","Sets","Reps","Weight","Feedback",null,null,"Exercise Tonnage","Average Intensity","Absolute Intensity",{"$nulls":3},"Isotonic Type","Isotonic Exercise","Tempo","Sets","Reps","Weight","Rest","Sets","Reps","Weight","Feedback",null,null,"Exercise Tonnage","Average Intensity","Absolute Intensity",{"$nulls":3},"Isotonic Type","Isotonic Exercise","Tempo","Sets","Reps","Weight","Rest","Sets","Reps","Weight","Feedback",null,null,"Exercise Tonnage","Average Intensity","Absolute Intensity",{"$nulls":3},"Isotonic Type","Isotonic Exercise","Tempo","Sets","Reps","Weight","Rest","Sets","Reps","Weight","Feedback",null,null,"Exercise Tonnage","Average Intensity","Absolute Intensity",{"$nulls":3},"Isotonic Type","Isotonic Exercise","Tempo","Sets","Reps","Weight","Rest","Sets","Reps","Weight","Feedback",null,null,"Exercise Tonnage","Average Intensity","Absolute Intensity",null,null,"Type","Isotonic Type","Isotonic Exercise","Tempo","Sets","Reps","Weight","Rest","Sets","Reps","Weight","Feedback",null,null,"Exercise Tonnage","Average Intensity","Absolute Intensity",null,null,"Type","Isotonic Type","Isotonic Exercise","Tempo","Sets","Reps","Weight","Rest","Sets","Reps","Weight","Feedback",null,null,"Exercise Tonnage","Average Intensity","Absolute Intensity"]
[null,null,"Isotonic",{"$nulls":13},{"$f":"IF(SUMPRODUCT(K15:K19,L15:L19,M15:M19), SUMPRODUCT(K15:K19,L15:L19,M15:M19), \"\")","v":""},{"$f":"IFERROR(IF(SUM(M15:M19)/COUNT(K15:K19), ROUND(SUM(M15:M19)/COUNT(K15:K19),1), \"\"),\"\")","v":""},{"$f":"IF(MAX(M15:M19),MAX(M15:M19),\"\")","v":""},null,null,"Isotonic",{"$nulls":13},{"$f":"IF(SUMPRODUCT(AD15:AD19,AE15:AE19,AF15:AF19), SUMPRODUCT(AD15:AD19,AE15:AE19,AF15:AF19), \"\")","v":""},{"$f":"IFERROR(IF(SUM(AF15:AF19)/COUNT(AD15:AD19), ROUND(SUM(AF15:AF19)/COUNT(AD15:AD19),1), \"\"),\"\")","v":""},{"$f":"IF(MAX(AF15:AF19),MAX(AF15:AF19),\"\")","v":""},null,null,"Isotonic",{"$nulls":13},{"$f":"IF(SUMPRODUCT(AW15:AW19,AX15:AX19,AY15:AY19), SUMPRODUCT(AW15:AW19,AX15:AX19,AY15:AY19), \"\")","v":""},{"$f":"IFERROR(IF(SUM(AY15:AY19)/COUNT(AW15:AW19), ROUND(SUM(AY15:AY19)/COUNT(AW15:AW19),1), \"\"),\"\")","v":""},{"$f":"IF(MAX(AY15:AY19),MAX(AY15:AY19),\"\")","v":""},null,null,"Isotonic",{"$nulls":13},{"$f":"IF(SUMPRODUCT(BP15:BP19,BQ15:BQ19,BR15:BR19), SUMPRODUCT(BP15:BP19,BQ15:BQ19,BR15:BR19), \"\")","v":""},{"$f":"IFERROR(IF(SUM(BR15:BR19)/COUNT(BP15:BP19), ROUND(SUM(BR15:BR19)/COUNT(BP15:BP19),1), \"\"),\"\")","v":""},{"$f":"IF(MAX(BR15:BR19),MAX(BR15:BR19),\"\")","v":""},null,null,"Isotonic",{"$nulls":13},{"$f":"IF(SUMPRODUCT(CI15:CI19,CJ15:CJ19,CK15:CK19), SUMPRODUCT(CI15:CI19,CJ15:CJ19,CK15:CK19), \"\")","v":""},{"$f":"IFERROR(IF(SUM(CK15:CK19)/COUNT(CI15:CI19), ROUND(SUM(CK15:CK19)/COUNT(CI15:CI19),1), \"\"),\"\")","v":""},{"$f":"IF(MAX(CK15:CK19),MAX(CK15:CK19),\"\")","v":""},null,null,"Isotonic",{"$nulls":13},{"$f":"IF(SUMPRODUCT(DB15:DB19,DC15:DC19,DD15:DD19), SUMPRODUCT(DB15:DB19,DC15:DC19,DD15:DD19), \"\")","v":""},{"$f":"IFERROR(IF(SUM(DD15:DD19)/COUNT(DB15:DB19), ROUND(SUM(DD15:DD19)/COUNT(DB15:DB19),1), \"\"),\"\")","v":""},{"$f":"IF(MAX(DD15:DD19),MAX(DD15:DD19),\"\")","v":""},null,null,"Isotonic",{"$nulls":13},{"$f":"IF(SUMPRODUCT(DU15:DU19,DV15:DV19,DW15:DW19), SUMPRODUCT(DU15:DU19,DV15:DV19,DW15:DW19), \"\")","v":""},{"$f":"IFERROR(IF(SUM(DW15:DW19)/COUNT(DU15:DU19), ROUND(SUM(DW15:DW19)/COUNT(DU15:DU19),1), \"\"),\"\")","v":""},{"$f":"IF(MAX(DW15:DW19),MAX(DW15:DW19),\"\")","v":""},null,null,"Isotonic",{"$nulls":13},{"$f":"IF(SUMPRODUCT(EN15:EN19,EO15:EO19,EP15:EP19), SUMPRODUCT(EN15:EN19,EO15:EO19,EP15:EP19), \"\")","v":""},{"$f":"IFERROR(IF(SUM(EP15:EP19)/COUNT(EN15:EN19), ROUND(SUM(EP15:EP19)/COUNT(EN15:EN19),1), \"\"),\"\")","v":""},{"$f":"IF(MAX(EP15:EP19),MAX(EP15:EP19),\"\")","v":""},null,null,"Isotonic",{"$nulls":13},{"$f":"IF(SUMPRODUCT(FG15:FG19,FH15:FH19,FI15:FI19), SUMPRODUCT(FG15:FG19,FH15:FH19,FI15:FI19), \"\")","v":""},{"$f":"IFERROR(IF(SUM(FI15:FI19)/COUNT(FG15:FG19), ROUND(SUM(FI15:FI19)/COUNT(FG15:FG19),1), \"\"),\"\")","v":""},{"$f":"IF(MAX(FI15:FI19),MAX(FI15:FI19),\"\")","v":""},null,null,"Isotonic",{"$nulls":13},{"$f":"IF(SUMPRODUCT(FZ15:FZ19,GA15:GA19,GB15:GB19), SUMPRODUCT(FZ15:FZ19,GA15:GA19,GB15:GB19), \"\")","v":""},{"$f":"IFERROR(IF(SUM(GB15:GB19)/COUNT(FZ15:FZ19), ROUND(SUM(GB15:GB19)/COUNT(FZ15:FZ19),1), \"\"),\"\")","v":""},{"$f":"IF(MAX(GB15:GB19),MAX(GB15:GB19),\"\")","v":""},null,null,"Isotonic",{"$nulls":13},{"$f":"IF(SUMPRODUCT(GS15:GS19,GT15:GT19,GU15:GU19), SUMPRODUCT(GS15:GS19,GT15:GT19,GU15:GU19), \"\")","v":""},{"$f":"IFERROR(IF(SUM(GU15:GU19)/COUNT(GS15:GS19), ROUND(SUM(GU15:GU19)/COUNT(GS15:GS19),1), \"\"),\"\")","v":""},{"$f":"IF(MAX(GU15:GU19),MAX(GU15:GU19),\"\")","v":""}]
[]
[]
[]
[]
[{"$nulls":16},{"$f":"IF(SUMPRODUCT(K20:K24,L20:L24,M20:M24), SUMPRODUCT(K20:K24,L20:L24,M20:M24), \"\")","v":""},{"$f":"IFERROR(IF(SUM(M20:M24)/COUNT(K20:K24), ROUND(SUM(M20:M24)/COUNT(K20:K24),1), \"\"),\"\")","v":""},{"$f":"IF(MAX(M20:M24),MAX(M20:M24),\"\")","v":""},{"$nulls":16},{"$f":"IF(SUMPRODUCT(AD20:AD24,AE20:AE24,AF20:AF24), SUMPRODUCT(AD20:AD24,AE20:AE24,AF20:AF24), \"\")","v":""},{"$f":"IFERROR(IF(SUM(AF20:AF24)/COUNT(AD20:AD24), ROUND(SUM(AF20:AF24)/COUNT(AD20:AD24),1), \"\"),\"\")","v":""},{"$f":"IF(MAX(AF20:AF24),MAX(AF20:AF24),\"\")","v":""},{"$nulls":16},{"$f":"IF(SUMPRODUCT(AW20:AW24,AX20:AX24,AY20:AY24), SUMPRODUCT(AW20:AW24,AX20:AX24,AY20:AY24), \"\")","v":""},{"$f":"IFERROR(IF(SUM(AY20:AY24)/COUNT(AW20:AW24), ROUND(SUM(AY20:AY24)/COUNT(AW20:AW24),1), \"\"),\"\")","v":""},{"$f":"IF(MAX(AY20:AY24),MAX(AY20:AY24),\"\")","v":""},{"$nulls":16},{"$f":"IF(SUMPRODUCT(BP20:BP24,BQ20:BQ24,BR20:BR24), SUMPRODUCT(BP20:BP24,BQ20:BQ24,BR20:BR24), \"\")","v":""},{"$f":"IFERROR(IF(SUM(BR20:BR24)/COUNT(BP20:BP24), ROUND(SUM(BR20:BR24)/COUNT(BP20:BP24),1), \"\"),\"\")","v":""},{"$f":"IF(MAX(BR20:BR24),MAX(BR20:BR24),\"\")","v":""},{"$nulls":16},{"$f":"IF(SUMPRODUCT(CI20:CI24,CJ20:CJ24,CK20:CK24), SUMPRODUCT(CI20:CI24,CJ20:CJ24,CK20:CK24), \"\")","v":""},{"$f":"IFERROR(IF(SUM(CK20:CK24)/COUNT(CI20:CI24), ROUND(SUM(CK20:CK24)/COUNT(CI20:CI24),1), \"\"),\"\")","v":""},{"$f":"IF(MAX(CK20:CK24),MAX(CK20:CK24),\"\")","v":""},{"$nulls":16},{"$f":"IF(SUMPRODUCT(DB20:DB24,DC20:DC24,DD20:DD24), SUMPRODUCT(DB20:DB24,DC20:DC24,DD20:DD24), \"\")","v":""},{"$f":"IFERROR(IF(SUM(DD20:DD24)/COUNT(DB20:DB24), ROUND(SUM(DD20:DD24)/COUNT(DB20:DB24),1), \"\"),\"\")","v":""},{"$f":"IF(MAX(DD20:DD24),MAX(DD20:DD24),\"\")","v":""},{"$nulls":16},{"$f":"IF(SUMPRODUCT(DU20:DU24,DV20:DV24,DW20:DW24), SUMPRODUCT(DU20:DU24,DV20:DV24,DW20:DW24), \"\")","v":""},{"$f":"IFERROR(IF(SUM(DW20:DW24)/COUNT(DU20:DU24), ROUND(SUM(DW20:DW24)/COUNT(DU20:DU24),1), \"\"),\"\")","v":""},{"$f":"IF(MAX(DW20:DW24),MAX(DW20:DW24),\"\")","v":""},{"$nulls":16},{"$f":"IF(SUMPRODUCT(EN20:EN24,EO20:EO24,EP20:EP24), SUMPRODUCT(EN20:EN24,EO20:EO24,EP20:EP24), \"\")","v":""},{"$f":"IFERROR(IF(SUM(EP20:EP24)/COUNT(EN20:EN24), ROUND(SUM(EP20:EP24)/COUNT(EN20:EN24),1), \"\"),\"\")","v":""},{"$f":"IF(MAX(EP20:EP24),MAX(EP20:EP24),\"\")","v":""},{"$nulls":16},{"$f":"IF(SUMPRODUCT(FG20:FG24,FH20:FH24,FI20:FI24), SUMPRODUCT(FG20:FG24,FH20:FH24,FI20:FI24), \"\")","v":""},{"$f":"IFERROR(IF(SUM(FI20:FI24)/COUNT(FG20:FG24), ROUND(SUM(FI20:FI24)/COUNT(FG20:FG24),1), \"\"),\"\")","v":""},{"$f":"IF(MAX(FI20:FI24),MAX(FI20:FI24),\"\")","v":""},{"$nulls":16},{"$f":"IF(SUMPRODUCT(FZ20:FZ24,GA20:GA24,GB20:GB24), SUMPRODUCT(FZ20:FZ24,GA20:GA24,GB20:GB24), \"\")","v":""},{"$f":"IFERROR(IF(SUM(GB20:GB24)/COUNT(FZ20:FZ24), ROUND(SUM(GB20:GB24)/COUNT(FZ20:FZ24),1), \"\"),\"\")","v":""},{"$f":"IF(MAX(GB20:GB24),MAX(GB20:GB24),\"\")","v":""},{"$nulls":16},{"$f":"IF(SUMPRODUCT(GS20:GS24,GT20:GT24,GU20:GU24), SUMPRODUCT(GS20:GS24,GT20:GT24,GU20:GU24), \"\")","v":""},{"$f":"IFERROR(IF(SUM(GU20:GU24)/COUNT(GS20:GS24), ROUND(SUM(GU20:GU24)/COUNT(GS20:GS24),1), \"\"),\"\")","v":""},{"$f":"IF(MAX(GU20:GU24),MAX(GU20:GU24),\"\")","v":""}]
[]
[]
[]
[]
[{"$nulls":16},{"$f":"IF(SUMPRODUCT(K25:K29,L25:L29,M25:M29), SUMPRODUCT(K25:K29,L25:L29,M25:M29), \"\")","v":""},{"$f":"IFERROR(IF(SUM(M25:M29)/COUNT(K25:K29), ROUND(SUM(M25:M29)/COUNT(K25:K29),1), \"\"),\"\")","v":""},{"$f":"IF(MAX(M25:M29),MAX(M25:M29),\"\")","v":""},{"$nulls":16},{"$f":"IF(SUMPRODUCT(AD25:AD29,AE25:AE29,AF25:AF29), SUMPRODUCT(AD25:AD29,AE25:AE29,AF25:AF29), \"\")","v":""},{"$f":"IFERROR(IF(SUM(AF25:AF29)/COUNT(AD25:AD29), ROUND(SUM(AF25:AF29)/COUNT(AD25:AD29),1), \"\"),\"\")","v":""},{"$f":"IF(MAX(AF25:AF29),MAX(AF25:AF29),\"\")","v":""},{"$nulls":16},{"$f":"IF(SUMPRODUCT(AW25:AW29,AX25:AX29,AY25:AY29), SUMPRODUCT(AW25:AW29,AX25:AX29,AY25:AY29), \"\")","v":""},{"$f":"IFERROR(IF(SUM(AY25:AY29)/COUNT(AW25:AW29), ROUND(SUM(AY25:AY29)/COUNT(AW25:AW29),1), \"\"),\"\")","v":""},{"$f":"IF(MAX(AY25:AY29),MAX(AY25:AY29),\"\")","v":""},{"$nulls":16},{"$f":"IF(SUMPRODUCT(BP25:BP29,BQ25:BQ29,BR25:BR29), SUMPRODUCT(BP25:BP29,BQ25:BQ29,BR25:BR29), \"\")","v":""},{"$f":"IFERROR(IF(SUM(BR25:BR29)/COUNT(BP25:BP29), ROUND(SUM(BR25:BR29)/COUNT(BP25:BP29),1), \"\"),\"\")","v":""},{"$f":"IF(MAX(BR25:BR29),MAX(BR25:BR29),\"\")","v":""},{"$nulls":16},{"$f":"IF(SUMPRODUCT(CI25:CI29,CJ25:CJ29,CK25:CK29), SUMPRODUCT(CI25:CI29,CJ25:CJ29,CK25:CK29), \"\")","v":""},{"$f":"IFERROR(IF(SUM(CK25:CK29)/COUNT(CI25:CI29), ROUND(SUM(CK25:CK29)/COUNT(CI25:CI29),1), \"\"),\"\")","v":""},{"$f":"IF(MAX(CK25:CK29),MAX(CK25:CK29),\"\")","v":""},{"$nulls":16},{"$f":"IF(SUMPRODUCT(DB25:DB29,DC25:DC29,DD25:DD29), SUMPRODUCT(DB25:DB29,DC25:DC29,DD25:DD29), \"\")","v":""},{"$f":"IFERROR(IF(SUM(DD25:DD29)/COUNT(DB25:DB29), ROUND(SUM(DD25:DD29)/COUNT(DB25:DB29),1), \"\"),\"\")","v":""},{"$f":"IF(MAX(DD25:DD29),MAX(DD25:DD29),\"\")","v":""},{"$nulls":16},{"$f":"IF(SUMPRODUCT(DU25:DU29,DV25:DV29,DW25:DW29), SUMPRODUCT(DU25:DU29,DV25:DV29,DW25:DW29), \"\")","v":""},{"$f":"IFERROR(IF(SUM(DW25:DW29)/COUNT(DU25:DU29), ROUND(SUM(DW25:DW29)/COUNT(DU25:DU29),1), \"\"),\"\")","v":""},{"$f":"IF(MAX(DW25:DW29),MAX(DW25:DW29),\"\")","v":""},{"$nulls":16},{"$f":"IF(SUMPRODUCT(EN25:EN29,EO25:EO29,EP25:EP29), SUMPRODUCT(EN25:EN29,EO25:EO29,EP25:EP29), \"\")","v":""},{"$f":"IFERROR(IF(SUM(EP25:EP29)/COUNT(EN25:EN29), ROUND(SUM(EP25:EP29)/COUNT(EN25:EN29),1), \"\"),\"\")","v":""},{"$f":"IF(MAX(EP25:EP29),MAX(EP25:EP29),\"\")","v":""},{"$nulls":16},{"$f":"IF(SUMPRODUCT(FG25:FG29,FH25:FH29,FI25:FI29), SUMPRODUCT(FG25:FG29,FH25:FH29,FI25:FI29), \"\")","v":""},{"$f":"IFERROR(IF(SUM(FI25:FI29)/COUNT(FG25:FG29), ROUND(SUM(FI25:FI29)/COUNT(FG25:FG29),1), \"\"),\"\")","v":""},{"$f":"IF(MAX(FI25:FI29),MAX(FI25:FI29),\"\")","v":""},{"$nulls":16},{"$f":"IF(SUMPRODUCT(FZ25:FZ29,GA25:GA29,GB25:GB29), SUMPRODUCT(FZ25:FZ29,GA25:GA29,GB25:GB29), \"\")","v":""},{"$f":"IFERROR(IF(SUM(GB25:GB29)/COUNT(FZ25:FZ29), ROUND(SUM(GB25:GB29)/COUNT(FZ25:FZ29),1), \"\"),\"\")","v":""},{"$f":"IF(MAX(GB25:GB29),MAX(GB25:GB29),\"\")","v":""},{"$nulls":16},{"$f":"IF(SUMPRODUCT(GS25:GS29,GT25:GT29,GU25:GU29), SUMPRODUCT(GS25:GS29,GT25:GT29,GU25:GU29), \"\")","v":""},{"$f":"IFERROR(IF(SUM(GU25:GU29)/COUNT(GS25:GS29), ROUND(SUM(GU25:GU29)/COUNT(GS25:GS29),1), \"\"),\"\")","v":""},{"$f":"IF(MAX(GU25:GU29),MAX(GU25:GU29),\"\")","v":""}]
[]
[]
[]
[]
[null,null,"Session RPE:",null,"Session Duration:",{"$nulls":4},"Session Score:",{"$nulls":3},{"$f":"IFERROR(IF(SUBSTITUTE(D30,\"RPE \",\"\")*G30, CONCATENATE(SUBSTITUTE(D30,\"RPE \",\"\")*G30, \" AU\"),0),0)","v":0},null,"Daily Totals:",{"$f":"IF(SUM(Q15:Q29)<1,\"\",SUM(Q15:Q29))","v":""},{"$f":"IFERROR(IF(SUM(M15:M29)/COUNT(K15:K29), ROUND(SUM(M15:M29)/COUNT(K15:K29),1),\"\"),\"\")","v":""},{"$f":"IF(SUM(S15:S29)>0,SUM(S15:S29),\"\")","v":""},null,null,"Session RPE:",null,"Session Duration:",{"$nulls":4},"Session Score:",{"$nulls":3},{"$f":"IFERROR(IF(SUBSTITUTE(W30,\"RPE \",\"\")*Z30, CONCATENATE(SUBSTITUTE(W30,\"RPE \",\"\")*Z30, \" AU\"),0),0)","v":0},null,"Daily Totals:",{"$f":"IF(SUM(AJ15:AJ29)<1,\"\",SUM(AJ15:AJ29))","v":""},{"$f":"IFERROR(IF(SUM(AF15:AF29)/COUNT(AD15:AD29), ROUND(SUM(AF15:AF29)/COUNT(AD15:AD29),1),\"\"),\"\")","v":""},{"$f":"IF(SUM(AL15:AL29)>0,SUM(AL15:AL29),\"\")","v":""},null,null,"Session RPE:",null,"Session Duration:",{"$nulls":4},"Session Score:",{"$nulls":3},{"$f":"IFERROR(IF(SUBSTITUTE(AP30,\"RPE \",\"\")*AS30, CONCATENATE(SUBSTITUTE(AP30,\"RPE \",\"\")*AS30, \" AU\"),0),0)","v":0},null,"Daily Totals:",{"$f":"IF(SUM(BC15:BC29)<1,\"\",SUM(BC15:BC29))","v":""},{"$f":"IFERROR(IF(SUM(AY15:AY29)/COUNT(AW15:AW29), ROUND(SUM(AY15:AY29)/COUNT(AW15:AW29),1),\"\"),\"\")","v":""},{"$f":"IF(SUM(BE15:BE29)>0,SUM(BE15:BE29),\"\")","v":""},null,null,"Session RPE:",null,"Session Duration:",{"$nulls":4},"Session Score:",{"$nulls":3},{"$f":"IFERROR(IF(SUBSTITUTE(BI30,\"RPE \",\"\")*BL30, CONCATENATE(SUBSTITUTE(BI30,\"RPE \",\"\")*BL30, \" AU\"),0),0)","v":0},null,"Daily Totals:",{"$f":"IF(SUM(BV15:BV29)<1,\"\",SUM(BV15:BV29))","v":""},{"$f":"IFERROR(IF(SUM(BR15:BR29)/COUNT(BP15:BP29), ROUND(SUM(BR15:BR29)/COUNT(BP15:BP29),1),\"\"),\"\")","v":""},{"$f":"IF(SUM(BX15:BX29)>0,SUM(BX15:BX29),\"\")","v":""},null,null,"Session RPE:",null,"Session Duration:",{"$nulls":4},"Session Score:",{"$nulls":3},{"$f":"IFERROR(IF(SUBSTITUTE(CB30,\"RPE \",\"\")*CE30, CONCATENATE(SUBSTITUTE(CB30,\"RPE \",\"\")*CE30, \" AU\"),0),0)","v":0},null,"Daily Totals:",{"$f":"IF(SUM(CO15:CO29)<1,\"\",SUM(CO15:CO29))","v":""},{"$f":"IFERROR(IF(SUM(CK15:CK29)/COUNT(CI15:CI29), ROUND(SUM(CK15:CK29)/COUNT(CI15:CI29),1),\"\"),\"\")","v":""},{"$f":"IF(SUM(CQ15:CQ29)>0,SUM(CQ15:CQ29),\"\")","v":""},null,null,"Session RPE:",null,"Session Duration:",{"$nulls":4},"Session Score:",{"$nulls":3},{"$f":"IFERROR(IF(SUBSTITUTE(CU30,\"RPE \",\"\")*CX30, CONCATENATE(SUBSTITUTE(CU30,\"RPE \",\"\")*CX30, \" AU\"),0),0)","v":0},null,"Daily Totals:",{"$f":"IF(SUM(DH15:DH29)<1,\"\",SUM(DH15:DH29))","v":""},{"$f":"IFERROR(IF(SUM(DD15:DD29)/COUNT(DB15:DB29), ROUND(SUM(DD15:DD29)/COUNT(DB15:DB29),1),\"\"),\"\")","v":""},{"$f":"IF(SUM(DJ15:DJ29)>0,SUM(DJ15:DJ29),\"\")","v":""},null,null,"Session RPE:",null,"Session Duration:",{"$nulls":4},"Session Score:",{"$nulls":3},{"$f":"IFERROR(IF(SUBSTITUTE(DN30,\"RPE \",\"\")*DQ30, CONCATENATE(SUBSTITUTE(DN30,\"RPE \",\"\")*DQ30, \" AU\"),0),0)","v":0},null,"Daily Totals:",{"$f":"IF(SUM(EA15:EA29)<1,\"\",SUM(EA15:EA29))","v":""},{"$f":"IFERROR(IF(SUM(DW15:DW29)/COUNT(DU15:DU29), ROUND(SUM(DW15:DW29)/COUNT(DU15:DU29),1),\"\"),\"\")","v":""},{"$f":"IF(SUM(EC15:EC29)>0,SUM(EC15:EC29),\"\")","v":""},null,null,"Session RPE:",null,"Session Duration:",{"$nulls":4},"Session Score:",{"$nulls":3},{"$f":"IFERROR(IF(SUBSTITUTE(EG30,\"RPE \",\"\")*EJ30, CONCATENATE(SUBSTITUTE(EG30,\"RPE \",\"\")*EJ30, \" AU\"),0),0)","v":0},null,"Daily Totals:",{"$f":"IF(SUM(ET15:ET29)<1,\"\",SUM(ET15:ET29))","v":""},{"$f":"IFERROR(IF(SUM(EP15:EP29)/COUNT(EN15:EN29), ROUND(SUM(EP15:EP29)/COUNT(EN15:EN29),1),\"\"),\"\")","v":""},{"$f":"IF(SUM(EV15:EV29)>0,SUM(EV15:EV29),\"\")","v":""},null,null,"Session RPE:",null,"Session Duration:",{"$nulls":4},"Session Score:",{"$nulls":3},{"$f":"IFERROR(IF(SUBSTITUTE(EZ30,\"RPE \",\"\")*FC30, CONCATENATE(SUBSTITUTE(EZ30,\"RPE \",\"\")*FC30, \" AU\"),0),0)","v":0},null,"Daily Totals:",{"$f":"IF(SUM(FM15:FM29)<1,\"\",SUM(FM15:FM29))","v":""},{"$f":"IFERROR(IF(SUM(FI15:FI29)/COUNT(FG15:FG29), ROUND(SUM(FI15:FI29)/COUNT(FG15:FG29),1),\"\"),\"\")","v":""},{"$f":"IF(SUM(FO15:FO29)>0,SUM(FO15:FO29),\"\")","v":""},null,null,"Session RPE:",null,"Session Duration:",{"$nulls":4},"Session Score:",{"$nulls":3},{"$f":"IFERROR(IF(SUBSTITUTE(FS30,\"RPE \",\"\")*FV30, CONCATENATE(SUBSTITUTE(FS30,\"RPE \",\"\")*FV30, \" AU\"),0),0)","v":0},null,"Daily Totals:",{"$f":"IF(SUM(GF15:GF29)<1,\"\",SUM(GF15:GF29))","v":""},{"$f":"IFERROR(IF(SUM(GB15:GB29)/COUNT(FZ15:FZ29), ROUND(SUM(GB15:GB29)/COUNT(FZ15:FZ29),1),\"\"),\"\")","v":""},{"$f":"IF(SUM(GH15:GH29)>0,SUM(GH15:GH29),\"\")","v":""},null,null,"Session RPE:",null,"Session Duration:",{"$nulls":4},"Session Score:",{"$nulls":3},{"$f":"IFERROR(IF(SUBSTITUTE(GL30,\"RPE \",\"\")*GO30, CONCATENATE(SUBSTITUTE(GL30,\"RPE \",\"\")*GO30, \" AU\"),0),0)","v":0},null,"Daily Totals:",{"$f":"IF(SUM(GY15:GY29)<1,\"\",SUM(GY15:GY29))","v":""},{"$f":"IFERROR(IF(SUM(GU15:GU29)/COUNT(GS15:GS29), ROUND(SUM(GU15:GU29)/COUNT(GS15:GS29),1),\"\"),\"\")","v":""},{"$f":"IF(SUM(HA15:HA29)>0,SUM(HA15:HA29),\"\")","v":""}]
[null,"Day","Type","Exercise",null,null,"Sets","Duration",null,"Rest","Objective Score",null,null,"Feedback",null,null,"Exercise\nTonnage","Absolute\nIntensity",null,null,"Day","Type","Exercise",null,null,"Sets","Duration",null,"Rest","Objective Score",null,null,"Feedback",null,null,"Exercise\nTonnage","Absolute\nIntensity",null,null,"Day","Type","Exercise",null,null,"Sets","Duration",null,"Rest","Objective Score",null,null,"Feedback",null,null,"Exercise\nTonnage","Absolute\nIntensity",null,null,"Day","Type","Exercise",null,null,"Sets","Duration",null,"Rest","Objective Score",null,null,"Feedback",null,null,"Exercise\nTonnage","Absolute\nIntensity",null,null,"Day","Type","Exercise",null,null,"Sets","Duration",null,"Rest","Objective Score",null,null,"Feedback",null,null,"Exercise\nTonnage","Absolute\nIntensity",null,null,"Day","Type","Exercise",null,null,"Sets","Duration",null,"Rest","Objective Score",null,null,"Feedback",null,null,"Exercise\nTonnage","Absolute\nIntensity",null,null,"Day","Type","Exercise",null,null,"Sets","Duration",null,"Rest","Objective Score",null,null,"Feedback",null,null,"Exercise\nTonnage","Absolute\nIntensity",null,null,"Day","Weightlifting\n Movement","Cluster Type","Exercise","Tempo","Sets","Reps","Weight","Rest","Score",null,null,"Feedback",null,null,"Exercise Tonnage",{"$nulls":3},"Day","Weightlifting\n Movement","Cluster Type","Exercise","Tempo","Sets","Reps","Weight","Rest","Score",null,null,"Feedback",null,null,"Exercise Tonnage",{"$nulls":3},"Day","Weightlifting\n Movement","Cluster Type","Exercise","Tempo","Sets","Reps","Weight","Rest","Score",null,null,"Feedback",null,null,"Exercise Tonnage","Average Intensity","Absolute Intensity",null,"Day","Weightlifting\n Movement","Cluster Type","Exercise","Tempo","Sets","Reps","Weight","Rest","Score",null,null,"Feedback",null,null,"Exercise Tonnage","Average Intensity","Absolute Intensity"]
[{"$nulls":10},"Sets","Duration","Weight",{"$nulls":16},"Sets","Duration","Weight",{"$nulls":16},"Sets","Duration","Weight",{"$nulls":16},"Sets","Duration","Weight",{"$nulls":16},"Sets","Duration","Weight",{"$nulls":16},"Sets","Duration","Weight",{"$nulls":16},"Sets","Duration","Weight",{"$nulls":16},"Sets","Reps","Weight",{"$nulls":16},"Sets","Reps","Weight",{"$nulls":16},"Sets","Reps","Weight",{"$nulls":16},"Sets","Reps","Weight"]
[null,"Biofeedback\nTest:","Double-Leg",{"$nulls":3},5,"30 - 45 Seconds",null,"90 - 120 Seconds",{"$nulls":6},{"$f":"IF(K33*L33*(M33)>0, K33*L33*(M33), \"\")","v":""},{"$f":"IF(MAX(M33:M37) > 0, MAX(M33:M37), \"\")","v":""},null,null,"Biofeedback\nTest:","Double-Leg",{"$nulls":3},5,"30 - 45 Seconds",null,"90 - 120 Seconds",{"$nulls":6},{"$f":"IF(AD33*AE33*(AF33)>0, AD33*AE33*(AF33), \"\")","v":""},{"$f":"IF(MAX(AF33:AF37) > 0, MAX(AF33:AF37), \"\")","v":""},null,null,"Biofeedback\nTest:","Double-Leg",{"$nulls":3},5,"30 - 45 Seconds",null,"90 - 120 Seconds",{"$nulls":6},{"$f":"IF(AW33*AX33*(AY33)>0, AW33*AX33*(AY33), \"\")","v":""},{"$f":"IF(MAX(AY33:AY37) > 0, MAX(AY33:AY37), \"\")","v":""},null,null,"Biofeedback\nTest:","Double-Leg",{"$nulls":3},5,"30 - 45 Seconds",null,"90 - 120 Seconds",{"$nulls":6},{"$f":"IF(BP33*BQ33*(BR33+'Phase I'!$D$81)>0, BP33*BQ33*(BR33+'Phase I'!$D$81), \"\")","v":""},{"$f":"IF(MAX(BR33:BR37) > 0, MAX(BR33:BR37), \"\")","v":""},null,null,"Biofeedback\nTest:","Double-Leg",{"$nulls":3},5,"30 - 45 Seconds",null,"90 - 120 Seconds",{"$nulls":6},{"$f":"IF(CI33*CJ33*(CK33)>0, CI33*CJ33*(CK33), \"\")","v":""},{"$f":"IF(MAX(CK33:CK37) > 0, MAX(CK33:CK37), \"\")","v":""},null,null,"Biofeedback\nTest:","Double-Leg",{"$nulls":3},5,"30 - 45 Seconds",null,"90 - 120 Seconds",{"$nulls":6},{"$f":"IF(DB33*DC33*(DD33)>0, DB33*DC33*(DD33), \"\")","v":""},{"$f":"IF(MAX(DD33:DD37) > 0, MAX(DD33:DD37), \"\")","v":""},null,null,"Biofeedback\nTest:","Double-Leg",{"$nulls":3},5,"30 - 45 Seconds",null,"90 - 120 Seconds",{"$nulls":6},{"$f":"IF(DU33*DV33*(DW33)>0, DU33*DV33*(DW33), \"\")","v":""},{"$f":"IF(MAX(DW33:DW37) > 0, MAX(DW33:DW37), \"\")","v":""},null,null,"Biofeedback\nTest:","Snatch",{"$nulls":13},{"$f":"IF(EN33*EO33*EP33<1, \"\", EN33*EO33*EP33)","v":""},{"$f":"IFERROR(IF(SUM(EP33:EP37)/COUNT(EN33:EN37), ROUND(SUM(EP33:EP37)/COUNT(EN33:EN37),1), \"\"),\"\")","v":""},{"$f":"IF(MAX(EP33:EP37),MAX(EP33:EP37),\"\")","v":""},null,"Biofeedback\nTest:","Snatch",{"$nulls":13},{"$f":"IF(FG33*FH33*FI33<1, \"\", FG33*FH33*FI33)","v":""},{"$f":"IFERROR(IF(SUM(FI33:FI37)/COUNT(FG33:FG37), ROUND(SUM(FI33:FI37)/COUNT(FG33:FG37),1), \"\"),\"\")","v":""},{"$f":"IF(MAX(FI33:FI37),MAX(FI33:FI37),\"\")","v":""},null,"Biofeedback\nTest:","Jerk",{"$nulls":13},{"$f":"IF(FZ33*GA33*GB33<1, \"\", FZ33*GA33*GB33)","v":""},{"$f":"IFERROR(IF(SUM(GB33:GB37)/COUNT(FZ33:FZ37), ROUND(SUM(GB33:GB37)/COUNT(FZ33:FZ37),1), \"\"),\"\")","v":""},{"$f":"IF(MAX(GB33:GB37),MAX(GB33:GB37),\"\")","v":""},null,"Biofeedback\nTest:","Jerk",{"$nulls":13},{"$f":"IF(GS33*GT33*GU33<1, \"\", GS33*GT33*GU33)","v":""},{"$f":"IFERROR(IF(SUM(GU33:GU37)/COUNT(GS33:GS37), ROUND(SUM(GU33:GU37)/COUNT(GS33:GS37),1), \"\"),\"\")","v":""},{"$f":"IF(MAX(GU33:GU37),MAX(GU33:GU37),\"\")","v":""}]
[{"$nulls":6},5,"30 - 45 Seconds",null,"90 - 120 Seconds",{"$nulls":6},{"$f":"IF(K34*L34*(M34)>0, K34*L34*(M34), \"\")","v":""},{"$nulls":8},5,"30 - 45 Seconds",null,"90 - 120 Seconds",{"$nulls":6},{"$f":"IF(AD34*AE34*(AF34)>0, AD34*AE34*(AF34), \"\")","v":""},{"$nulls":8},5,"30 - 45 Seconds",null,"90 - 120 Seconds",{"$nulls":6},{"$f":"IF(AW34*AX34*(AY34)>0, AW34*AX34*(AY34), \"\")","v":""},{"$nulls":8},5,"30 - 45 Seconds",null,"90 - 120 Seconds",{"$nulls":6},{"$f":"IF(BP34*BQ34*(BR34+'Phase I'!$D$81)>0, BP34*BQ34*(BR34+'Phase I'!$D$81), \"\")","v":""},{"$nulls":8},5,"30 - 45 Seconds",null,"90 - 120 Seconds",{"$nulls":6},{"$f":"IF(CI34*CJ34*(CK34)>0, CI34*CJ34*(CK34), \"\")","v":""},{"$nulls":8},5,"30 - 45 Seconds",null,"90 - 120 Seconds",{"$nulls":6},{"$f":"IF(DB34*DC34*(DD34)>0, DB34*DC34*(DD34), \"\")","v":""},{"$nulls":8},5,"30 - 45 Seconds",null,"90 - 120 Seconds",{"$nulls":6},{"$f":"IF(DU34*DV34*(DW34)>0, DU34*DV34*(DW34), \"\")","v":""},{"$nulls":18},{"$f":"IF(EN34*EO34*EP34<1, \"\", EN34*EO34*EP34)","v":""},{"$nulls":18},{"$f":"IF(FG34*FH34*FI34<1, \"\", FG34*FH34*FI34)","v":""},{"$nulls":18},{"$f":"IF(FZ34*GA34*GB34<1, \"\", FZ34*GA34*GB34)","v":""},{"$nulls":18},{"$f":"IF(GS34*GT34*GU34<1, \"\", GS34*GT34*GU34)","v":""}]
[{"$nulls":6},5,"31 - 45 Seconds",null,"91 - 120 Seconds",{"$nulls":6},"",{"$nulls":8},5,"31 - 45 Seconds",null,"91 - 120 Seconds",{"$nulls":6},"",{"$nulls":8},5,"31 - 45 Seconds",null,"91 - 120 Seconds",{"$nulls":6},"",{"$nulls":8},5,"31 - 45 Seconds",null,"91 - 120 Seconds",{"$nulls":6},{"$f":"IF(BP35*BQ35*(BR35+'Phase I'!$D$81)>0, BP35*BQ35*(BR35+'Phase I'!$D$81), \"\")","v":""},{"$nulls":8},5,"31 - 45 Seconds",null,"91 - 120 Seconds",{"$nulls":6},"",{"$nulls":8},5,"31 - 45 Seconds",null,"91 - 120 Seconds",{"$nulls":6},"",{"$nulls":8},5,"31 - 45 Seconds",null,"91 - 120 Seconds",{"$nulls":6},"",{"$nulls":18},"",{"$nulls":18},"",{"$nulls":18},"",{"$nulls":18},""]
[{"$nulls":6},5,"32 - 45 Seconds",null,"92 - 120 Seconds",{"$nulls":6},"",{"$nulls":8},5,"32 - 45 Seconds",null,"92 - 120 Seconds",{"$nulls":6},"",{"$nulls":8},5,"32 - 45 Seconds",null,"92 - 120 Seconds",{"$nulls":6},"",{"$nulls":8},5,"32 - 45 Seconds",null,"92 - 120 Seconds",{"$nulls":6},{"$f":"IF(BP36*BQ36*(BR36+'Phase I'!$D$81)>0, BP36*BQ36*(BR36+'Phase I'!$D$81), \"\")","v":""},{"$nulls":8},5,"32 - 45 Seconds",null,"92 - 120 Seconds",{"$nulls":6},"",{"$nulls":8},5,"32 - 45 Seconds",null,"92 - 120 Seconds",{"$nulls":6},"",{"$nulls":8},5,"32 - 45 Seconds",null,"92 - 120 Seconds",{"$nulls":6},"",{"$nulls":18},"",{"$nulls":18},"",{"$nulls":18},"",{"$nulls":18},""]
[{"$nulls":6},5,"33 - 45 Seconds",null,"93 - 120 Seconds",{"$nulls":6},"",{"$nulls":8},5,"33 - 45 Seconds",null,"93 - 120 Seconds",{"$nulls":6},"",{"$nulls":8},5,"33 - 45 Seconds",null,"93 - 120 Seconds",{"$nulls":6},"",{"$nulls":8},5,"33 - 45 Seconds",null,"93 - 120 Seconds",{"$nulls":6},{"$f":"IF(BP37*BQ37*(BR37+'Phase I'!$D$81)>0, BP37*BQ37*(BR37+'Phase I'!$D$81), \"\")","v":""},{"$nulls":8},5,"33 - 45 Seconds",null,"93 - 120 Seconds",{"$nulls":6},"",{"$nulls":8},5,"33 - 45 Seconds",null,"93 - 120 Seconds",{"$nulls":6},"",{"$nulls":8},5,"33 - 45 Seconds",null,"93 - 120 Seconds",{"$nulls":6},"",{"$nulls":18},"",{"$nulls":18},"",{"$nulls":18},"",{"$nulls":18},""]
[null,"Day 2\nOptional Rest","Single-Leg",{"$nulls":3},5,"34 - 45 Seconds",null,"94 - 120 Seconds",{"$nulls":6},"",{"$f":"IF(MAX(M38:M42) > 0, MAX(M38:M42), \"\")","v":""},null,null,"Day 2\nOptional Rest","Single-Leg",{"$nulls":3},5,"34 - 45 Seconds",null,"94 - 120 Seconds",{"$nulls":6},"",{"$f":"IF(MAX(AF38:AF42) > 0, MAX(AF38:AF42), \"\")","v":""},null,null,"Day 2\nOptional Rest","Single-Leg",{"$nulls":3},5,"34 - 45 Seconds",null,"94 - 120 Seconds",{"$nulls":6},"",{"$f":"IF(MAX(AY38:AY42) > 0, MAX(AY38:AY42), \"\")","v":""},null,null,"Day 2\nOptional Rest","Single-Leg",{"$nulls":3},5,"34 - 45 Seconds",null,"94 - 120 Seconds",{"$nulls":6},{"$f":"IF(BI38 = \"Knee Extension (60º Degrees)\", IF(BP38*BQ38*BR38>0,BP38*BQ38*BR38,\"\"), IF(BP38*BQ38*BR38>0,BP38*BQ38*('Phase I'!$D$81 + BR38),\"\"))","v":""},{"$f":"IF(MAX(BR38:BR42) > 0, MAX(BR38:BR42), \"\")","v":""},null,null,"Day 2\nOptional Rest","Single-Leg",{"$nulls":3},5,"34 - 45 Seconds",null,"94 - 120 Seconds",{"$nulls":6},"",{"$f":"IF(MAX(CK38:CK42) > 0, MAX(CK38:CK42), \"\")","v":""},null,null,"Day 2\nOptional Rest","Single-Leg",{"$nulls":3},5,"34 - 45 Seconds",null,"94 - 120 Seconds",{"$nulls":6},"",{"$f":"IF(MAX(DD38:DD42) > 0, MAX(DD38:DD42), \"\")","v":""},null,null,"Day 2\nOptional Rest","Single-Leg",{"$nulls":3},5,"34 - 45 Seconds",null,"94 - 120 Seconds",{"$nulls":6},"",{"$f":"IF(MAX(DW38:DW42) > 0, MAX(DW38:DW42), \"\")","v":""},null,null,"Day 2\nDynamics","Jerk",{"$nulls":13},"",{"$f":"IFERROR(IF(SUM(EP38:EP42)/COUNT(EN38:EN42), ROUND(SUM(EP38:EP42)/COUNT(EN38:EN42),1), \"\"),\"\")","v":""},{"$f":"IF(MAX(EP38:EP42),MAX(EP38:EP42),\"\")","v":""},null,"Day 2\nDynamics","Clean",{"$nulls":13},"",{"$f":"IFERROR(IF(SUM(FI38:FI42)/COUNT(FG38:FG42), ROUND(SUM(FI38:FI42)/COUNT(FG38:FG42),1), \"\"),\"\")","v":""},{"$f":"IF(MAX(FI38:FI42),MAX(FI38:FI42),\"\")","v":""},null,"Day 2\nDynamics","Jerk",{"$nulls":13},"",{"$f":"IFERROR(IF(SUM(GB38:GB42)/COUNT(FZ38:FZ42), ROUND(SUM(GB38:GB42)/COUNT(FZ38:FZ42),1), \"\"),\"\")","v":""},{"$f":"IF(MAX(GB38:GB42),MAX(GB38:GB42),\"\")","v":""},null,"Day 2\nDynamics","Jerk",{"$nulls":13},"",{"$f":"IFERROR(IF(SUM(GU38:GU42)/COUNT(GS38:GS42), ROUND(SUM(GU38:GU42)/COUNT(GS38:GS42),1), \"\"),\"\")","v":""},{"$f":"IF(MAX(GU38:GU42),MAX(GU38:GU42),\"\")","v":""}]
[{"$nulls":6},5,"35 - 45 Seconds",null,"95 - 120 Seconds",{"$nulls":6},"",{"$nulls":8},5,"35 - 45 Seconds",null,"95 - 120 Seconds",{"$nulls":6},"",{"$nulls":8},5,"35 - 45 Seconds",null,"95 - 120 Seconds",{"$nulls":6},"",{"$nulls":8},5,"35 - 45 Seconds",null,"95 - 120 Seconds",{"$nulls":6},{"$f":"IF(BI39 = \"Knee Extension (60º Degrees)\", IF(BP39*BQ39*BR39>0,BP39*BQ39*BR39,\"\"), IF(BP39*BQ39*BR39>0,BP39*BQ39*('Phase I'!$D$81 + BR39),\"\"))","v":""},{"$nulls":8},5,"35 - 45 Seconds",null,"95 - 120 Seconds",{"$nulls":6},"",{"$nulls":8},5,"35 - 45 Seconds",null,"95 - 120 Seconds",{"$nulls":6},"",{"$nulls":8},5,"35 - 45 Seconds",null,"95 - 120 Seconds",{"$nulls":6},"",{"$nulls":18},"",{"$nulls":18},"",{"$nulls":18},"",{"$nulls":18},""]
[{"$nulls":6},5,"36 - 45 Seconds",null,"96 - 120 Seconds",{"$nulls":6},"",{"$nulls":8},5,"36 - 45 Seconds",null,"96 - 120 Seconds",{"$nulls":6},"",{"$nulls":8},5,"36 - 45 Seconds",null,"96 - 120 Seconds",{"$nulls":6},"",{"$nulls":8},5,"36 - 45 Seconds",null,"96 - 120 Seconds",{"$nulls":6},{"$f":"IF(BI40 = \"Knee Extension (60º Degrees)\", IF(BP40*BQ40*BR40>0,BP40*BQ40*BR40,\"\"), IF(BP40*BQ40*BR40>0,BP40*BQ40*('Phase I'!$D$81 + BR40),\"\"))","v":""},{"$nulls":8},5,"36 - 45 Seconds",null,"96 - 120 Seconds",{"$nulls":6},"",{"$nulls":8},5,"36 - 45 Seconds",null,"96 - 120 Seconds",{"$nulls":6},"",{"$nulls":8},5,"36 - 45 Seconds",null,"96 - 120 Seconds",{"$nulls":6},"",{"$nulls":18},"",{"$nulls":18},"",{"$nulls":18},"",{"$nulls":18},""]
[{"$nulls":6},5,"37 - 45 Seconds",null,"97 - 120 Seconds",{"$nulls":6},"",{"$nulls":8},5,"37 - 45 Seconds",null,"97 - 120 Seconds",{"$nulls":6},"",{"$nulls":8},5,"37 - 45 Seconds",null,"97 - 120 Seconds",{"$nulls":6},"",{"$nulls":8},5,"37 - 45 Seconds",null,"97 - 120 Seconds",{"$nulls":6},{"$f":"IF(BI41 = \"Knee Extension (60º Degrees)\", IF(BP41*BQ41*BR41>0,BP41*BQ41*BR41,\"\"), IF(BP41*BQ41*BR41>0,BP41*BQ41*('Phase I'!$D$81 + BR41),\"\"))","v":""},{"$nulls":8},5,"37 - 45 Seconds",null,"97 - 120 Seconds",{"$nulls":6},"",{"$nulls":8},5,"37 - 45 Seconds",null,"97 - 120 Seconds",{"$nulls":6},"",{"$nulls":8},5,"37 - 45 Seconds",null,"97 - 120 Seconds",{"$nulls":6},"",{"$nulls":18},"",{"$nulls":18},"",{"$nulls":18},"",{"$nulls":18},""]
[{"$nulls":6},5,"30 - 45 Seconds",null,"90 - 120 Seconds",{"$nulls":6},"",{"$nulls":8},5,"30 - 45 Seconds",null,"90 - 120 Seconds",{"$nulls":6},"",{"$nulls":8},5,"30 - 45 Seconds",null,"90 - 120 Seconds",{"$nulls":6},"",{"$nulls":8},5,"30 - 45 Seconds",null,"90 - 120 Seconds",{"$nulls":6},{"$f":"IF(BI42 = \"Knee Extension (60º Degrees)\", IF(BP42*BQ42*BR42>0,BP42*BQ42*BR42,\"\"), IF(BP42*BQ42*BR42>0,BP42*BQ42*('Phase I'!$D$81 + BR42),\"\"))","v":""},{"$nulls":8},5,"30 - 45 Seconds",null,"90 - 120 Seconds",{"$nulls":6},"",{"$nulls":8},5,"30 - 45 Seconds",null,"90 - 120 Seconds",{"$nulls":6},"",{"$nulls":8},5,"30 - 45 Seconds",null,"90 - 120 Seconds",{"$nulls":6},"",{"$nulls":18},"",{"$nulls":18},"",{"$nulls":18},"",{"$nulls":18},""]
[null,null,"Single-Leg",{"$nulls":3},5,"34 - 45 Seconds",null,"94 - 120 Seconds",{"$nulls":6},"",{"$f":"IF(MAX(M43:M47) > 0, MAX(M43:M47), \"\")","v":""},{"$nulls":3},"Single-Leg",{"$nulls":3},5,"34 - 45 Seconds",null,"94 - 120 Seconds",{"$nulls":6},"",{"$f":"IF(MAX(AF43:AF47) > 0, MAX(AF43:AF47), \"\")","v":""},{"$nulls":3},"Single-Leg",{"$nulls":3},5,"34 - 45 Seconds",null,"94 - 120 Seconds",{"$nulls":6},"",{"$f":"IF(MAX(AY43:AY47) > 0, MAX(AY43:AY47), \"\")","v":""},{"$nulls":3},"Single-Leg",{"$nulls":3},5,"34 - 45 Seconds",null,"94 - 120 Seconds",{"$nulls":6},{"$f":"IF(BI43 = \"Knee Extension (60º Degrees)\", IF(BP43*BQ43*BR43>0,BP43*BQ43*BR43,\"\"), IF(BP43*BQ43*BR43>0,BP43*BQ43*('Phase I'!$D$81 + BR43),\"\"))","v":""},{"$f":"IF(MAX(BR43:BR47) > 0, MAX(BR43:BR47), \"\")","v":""},{"$nulls":3},"Single-Leg",{"$nulls":3},5,"34 - 45 Seconds",null,"94 - 120 Seconds",{"$nulls":6},"",{"$f":"IF(MAX(CK43:CK47) > 0, MAX(CK43:CK47), \"\")","v":""},{"$nulls":3},"Single-Leg",{"$nulls":3},5,"34 - 45 Seconds",null,"94 - 120 Seconds",{"$nulls":6},"",{"$f":"IF(MAX(DD43:DD47) > 0, MAX(DD43:DD47), \"\")","v":""},{"$nulls":3},"Single-Leg",{"$nulls":3},5,"34 - 45 Seconds",null,"94 - 120 Seconds",{"$nulls":6},"",{"$f":"IF(MAX(DW43:DW47) > 0, MAX(DW43:DW47), \"\")","v":""},{"$nulls":3},"Clean",{"$nulls":13},"",{"$f":"IFERROR(IF(SUM(EP43:EP47)/COUNT(EN43:EN47), ROUND(SUM(EP43:EP47)/COUNT(EN43:EN47),1), \"\"),\"\")","v":""},{"$f":"IF(MAX(EP43:EP47),MAX(EP43:EP47),\"\")","v":""},null,null,"Clean",{"$nulls":13},"",{"$f":"IFERROR(IF(SUM(FI43:FI47)/COUNT(FG43:FG47), ROUND(SUM(FI43:FI47)/COUNT(FG43:FG47),1), \"\"),\"\")","v":""},{"$f":"IF(MAX(FI43:FI47),MAX(FI43:FI47),\"\")","v":""},null,null,"Clean",{"$nulls":13},"",{"$f":"IFERROR(IF(SUM(GB43:GB47)/COUNT(FZ43:FZ47), ROUND(SUM(GB43:GB47)/COUNT(FZ43:FZ47),1), \"\"),\"\")","v":""},{"$f":"IF(MAX(GB43:GB47),MAX(GB43:GB47),\"\")","v":""},null,null,"Clean",{"$nulls":13},"",{"$f":"IFERROR(IF(SUM(GU43:GU47)/COUNT(GS43:GS47), ROUND(SUM(GU43:GU47)/COUNT(GS43:GS47),1), \"\"),\"\")","v":""},{"$f":"IF(MAX(GU43:GU47),MAX(GU43:GU47),\"\")","v":""}]
[{"$nulls":6},5,"35 - 45 Seconds",null,"95 - 120 Seconds",{"$nulls":6},"",{"$nulls":8},5,"35 - 45 Seconds",null,"95 - 120 Seconds",{"$nulls":6},"",{"$nulls":8},5,"35 - 45 Seconds",null,"95 - 120 Seconds",{"$nulls":6},"",{"$nulls":8},5,"35 - 45 Seconds",null,"95 - 120 Seconds",{"$nulls":6},{"$f":"IF(BI44 = \"Knee Extension (60º Degrees)\", IF(BP44*BQ44*BR44>0,BP44*BQ44*BR44,\"\"), IF(BP44*BQ44*BR44>0,BP44*BQ44*('Phase I'!$D$81 + BR44),\"\"))","v":""},{"$nulls":8},5,"35 - 45 Seconds",null,"95 - 120 Seconds",{"$nulls":6},"",{"$nulls":8},5,"35 - 45 Seconds",null,"95 - 120 Seconds",{"$nulls":6},"",{"$nulls":8},5,"35 - 45 Seconds",null,"95 - 120 Seconds",{"$nulls":6},"",{"$nulls":18},"",{"$nulls":18},"",{"$nulls":18},"",{"$nulls":18},""]
[{"$nulls":6},5,"36 - 45 Seconds",null,"96 - 120 Seconds",{"$nulls":6},"",{"$nulls":8},5,"36 - 45 Seconds",null,"96 - 120 Seconds",{"$nulls":6},"",{"$nulls":8},5,"36 - 45 Seconds",null,"96 - 120 Seconds",{"$nulls":6},"",{"$nulls":8},5,"36 - 45 Seconds",null,"96 - 120 Seconds",{"$nulls":6},{"$f":"IF(BI45 = \"Knee Extension (60º Degrees)\", IF(BP45*BQ45*BR45>0,BP45*BQ45*BR45,\"\"), IF(BP45*BQ45*BR45>0,BP45*BQ45*('Phase I'!$D$81 + BR45),\"\"))","v":""},{"$nulls":8},5,"36 - 45 Seconds",null,"96 - 120 Seconds",{"$nulls":6},"",{"$nulls":8},5,"36 - 45 Seconds",null,"96 - 120 Seconds",{"$nulls":6},"",{"$nulls":8},5,"36 - 45 Seconds",null,"96 - 120 Seconds",{"$nulls":6},"",{"$nulls":18},"",{"$nulls":18},"",{"$nulls":18},"",{"$nulls":18},""]
[{"$nulls":6},5,"37 - 45 Seconds",null,"97 - 120 Seconds",{"$nulls":6},"",{"$nulls":8},5,"37 - 45 Seconds",null,"97 - 120 Seconds",{"$nulls":6},"",{"$nulls":8},5,"37 - 45 Seconds",null,"97 - 120 Seconds",{"$nulls":6},"",{"$nulls":8},5,"37 - 45 Seconds",null,"97 - 120 Seconds",{"$nulls":6},{"$f":"IF(BI46 = \"Knee Extension (60º Degrees)\", IF(BP46*BQ46*BR46>0,BP46*BQ46*BR46,\"\"), IF(BP46*BQ46*BR46>0,BP46*BQ46*('Phase I'!$D$81 + BR46),\"\"))","v":""},{"$nulls":8},5,"37 - 45 Seconds",null,"97 - 120 Seconds",{"$nulls":6},"",{"$nulls":8},5,"37 - 45 Seconds",null,"97 - 120 Seconds",{"$nulls":6},"",{"$nulls":8},5,"37 - 45 Seconds",null,"97 - 120 Seconds",{"$nulls":6},"",{"$nulls":18},"",{"$nulls":18},"",{"$nulls":18},"",{"$nulls":18},""]
[{"$nulls":6},5,"30 - 45 Seconds",null,"90 - 120 Seconds",{"$nulls":6},"",{"$nulls":8},5,"30 - 45 Seconds",null,"90 - 120 Seconds",{"$nulls":6},"",{"$nulls":8},5,"30 - 45 Seconds",null,"90 - 120 Seconds",{"$nulls":6},"",{"$nulls":8},5,"30 - 45 Seconds",null,"90 - 120 Seconds",{"$nulls":6},{"$f":"IF(BI47 = \"Knee Extension (60º Degrees)\", IF(BP47*BQ47*BR47>0,BP47*BQ47*BR47,\"\"), IF(BP47*BQ47*BR47>0,BP47*BQ47*('Phase I'!$D$81 + BR47),\"\"))","v":""},{"$nulls":8},5,"30 - 45 Seconds",null,"90 - 120 Seconds",{"$nulls":6},"",{"$nulls":8},5,"30 - 45 Seconds",null,"90 - 120 Seconds",{"$nulls":6},"",{"$nulls":8},5,"30 - 45 Seconds",null,"90 - 120 Seconds",{"$nulls":6},"",{"$nulls":18},"",{"$nulls":18},"",{"$nulls":18},"",{"$nulls":18},""]
[null,null,"Session RPE:",null,"Session Duration:",{"$nulls":4},"Session Score:",{"$nulls":3},{"$f":"IFERROR(IF(SUBSTITUTE(D48,\"RPE \",\"\")*G48, CONCATENATE(SUBSTITUTE(D48,\"RPE \",\"\")*G48, \" AU\"),0),0)","v":0},null,"Daily Totals:",{"$f":"IF(SUM(Q33:Q47)>0, SUM(Q33:Q47), \"\")","v":""},{"$f":"IF(MAX(R33:R47), MAX(R33:R47), \"\")","v":""},{"$nulls":3},"Session RPE:",null,"Session Duration:",{"$nulls":4},"Session Score:",{"$nulls":3},{"$f":"IFERROR(IF(SUBSTITUTE(W48,\"RPE \",\"\")*Z48, CONCATENATE(SUBSTITUTE(W48,\"RPE \",\"\")*Z48, \" AU\"),0),0)","v":0},null,"Daily Totals:",{"$f":"IF(SUM(AJ33:AJ47)>0, SUM(AJ33:AJ47), \"\")","v":""},{"$f":"IF(MAX(AK33:AK47), MAX(AK33:AK47), \"\")","v":""},{"$nulls":3},"Session RPE:",null,"Session Duration:",{"$nulls":4},"Session Score:",{"$nulls":3},{"$f":"IFERROR(IF(SUBSTITUTE(AP48,\"RPE \",\"\")*AS48, CONCATENATE(SUBSTITUTE(AP48,\"RPE \",\"\")*AS48, \" AU\"),0),0)","v":0},null,"Daily Totals:",{"$f":"IF(SUM(BC33:BC47)>0, SUM(BC33:BC47), \"\")","v":""},{"$f":"IF(MAX(BD33:BD47), MAX(BD33:BD47), \"\")","v":""},{"$nulls":3},"Session RPE:",null,"Session Duration:",{"$nulls":4},"Session Score:",{"$nulls":3},{"$f":"IFERROR(IF(SUBSTITUTE(BI48,\"RPE \",\"\")*BL48, CONCATENATE(SUBSTITUTE(BI48,\"RPE \",\"\")*BL48, \" AU\"),0),0)","v":0},null,"Daily Totals:",{"$f":"IF(SUM(BV33:BV47)>0, SUM(BV33:BV47), \"\")","v":""},{"$f":"IF(MAX(BW33:BW47), MAX(BW33:BW47), \"\")","v":""},{"$nulls":3},"Session RPE:",null,"Session Duration:",{"$nulls":4},"Session Score:",{"$nulls":3},{"$f":"IFERROR(IF(SUBSTITUTE(CB48,\"RPE \",\"\")*CE48, CONCATENATE(SUBSTITUTE(CB48,\"RPE \",\"\")*CE48, \" AU\"),0),0)","v":0},null,"Daily Totals:",{"$f":"IF(SUM(CO33:CO47)>0, SUM(CO33:CO47), \"\")","v":""},{"$f":"IF(MAX(CP33:CP47), MAX(CP33:CP47), \"\")","v":""},{"$nulls":3},"Session RPE:",null,"Session Duration:",{"$nulls":4},"Session Score:",{"$nulls":3},{"$f":"IFERROR(IF(SUBSTITUTE(CU48,\"RPE \",\"\")*CX48, CONCATENATE(SUBSTITUTE(CU48,\"RPE \",\"\")*CX48, \" AU\"),0),0)","v":0},null,"Daily Totals:",{"$f":"IF(SUM(DH33:DH47)>0, SUM(DH33:DH47), \"\")","v":""},{"$f":"IF(MAX(DI33:DI47), MAX(DI33:DI47), \"\")","v":""},{"$nulls":3},"Session RPE:",null,"Session Duration:",{"$nulls":4},"Session Score:",{"$nulls":3},{"$f":"IFERROR(IF(SUBSTITUTE(DN48,\"RPE \",\"\")*DQ48, CONCATENATE(SUBSTITUTE(DN48,\"RPE \",\"\")*DQ48, \" AU\"),0),0)","v":0},null,"Daily Totals:",{"$f":"IF(SUM(EA33:EA47)>0, SUM(EA33:EA47), \"\")","v":""},{"$f":"IF(MAX(EB33:EB47), MAX(EB33:EB47), \"\")","v":""},{"$nulls":3},"Session RPE:",null,"Session Duration:",60,{"$nulls":3},"Session Score:",{"$nulls":3},{"$f":"IFERROR(IF(SUBSTITUTE(EG48,\"RPE \",\"\")*EJ48, CONCATENATE(SUBSTITUTE(EG48,\"RPE \",\"\")*EJ48, \" AU\"),0),0)","v":0},null,"Daily Totals:",{"$f":"IF(SUM(ET33:ET47)<1,\"\",CONCATENATE(SUM(ET33:ET47),\" Pounds\"))","v":""},{"$f":"IFERROR(IF(SUM(EN33:EN47), CONCATENATE(ROUND(SUM(EP33:EP47)/SUM(EN33:EN47),1), \" Pounds/Set\"),\"\"),\"\")","v":""},{"$f":"IF(MAX(EV33:EV47)>0,CONCATENATE(MAX(EV33:EV47),\" Pounds\"),\"\")","v":""},null,null,"Session RPE:",null,"Session Duration:",{"$nulls":4},"Session Score:",{"$nulls":3},{"$f":"IFERROR(IF(SUBSTITUTE(EZ48,\"RPE \",\"\")*FC48, CONCATENATE(SUBSTITUTE(EZ48,\"RPE \",\"\")*FC48, \" AU\"),0),0)","v":0},null,"Daily Totals:",{"$f":"IF(SUM(FM33:FM47)<1,\"\",SUM(FM33:FM47))","v":""},{"$f":"IFERROR(IF(SUM(FI33:FI47)/COUNT(FG33:FG47), ROUND(SUM(FI33:FI47)/COUNT(FG33:FG47),1),\"\"),\"\")","v":""},{"$f":"IF(MAX(FO33:FO47)>0,MAX(FO33:FO47),\"\")","v":""},null,null,"Session RPE:",null,"Session Duration:",{"$nulls":4},"Session Score:",{"$nulls":3},{"$f":"IFERROR(IF(SUBSTITUTE(FS48,\"RPE \",\"\")*FV48, CONCATENATE(SUBSTITUTE(FS48,\"RPE \",\"\")*FV48, \" AU\"),0),0)","v":0},null,"Daily Totals:",{"$f":"IF(SUM(GF33:GF47)<1,\"\",SUM(GF33:GF47))","v":""},{"$f":"IFERROR(IF(SUM(GB33:GB47)/COUNT(FZ33:FZ47), ROUND(SUM(GB33:GB47)/COUNT(FZ33:FZ47),1),\"\"),\"\")","v":""},{"$f":"IF(MAX(GH33:GH47)>0,MAX(GH33:GH47),\"\")","v":""},null,null,"Session RPE:",null,"Session Duration:",{"$nulls":4},"Session Score:",{"$nulls":3},{"$f":"IFERROR(IF(SUBSTITUTE(GL48,\"RPE \",\"\")*GO48, CONCATENATE(SUBSTITUTE(GL48,\"RPE \",\"\")*GO48, \" AU\"),0),0)","v":0},null,"Daily Totals:",{"$f":"IF(SUM(GY33:GY47)<1,\"\",SUM(GY33:GY47))","v":""},{"$f":"IFERROR(IF(SUM(GU33:GU47)/COUNT(GS33:GS47), ROUND(SUM(GU33:GU47)/COUNT(GS33:GS47),1),\"\"),\"\")","v":""},{"$f":"IF(MAX(HA33:HA47)>0,MAX(HA33:HA47),\"\")","v":""}]
[null,"Day","Type","Isotonic Type","Exercise","Tempo","Sets","Reps","Weight","Rest","Score",null,null,"Feedback",null,null,"Exercise Tonnage","Average Intensity","Absolute Intensity",null,"Day","Type","Isotonic Type","Exercise","Tempo","Sets","Reps","Weight","Rest","Score",null,null,"Feedback",null,null,"Exercise Tonnage","Average Intensity","Absolute Intensity",null,"Day","Type","Isotonic Type","Exercise","Tempo","Sets","Reps","Weight","Rest","Score",null,null,"Feedback",null,null,"Exercise Tonnage","Average Intensity","Absolute Intensity",null,"Day","Type","Isotonic Type","Exercise","Tempo","Sets","Reps","Weight","Rest","Score",null,null,"Feedback",null,null,"Exercise Tonnage","Average Intensity","Absolute Intensity",null,"Day","Type","Isotonic Type","Exercise","Tempo","Sets","Reps","Weight","Rest","Score",null,null,"Feedback",null,null,"Exercise Tonnage","Average Intensity","Absolute Intensity",null,"Day","Type","Isotonic Type","Exercise","Tempo","Sets","Reps","Weight","Rest","Score",null,null,"Feedback",null,null,"Exercise Tonnage","Average Intensity","Absolute Intensity",null,"Day","Type","Isotonic Type","Exercise","Tempo","Sets","Reps","Weight","Rest","Score",null,null,"Feedback",null,null,"Exercise Tonnage","Average Intensity","Absolute Intensity",null,"Day","Type","Isotonic Type","Exercise","Tempo","Sets","Reps","Weight","Rest","Score",null,null,"Feedback",null,null,"Exercise Tonnage","Average Intensity","Absolute Intensity",null,"Day","Type","Isotonic Type","Exercise","Tempo","Sets","Reps","Weight","Rest","Score",null,null,"Feedback",null,null,"Exercise Tonnage","Average Intensity","Absolute Intensity",null,"Day","Type","Isotonic Type","Exercise","Tempo","Sets","Reps","Weight","Rest","Score",null,null,"Feedback",null,null,"Exercise Tonnage","Average Intensity","Absolute Intensity",null,"Day","Type","Isotonic Type","Exercise","Tempo","Sets","Reps","Weight","Rest","Score",null,null,"Feedback",null,null,"Exercise Tonnage","Average Intensity","Absolute Intensity"]
[{"$nulls":10},"Sets","Reps","Weight",{"$nulls":16},"Sets","Reps","Weight",{"$nulls":16},"Sets","Reps","Weight",{"$nulls":16},"Sets","Reps","Weight",{"$nulls":16},"Sets","Reps","Weight",{"$nulls":16},"Sets","Reps","Weight",{"$nulls":16},"Sets","Reps","Weight",{"$nulls":16},"Sets","Reps","Weight",{"$nulls":16},"Sets","Reps","Weight",{"$nulls":16},"Sets","Reps","Weight",{"$nulls":16},"Sets","Reps","Weight"]
[null,"Biofeedback\nTest:","Isotonic",{"$nulls":13},{"$f":"IF(SUMPRODUCT(K51:K55,L51:L55,M51:M55), SUMPRODUCT(K51:K55,L51:L55,M51:M55), \"\")","v":""},{"$f":"IFERROR(IF(SUM(M51:M55)/COUNT(K51:K55), ROUND(SUM(M51:M55)/COUNT(K51:K55),1), \"\"),\"\")","v":""},{"$f":"IF(MAX(M51:M55),MAX(M51:M55),\"\")","v":""},null,"Biofeedback\nTest:","Isotonic",{"$nulls":13},{"$f":"IF(SUMPRODUCT(AD51:AD55,AE51:AE55,AF51:AF55), SUMPRODUCT(AD51:AD55,AE51:AE55,AF51:AF55), \"\")","v":""},{"$f":"IFERROR(IF(SUM(AF51:AF55)/COUNT(AD51:AD55), ROUND(SUM(AF51:AF55)/COUNT(AD51:AD55),1), \"\"),\"\")","v":""},{"$f":"IF(MAX(AF51:AF55),MAX(AF51:AF55),\"\")","v":""},null,"Biofeedback\nTest:","Isotonic",{"$nulls":13},{"$f":"IF(SUMPRODUCT(AW51:AW55,AX51:AX55,AY51:AY55), SUMPRODUCT(AW51:AW55,AX51:AX55,AY51:AY55), \"\")","v":""},{"$f":"IFERROR(IF(SUM(AY51:AY55)/COUNT(AW51:AW55), ROUND(SUM(AY51:AY55)/COUNT(AW51:AW55),1), \"\"),\"\")","v":""},{"$f":"IF(MAX(AY51:AY55),MAX(AY51:AY55),\"\")","v":""},null,"Biofeedback\nTest:","Isotonic",{"$nulls":13},{"$f":"IF(SUMPRODUCT(BP51:BP55,BQ51:BQ55,BR51:BR55), SUMPRODUCT(BP51:BP55,BQ51:BQ55,BR51:BR55), \"\")","v":""},{"$f":"IFERROR(IF(SUM(BR51:BR55)/COUNT(BP51:BP55), ROUND(SUM(BR51:BR55)/COUNT(BP51:BP55),1), \"\"),\"\")","v":""},{"$f":"IF(MAX(BR51:BR55),MAX(BR51:BR55),\"\")","v":""},null,"Biofeedback\nTest:","Isotonic",{"$nulls":13},{"$f":"IF(SUMPRODUCT(CI51:CI55,CJ51:CJ55,CK51:CK55), SUMPRODUCT(CI51:CI55,CJ51:CJ55,CK51:CK55), \"\")","v":""},{"$f":"IFERROR(IF(SUM(CK51:CK55)/COUNT(CI51:CI55), ROUND(SUM(CK51:CK55)/COUNT(CI51:CI55),1), \"\"),\"\")","v":""},{"$f":"IF(MAX(CK51:CK55),MAX(CK51:CK55),\"\")","v":""},null,"Biofeedback\nTest:","Isotonic",{"$nulls":13},{"$f":"IF(SUMPRODUCT(DB51:DB55,DC51:DC55,DD51:DD55), SUMPRODUCT(DB51:DB55,DC51:DC55,DD51:DD55), \"\")","v":""},{"$f":"IFERROR(IF(SUM(DD51:DD55)/COUNT(DB51:DB55), ROUND(SUM(DD51:DD55)/COUNT(DB51:DB55),1), \"\"),\"\")","v":""},{"$f":"IF(MAX(DD51:DD55),MAX(DD51:DD55),\"\")","v":""},null,"Biofeedback\nTest:","Isotonic",{"$nulls":13},{"$f":"IF(SUMPRODUCT(DU51:DU55,DV51:DV55,DW51:DW55), SUMPRODUCT(DU51:DU55,DV51:DV55,DW51:DW55), \"\")","v":""},{"$f":"IFERROR(IF(SUM(DW51:DW55)/COUNT(DU51:DU55), ROUND(SUM(DW51:DW55)/COUNT(DU51:DU55),1), \"\"),\"\")","v":""},{"$f":"IF(MAX(DW51:DW55),MAX(DW51:DW55),\"\")","v":""},null,"Biofeedback\nTest:","Isotonic",{"$nulls":13},{"$f":"IF(SUMPRODUCT(EN51:EN55,EO51:EO55,EP51:EP55), SUMPRODUCT(EN51:EN55,EO51:EO55,EP51:EP55), \"\")","v":""},{"$f":"IFERROR(IF(SUM(EP51:EP55)/COUNT(EN51:EN55), ROUND(SUM(EP51:EP55)/COUNT(EN51:EN55),1), \"\"),\"\")","v":""},{"$f":"IF(MAX(EP51:EP55),MAX(EP51:EP55),\"\")","v":""},null,"Biofeedback\nTest:","Isotonic",{"$nulls":13},{"$f":"IF(SUMPRODUCT(FG51:FG55,FH51:FH55,FI51:FI55), SUMPRODUCT(FG51:FG55,FH51:FH55,FI51:FI55), \"\")","v":""},{"$f":"IFERROR(IF(SUM(FI51:FI55)/COUNT(FG51:FG55), ROUND(SUM(FI51:FI55)/COUNT(FG51:FG55),1), \"\"),\"\")","v":""},{"$f":"IF(MAX(FI51:FI55),MAX(FI51:FI55),\"\")","v":""},null,"Biofeedback\nTest:","Isotonic",{"$nulls":13},{"$f":"IF(SUMPRODUCT(FZ51:FZ55,GA51:GA55,GB51:GB55), SUMPRODUCT(FZ51:FZ55,GA51:GA55,GB51:GB55), \"\")","v":""},{"$f":"IFERROR(IF(SUM(GB51:GB55)/COUNT(FZ51:FZ55), ROUND(SUM(GB51:GB55)/COUNT(FZ51:FZ55),1), \"\"),\"\")","v":""},{"$f":"IF(MAX(GB51:GB55),MAX(GB51:GB55),\"\")","v":""},null,"Biofeedback\nTest:","Isotonic",{"$nulls":13},{"$f":"IF(SUMPRODUCT(GS51:GS55,GT51:GT55,GU51:GU55), SUMPRODUCT(GS51:GS55,GT51:GT55,GU51:GU55), \"\")","v":""},{"$f":"IFERROR(IF(SUM(GU51:GU55)/COUNT(GS51:GS55), ROUND(SUM(GU51:GU55)/COUNT(GS51:GS55),1), \"\"),\"\")","v":""},{"$f":"IF(MAX(GU51:GU55),MAX(GU51:GU55),\"\")","v":""}]
[]
[]
[]
[]
[null,"Day 3\nIsotonic",{"$nulls":14},{"$f":"IF(SUMPRODUCT(K56:K60,L56:L60,M56:M60), SUMPRODUCT(K56:K60,L56:L60,M56:M60), \"\")","v":""},{"$f":"IFERROR(IF(SUM(M56:M60)/COUNT(K56:K60), ROUND(SUM(M56:M60)/COUNT(K56:K60),1), \"\"),\"\")","v":""},{"$f":"IF(MAX(M56:M60),MAX(M56:M60),\"\")","v":""},null,"Day 3\nIsotonic",{"$nulls":14},{"$f":"IF(SUMPRODUCT(AD56:AD60,AE56:AE60,AF56:AF60), SUMPRODUCT(AD56:AD60,AE56:AE60,AF56:AF60), \"\")","v":""},{"$f":"IFERROR(IF(SUM(AF56:AF60)/COUNT(AD56:AD60), ROUND(SUM(AF56:AF60)/COUNT(AD56:AD60),1), \"\"),\"\")","v":""},{"$f":"IF(MAX(AF56:AF60),MAX(AF56:AF60),\"\")","v":""},null,"Day 3\nIsotonic",{"$nulls":14},{"$f":"IF(SUMPRODUCT(AW56:AW60,AX56:AX60,AY56:AY60), SUMPRODUCT(AW56:AW60,AX56:AX60,AY56:AY60), \"\")","v":""},{"$f":"IFERROR(IF(SUM(AY56:AY60)/COUNT(AW56:AW60), ROUND(SUM(AY56:AY60)/COUNT(AW56:AW60),1), \"\"),\"\")","v":""},{"$f":"IF(MAX(AY56:AY60),MAX(AY56:AY60),\"\")","v":""},null,"Day 3\nIsotonic",{"$nulls":14},{"$f":"IF(SUMPRODUCT(BP56:BP60,BQ56:BQ60,BR56:BR60), SUMPRODUCT(BP56:BP60,BQ56:BQ60,BR56:BR60), \"\")","v":""},{"$f":"IFERROR(IF(SUM(BR56:BR60)/COUNT(BP56:BP60), ROUND(SUM(BR56:BR60)/COUNT(BP56:BP60),1), \"\"),\"\")","v":""},{"$f":"IF(MAX(BR56:BR60),MAX(BR56:BR60),\"\")","v":""},null,"Day 3\nIsotonic",{"$nulls":14},{"$f":"IF(SUMPRODUCT(CI56:CI60,CJ56:CJ60,CK56:CK60), SUMPRODUCT(CI56:CI60,CJ56:CJ60,CK56:CK60), \"\")","v":""},{"$f":"IFERROR(IF(SUM(CK56:CK60)/COUNT(CI56:CI60), ROUND(SUM(CK56:CK60)/COUNT(CI56:CI60),1), \"\"),\"\")","v":""},{"$f":"IF(MAX(CK56:CK60),MAX(CK56:CK60),\"\")","v":""},null,"Day 3\nIsotonic",{"$nulls":14},{"$f":"IF(SUMPRODUCT(DB56:DB60,DC56:DC60,DD56:DD60), SUMPRODUCT(DB56:DB60,DC56:DC60,DD56:DD60), \"\")","v":""},{"$f":"IFERROR(IF(SUM(DD56:DD60)/COUNT(DB56:DB60), ROUND(SUM(DD56:DD60)/COUNT(DB56:DB60),1), \"\"),\"\")","v":""},{"$f":"IF(MAX(DD56:DD60),MAX(DD56:DD60),\"\")","v":""},null,"Day 3\nIsotonic",{"$nulls":14},{"$f":"IF(SUMPRODUCT(DU56:DU60,DV56:DV60,DW56:DW60), SUMPRODUCT(DU56:DU60,DV56:DV60,DW56:DW60), \"\")","v":""},{"$f":"IFERROR(IF(SUM(DW56:DW60)/COUNT(DU56:DU60), ROUND(SUM(DW56:DW60)/COUNT(DU56:DU60),1), \"\"),\"\")","v":""},{"$f":"IF(MAX(DW56:DW60),MAX(DW56:DW60),\"\")","v":""},null,"Day 3\nIsotonic",{"$nulls":14},{"$f":"IF(SUMPRODUCT(EN56:EN60,EO56:EO60,EP56:EP60), SUMPRODUCT(EN56:EN60,EO56:EO60,EP56:EP60), \"\")","v":""},{"$f":"IFERROR(IF(SUM(EP56:EP60)/COUNT(EN56:EN60), ROUND(SUM(EP56:EP60)/COUNT(EN56:EN60),1), \"\"),\"\")","v":""},{"$f":"IF(MAX(EP56:EP60),MAX(EP56:EP60),\"\")","v":""},null,"Day 3\nIsotonic",{"$nulls":14},{"$f":"IF(SUMPRODUCT(FG56:FG60,FH56:FH60,FI56:FI60), SUMPRODUCT(FG56:FG60,FH56:FH60,FI56:FI60), \"\")","v":""},{"$f":"IFERROR(IF(SUM(FI56:FI60)/COUNT(FG56:FG60), ROUND(SUM(FI56:FI60)/COUNT(FG56:FG60),1), \"\"),\"\")","v":""},{"$f":"IF(MAX(FI56:FI60),MAX(FI56:FI60),\"\")","v":""},null,"Day 3\nIsotonic",{"$nulls":14},{"$f":"IF(SUMPRODUCT(FZ56:FZ60,GA56:GA60,GB56:GB60), SUMPRODUCT(FZ56:FZ60,GA56:GA60,GB56:GB60), \"\")","v":""},{"$f":"IFERROR(IF(SUM(GB56:GB60)/COUNT(FZ56:FZ60), ROUND(SUM(GB56:GB60)/COUNT(FZ56:FZ60),1), \"\"),\"\")","v":""},{"$f":"IF(MAX(GB56:GB60),MAX(GB56:GB60),\"\")","v":""},null,"Day 3\nIsotonic",{"$nulls":14},{"$f":"IF(SUMPRODUCT(GS56:GS60,GT56:GT60,GU56:GU60), SUMPRODUCT(GS56:GS60,GT56:GT60,GU56:GU60), \"\")","v":""},{"$f":"IFERROR(IF(SUM(GU56:GU60)/COUNT(GS56:GS60), ROUND(SUM(GU56:GU60)/COUNT(GS56:GS60),1), \"\"),\"\")","v":""},{"$f":"IF(MAX(GU56:GU60),MAX(GU56:GU60),\"\")","v":""}]
[]
[]
[]
[]
[{"$nulls":16},{"$f":"IF(SUMPRODUCT(K61:K65,L61:L65,M61:M65), SUMPRODUCT(K61:K65,L61:L65,M61:M65), \"\")","v":""},{"$f":"IFERROR(IF(SUM(M61:M65)/COUNT(K61:K65), ROUND(SUM(M61:M65)/COUNT(K61:K65),1), \"\"),\"\")","v":""},{"$f":"IF(MAX(M61:M65),MAX(M61:M65),\"\")","v":""},{"$nulls":16},{"$f":"IF(SUMPRODUCT(AD61:AD65,AE61:AE65,AF61:AF65), SUMPRODUCT(AD61:AD65,AE61:AE65,AF61:AF65), \"\")","v":""},{"$f":"IFERROR(IF(SUM(AF61:AF65)/COUNT(AD61:AD65), ROUND(SUM(AF61:AF65)/COUNT(AD61:AD65),1), \"\"),\"\")","v":""},{"$f":"IF(MAX(AF61:AF65),MAX(AF61:AF65),\"\")","v":""},{"$nulls":16},{"$f":"IF(SUMPRODUCT(AW61:AW65,AX61:AX65,AY61:AY65), SUMPRODUCT(AW61:AW65,AX61:AX65,AY61:AY65), \"\")","v":""},{"$f":"IFERROR(IF(SUM(AY61:AY65)/COUNT(AW61:AW65), ROUND(SUM(AY61:AY65)/COUNT(AW61:AW65),1), \"\"),\"\")","v":""},{"$f":"IF(MAX(AY61:AY65),MAX(AY61:AY65),\"\")","v":""},{"$nulls":16},{"$f":"IF(SUMPRODUCT(BP61:BP65,BQ61:BQ65,BR61:BR65), SUMPRODUCT(BP61:BP65,BQ61:BQ65,BR61:BR65), \"\")","v":""},{"$f":"IFERROR(IF(SUM(BR61:BR65)/COUNT(BP61:BP65), ROUND(SUM(BR61:BR65)/COUNT(BP61:BP65),1), \"\"),\"\")","v":""},{"$f":"IF(MAX(BR61:BR65),MAX(BR61:BR65),\"\")","v":""},{"$nulls":16},{"$f":"IF(SUMPRODUCT(CI61:CI65,CJ61:CJ65,CK61:CK65), SUMPRODUCT(CI61:CI65,CJ61:CJ65,CK61:CK65), \"\")","v":""},{"$f":"IFERROR(IF(SUM(CK61:CK65)/COUNT(CI61:CI65), ROUND(SUM(CK61:CK65)/COUNT(CI61:CI65),1), \"\"),\"\")","v":""},{"$f":"IF(MAX(CK61:CK65),MAX(CK61:CK65),\"\")","v":""},{"$nulls":16},{"$f":"IF(SUMPRODUCT(DB61:DB65,DC61:DC65,DD61:DD65), SUMPRODUCT(DB61:DB65,DC61:DC65,DD61:DD65), \"\")","v":""},{"$f":"IFERROR(IF(SUM(DD61:DD65)/COUNT(DB61:DB65), ROUND(SUM(DD61:DD65)/COUNT(DB61:DB65),1), \"\"),\"\")","v":""},{"$f":"IF(MAX(DD61:DD65),MAX(DD61:DD65),\"\")","v":""},{"$nulls":16},{"$f":"IF(SUMPRODUCT(DU61:DU65,DV61:DV65,DW61:DW65), SUMPRODUCT(DU61:DU65,DV61:DV65,DW61:DW65), \"\")","v":""},{"$f":"IFERROR(IF(SUM(DW61:DW65)/COUNT(DU61:DU65), ROUND(SUM(DW61:DW65)/COUNT(DU61:DU65),1), \"\"),\"\")","v":""},{"$f":"IF(MAX(DW61:DW65),MAX(DW61:DW65),\"\")","v":""},{"$nulls":16},{"$f":"IF(SUMPRODUCT(EN61:EN65,EO61:EO65,EP61:EP65), SUMPRODUCT(EN61:EN65,EO61:EO65,EP61:EP65), \"\")","v":""},{"$f":"IFERROR(IF(SUM(EP61:EP65)/COUNT(EN61:EN65), ROUND(SUM(EP61:EP65)/COUNT(EN61:EN65),1), \"\"),\"\")","v":""},{"$f":"IF(MAX(EP61:EP65),MAX(EP61:EP65),\"\")","v":""},{"$nulls":16},{"$f":"IF(SUMPRODUCT(FG61:FG65,FH61:FH65,FI61:FI65), SUMPRODUCT(FG61:FG65,FH61:FH65,FI61:FI65), \"\")","v":""},{"$f":"IFERROR(IF(SUM(FI61:FI65)/COUNT(FG61:FG65), ROUND(SUM(FI61:FI65)/COUNT(FG61:FG65),1), \"\"),\"\")","v":""},{"$f":"IF(MAX(FI61:FI65),MAX(FI61:FI65),\"\")","v":""},{"$nulls":16},{"$f":"IF(SUMPRODUCT(FZ61:FZ65,GA61:GA65,GB61:GB65), SUMPRODUCT(FZ61:FZ65,GA61:GA65,GB61:GB65), \"\")","v":""},{"$f":"IFERROR(IF(SUM(GB61:GB65)/COUNT(FZ61:FZ65), ROUND(SUM(GB61:GB65)/COUNT(FZ61:FZ65),1), \"\"),\"\")","v":""},{"$f":"IF(MAX(GB61:GB65),MAX(GB61:GB65),\"\")","v":""},{"$nulls":16},{"$f":"IF(SUMPRODUCT(GS61:GS65,GT61:GT65,GU61:GU65), SUMPRODUCT(GS61:GS65,GT61:GT65,GU61:GU65), \"\")","v":""},{"$f":"IFERROR(IF(SUM(GU61:GU65)/COUNT(GS61:GS65), ROUND(SUM(GU61:GU65)/COUNT(GS61:GS65),1), \"\"),\"\")","v":""},{"$f":"IF(MAX(GU61:GU65),MAX(GU61:GU65),\"\")","v":""}]
[]
[]
[]
[]
[null,null,"Session RPE:",null,"Session Duration:",{"$nulls":4},"Session Score:",{"$nulls":3},{"$f":"IFERROR(IF(SUBSTITUTE(D66,\"RPE \",\"\")*G66, CONCATENATE(SUBSTITUTE(D66,\"RPE \",\"\")*G66, \" AU\"),0),0)","v":0},null,"Daily Totals:",{"$f":"IF(SUM(Q51:Q65)<1,\"\",SUM(Q51:Q65))","v":""},{"$f":"IFERROR(IF(SUM(M51:M65)/COUNT(K51:K65), ROUND(SUM(M51:M65)/COUNT(K51:K65),1),\"\"),\"\")","v":""},{"$f":"IF(SUM(S51:S65)>0,SUM(S51:S65),\"\")","v":""},null,null,"Session RPE:",null,"Session Duration:",{"$nulls":4},"Session Score:",{"$nulls":3},{"$f":"IFERROR(IF(SUBSTITUTE(W66,\"RPE \",\"\")*Z66, CONCATENATE(SUBSTITUTE(W66,\"RPE \",\"\")*Z66, \" AU\"),0),0)","v":0},null,"Daily Totals:",{"$f":"IF(SUM(AJ51:AJ65)<1,\"\",SUM(AJ51:AJ65))","v":""},{"$f":"IFERROR(IF(SUM(AF51:AF65)/COUNT(AD51:AD65), ROUND(SUM(AF51:AF65)/COUNT(AD51:AD65),1),\"\"),\"\")","v":""},{"$f":"IF(SUM(AL51:AL65)>0,SUM(AL51:AL65),\"\")","v":""},null,null,"Session RPE:",null,"Session Duration:",{"$nulls":4},"Session Score:",{"$nulls":3},{"$f":"IFERROR(IF(SUBSTITUTE(AP66,\"RPE \",\"\")*AS66, CONCATENATE(SUBSTITUTE(AP66,\"RPE \",\"\")*AS66, \" AU\"),0),0)","v":0},null,"Daily Totals:",{"$f":"IF(SUM(BC51:BC65)<1,\"\",SUM(BC51:BC65))","v":""},{"$f":"IFERROR(IF(SUM(AY51:AY65)/COUNT(AW51:AW65), ROUND(SUM(AY51:AY65)/COUNT(AW51:AW65),1),\"\"),\"\")","v":""},{"$f":"IF(SUM(BE51:BE65)>0,SUM(BE51:BE65),\"\")","v":""},null,null,"Session RPE:",null,"Session Duration:",{"$nulls":4},"Session Score:",{"$nulls":3},{"$f":"IFERROR(IF(SUBSTITUTE(BI66,\"RPE \",\"\")*BL66, CONCATENATE(SUBSTITUTE(BI66,\"RPE \",\"\")*BL66, \" AU\"),0),0)","v":0},null,"Daily Totals:",{"$f":"IF(SUM(BV51:BV65)<1,\"\",SUM(BV51:BV65))","v":""},{"$f":"IFERROR(IF(SUM(BR51:BR65)/COUNT(BP51:BP65), ROUND(SUM(BR51:BR65)/COUNT(BP51:BP65),1),\"\"),\"\")","v":""},{"$f":"IF(SUM(BX51:BX65)>0,SUM(BX51:BX65),\"\")","v":""},null,null,"Session RPE:",null,"Session Duration:",{"$nulls":4},"Session Score:",{"$nulls":3},{"$f":"IFERROR(IF(SUBSTITUTE(CB66,\"RPE \",\"\")*CE66, CONCATENATE(SUBSTITUTE(CB66,\"RPE \",\"\")*CE66, \" AU\"),0),0)","v":0},null,"Daily Totals:",{"$f":"IF(SUM(CO51:CO65)<1,\"\",SUM(CO51:CO65))","v":""},{"$f":"IFERROR(IF(SUM(CK51:CK65)/COUNT(CI51:CI65), ROUND(SUM(CK51:CK65)/COUNT(CI51:CI65),1),\"\"),\"\")","v":""},{"$f":"IF(SUM(CQ51:CQ65)>0,SUM(CQ51:CQ65),\"\")","v":""},null,null,"Session RPE:",null,"Session Duration:",{"$nulls":4},"Session Score:",{"$nulls":3},{"$f":"IFERROR(IF(SUBSTITUTE(CU66,\"RPE \",\"\")*CX66, CONCATENATE(SUBSTITUTE(CU66,\"RPE \",\"\")*CX66, \" AU\"),0),0)","v":0},null,"Daily Totals:",{"$f":"IF(SUM(DH51:DH65)<1,\"\",SUM(DH51:DH65))","v":""},{"$f":"IFERROR(IF(SUM(DD51:DD65)/COUNT(DB51:DB65), ROUND(SUM(DD51:DD65)/COUNT(DB51:DB65),1),\"\"),\"\")","v":""},{"$f":"IF(SUM(DJ51:DJ65)>0,SUM(DJ51:DJ65),\"\")","v":""},null,null,"Session RPE:",null,"Session Duration:",{"$nulls":4},"Session Score:",{"$nulls":3},{"$f":"IFERROR(IF(SUBSTITUTE(DN66,\"RPE \",\"\")*DQ66, CONCATENATE(SUBSTITUTE(DN66,\"RPE \",\"\")*DQ66, \" AU\"),0),0)","v":0},null,"Daily Totals:",{"$f":"IF(SUM(EA51:EA65)<1,\"\",SUM(EA51:EA65))","v":""},{"$f":"IFERROR(IF(SUM(DW51:DW65)/COUNT(DU51:DU65), ROUND(SUM(DW51:DW65)/COUNT(DU51:DU65),1),\"\"),\"\")","v":""},{"$f":"IF(SUM(EC51:EC65)>0,SUM(EC51:EC65),\"\")","v":""},null,null,"Session RPE:",null,"Session Duration:",{"$nulls":4},"Session Score:",{"$nulls":3},{"$f":"IFERROR(IF(SUBSTITUTE(EG66,\"RPE \",\"\")*EJ66, CONCATENATE(SUBSTITUTE(EG66,\"RPE \",\"\")*EJ66, \" AU\"),0),0)","v":0},null,"Daily Totals:",{"$f":"IF(SUM(ET51:ET65)<1,\"\",SUM(ET51:ET65))","v":""},{"$f":"IFERROR(IF(SUM(EP51:EP65)/COUNT(EN51:EN65), ROUND(SUM(EP51:EP65)/COUNT(EN51:EN65),1),\"\"),\"\")","v":""},{"$f":"IF(SUM(EV51:EV65)>0,SUM(EV51:EV65),\"\")","v":""},null,null,"Session RPE:",null,"Session Duration:",{"$nulls":4},"Session Score:",{"$nulls":3},{"$f":"IFERROR(IF(SUBSTITUTE(EZ66,\"RPE \",\"\")*FC66, CONCATENATE(SUBSTITUTE(EZ66,\"RPE \",\"\")*FC66, \" AU\"),0),0)","v":0},null,"Daily Totals:",{"$f":"IF(SUM(FM51:FM65)<1,\"\",SUM(FM51:FM65))","v":""},{"$f":"IFERROR(IF(SUM(FI51:FI65)/COUNT(FG51:FG65), ROUND(SUM(FI51:FI65)/COUNT(FG51:FG65),1),\"\"),\"\")","v":""},{"$f":"IF(SUM(FO51:FO65)>0,SUM(FO51:FO65),\"\")","v":""},null,null,"Session RPE:",null,"Session Duration:",{"$nulls":4},"Session Score:",{"$nulls":3},{"$f":"IFERROR(IF(SUBSTITUTE(FS66,\"RPE \",\"\")*FV66, CONCATENATE(SUBSTITUTE(FS66,\"RPE \",\"\")*FV66, \" AU\"),0),0)","v":0},null,"Daily Totals:",{"$f":"IF(SUM(GF51:GF65)<1,\"\",SUM(GF51:GF65))","v":""},{"$f":"IFERROR(IF(SUM(GB51:GB65)/COUNT(FZ51:FZ65), ROUND(SUM(GB51:GB65)/COUNT(FZ51:FZ65),1),\"\"),\"\")","v":""},{"$f":"IF(SUM(GH51:GH65)>0,SUM(GH51:GH65),\"\")","v":""},null,null,"Session RPE:",null,"Session Duration:",{"$nulls":4},"Session Score:",{"$nulls":3},{"$f":"IFERROR(IF(SUBSTITUTE(GL66,\"RPE \",\"\")*GO66, CONCATENATE(SUBSTITUTE(GL66,\"RPE \",\"\")*GO66, \" AU\"),0),0)","v":0},null,"Daily Totals:",{"$f":"IF(SUM(GY51:GY65)<1,\"\",SUM(GY51:GY65))","v":""},{"$f":"IFERROR(IF(SUM(GU51:GU65)/COUNT(GS51:GS65), ROUND(SUM(GU51:GU65)/COUNT(GS51:GS65),1),\"\"),\"\")","v":""},{"$f":"IF(SUM(HA51:HA65)>0,SUM(HA51:HA65),\"\")","v":""}]
[null,"Day","Type","Exercise",null,null,"Sets","Duration",null,"Rest","Objective Score",null,null,"Feedback",null,null,"Exercise\nTonnage","Absolute\nIntensity",null,null,"Day","Type","Exercise",null,null,"Sets","Duration",null,"Rest","Objective Score",null,null,"Feedback",null,null,"Exercise\nTonnage","Absolute\nIntensity",null,null,"Day","Weightlifting\n Movement","Cluster Type","Exercise","Tempo","Sets","Reps","Weight","Rest","Score",null,null,"Feedback",null,null,"Exercise Tonnage","Average Intensity","Absolute Intensity",null,"Day","Weightlifting\n Movement","Cluster Type","Exercise","Tempo","Sets","Reps","Weight","Rest","Score",null,null,"Feedback",null,null,"Exercise Tonnage","Average Intensity","Absolute Intensity",null,"Day","Weightlifting\n Movement","Cluster Type","Exercise","Tempo","Sets","Reps","Weight","Rest","Score",null,null,"Feedback",null,null,"Exercise Tonnage","Average Intensity","Absolute Intensity",null,"Day","Weightlifting\n Movement","Cluster Type","Exercise","Tempo","Sets","Reps","Weight","Rest","Score",null,null,"Feedback",null,null,"Exercise Tonnage","Average Intensity","Absolute Intensity",null,"Day","Weightlifting\n Movement","Cluster Type","Exercise","Tempo","Sets","Reps","Weight","Rest","Score",null,null,"Feedback",null,null,"Exercise Tonnage","Average Intensity","Absolute Intensity",null,"Day","Type","Exercise",null,null,"Sets","Duration",null,"Rest","Objective Score",null,null,"Feedback",null,null,"Exercise\nTonnage","Absolute\nIntensity",null,null,"Day","Type","Exercise",null,null,"Sets","Duration",null,"Rest","Objective Score",null,null,"Feedback",null,null,"Exercise\nTonnage","Absolute\nIntensity",null,null,"Day","Type","Exercise",null,null,"Sets","Duration",null,"Rest","Objective Score",null,null,"Feedback",null,null,"Exercise\nTonnage","Absolute\nIntensity",null,null,"Day","Type","Exercise",null,null,"Sets","Duration",null,"Rest","Objective Score",null,null,"Feedback",null,null,"Exercise\nTonnage","Absolute\nIntensity"]
[{"$nulls":10},"Sets","Duration","Weight",{"$nulls":16},"Sets","Duration","Weight",{"$nulls":16},"Sets","Reps","Weight",{"$nulls":16},"Sets","Reps","Weight",{"$nulls":16},"Sets","Reps","Weight",{"$nulls":16},"Sets","Reps","Weight",{"$nulls":16},"Sets","Reps","Weight",{"$nulls":16},"Sets","Duration","Weight",{"$nulls":16},"Sets","Duration","Weight",{"$nulls":16},"Sets","Duration","Weight",{"$nulls":16},"Sets","Duration","Weight"]
[null,"Biofeedback\nTest:","Double-Leg",{"$nulls":3},5,"30 - 45 Seconds",null,"90 - 120 Seconds",{"$nulls":6},{"$f":"IF(K69*L69*(M69)>0, K69*L69*(M69), \"\")","v":""},{"$f":"IF(MAX(M69:M73) > 0, MAX(M69:M73), \"\")","v":""},null,null,"Biofeedback\nTest:","Double-Leg",{"$nulls":3},5,"30 - 45 Seconds",null,"90 - 120 Seconds",{"$nulls":6},{"$f":"IF(AD69*AE69*(AF69)>0, AD69*AE69*(AF69), \"\")","v":""},{"$f":"IF(MAX(AF69:AF73) > 0, MAX(AF69:AF73), \"\")","v":""},null,null,"Biofeedback\nTest:","Snatch","Snatch Cluster 3","Power-Snatch (No Feet, w/ Pause at Catch)",{"$nulls":11},{"$f":"IF(AW69*AX69*AY69<1, \"\", AW69*AX69*AY69)","v":""},{"$f":"IFERROR(IF(SUM(AY69:AY73)/COUNT(AW69:AW73), ROUND(SUM(AY69:AY73)/COUNT(AW69:AW73),1), \"\"),\"\")","v":""},{"$f":"IF(MAX(AY69:AY73),MAX(AY69:AY73),\"\")","v":""},null,"Biofeedback\nTest:","Snatch","Snatch Cluster 4",{"$nulls":12},{"$f":"IF(BP69*BQ69*BR69<1, \"\", BP69*BQ69*BR69)","v":""},{"$f":"IFERROR(IF(SUM(BR69:BR73)/COUNT(BP69:BP73), ROUND(SUM(BR69:BR73)/COUNT(BP69:BP73),1), \"\"),\"\")","v":""},{"$f":"IF(MAX(BR69:BR73),MAX(BR69:BR73),\"\")","v":""},null,"Biofeedback\nTest:","Snatch","Snatch Cluster 5",{"$nulls":12},{"$f":"IF(CI69*CJ69*CK69<1, \"\", CI69*CJ69*CK69)","v":""},{"$f":"IFERROR(IF(SUM(CK69:CK73)/COUNT(CI69:CI73), ROUND(SUM(CK69:CK73)/COUNT(CI69:CI73),1), \"\"),\"\")","v":""},{"$f":"IF(MAX(CK69:CK73),MAX(CK69:CK73),\"\")","v":""},null,"Biofeedback\nTest:","Snatch",{"$nulls":13},{"$f":"IF(DB69*DC69*DD69<1, \"\", DB69*DC69*DD69)","v":""},{"$f":"IFERROR(IF(SUM(DD69:DD73)/COUNT(DB69:DB73), ROUND(SUM(DD69:DD73)/COUNT(DB69:DB73),1), \"\"),\"\")","v":""},{"$f":"IF(MAX(DD69:DD73),MAX(DD69:DD73),\"\")","v":""},null,"Biofeedback\nTest:","Snatch",{"$nulls":13},{"$f":"IF(DU69*DV69*DW69<1, \"\", DU69*DV69*DW69)","v":""},{"$f":"IFERROR(IF(SUM(DW69:DW73)/COUNT(DU69:DU73), ROUND(SUM(DW69:DW73)/COUNT(DU69:DU73),1), \"\"),\"\")","v":""},{"$f":"IF(MAX(DW69:DW73),MAX(DW69:DW73),\"\")","v":""},null,"Biofeedback\nTest:","Double-Leg",{"$nulls":3},5,"30 - 45 Seconds",null,"90 - 120 Seconds",{"$nulls":6},{"$f":"IF(EN69*EO69*(EP69)>0, EN69*EO69*(EP69), \"\")","v":""},{"$f":"IF(MAX(EP69:EP73) > 0, MAX(EP69:EP73), \"\")","v":""},null,null,"Biofeedback\nTest:","Double-Leg",{"$nulls":3},5,"30 - 45 Seconds",null,"90 - 120 Seconds",{"$nulls":6},{"$f":"IF(FG69*FH69*(FI69)>0, FG69*FH69*(FI69), \"\")","v":""},{"$f":"IF(MAX(FI69:FI73) > 0, MAX(FI69:FI73), \"\")","v":""},null,null,"Biofeedback\nTest:","Double-Leg",{"$nulls":3},5,"30 - 45 Seconds",null,"90 - 120 Seconds",{"$nulls":6},{"$f":"IF(FZ69*GA69*(GB69)>0, FZ69*GA69*(GB69), \"\")","v":""},{"$f":"IF(MAX(GB69:GB73) > 0, MAX(GB69:GB73), \"\")","v":""},null,null,"Biofeedback\nTest:","Double-Leg",{"$nulls":3},5,"30 - 45 Seconds",null,"90 - 120 Seconds",{"$nulls":6},{"$f":"IF(GS69*GT69*(GU69)>0, GS69*GT69*(GU69), \"\")","v":""},{"$f":"IF(MAX(GU69:GU73) > 0, MAX(GU69:GU73), \"\")","v":""}]
[{"$nulls":6},5,"30 - 45 Seconds",null,"90 - 120 Seconds",{"$nulls":6},{"$f":"IF(K70*L70*(M70)>0, K70*L70*(M70), \"\")","v":""},{"$nulls":8},5,"30 - 45 Seconds",null,"90 - 120 Seconds",{"$nulls":6},{"$f":"IF(AD70*AE70*(AF70)>0, AD70*AE70*(AF70), \"\")","v":""},{"$nulls":18},{"$f":"IF(AW70*AX70*AY70<1, \"\", AW70*AX70*AY70)","v":""},{"$nulls":18},{"$f":"IF(BP70*BQ70*BR70<1, \"\", BP70*BQ70*BR70)","v":""},{"$nulls":18},{"$f":"IF(CI70*CJ70*CK70<1, \"\", CI70*CJ70*CK70)","v":""},{"$nulls":18},{"$f":"IF(DB70*DC70*DD70<1, \"\", DB70*DC70*DD70)","v":""},{"$nulls":18},{"$f":"IF(DU70*DV70*DW70<1, \"\", DU70*DV70*DW70)","v":""},{"$nulls":8},5,"30 - 45 Seconds",null,"90 - 120 Seconds",{"$nulls":6},{"$f":"IF(EN70*EO70*(EP70)>0, EN70*EO70*(EP70), \"\")","v":""},{"$nulls":8},5,"30 - 45 Seconds",null,"90 - 120 Seconds",{"$nulls":6},{"$f":"IF(FG70*FH70*(FI70)>0, FG70*FH70*(FI70), \"\")","v":""},{"$nulls":8},5,"30 - 45 Seconds",null,"90 - 120 Seconds",{"$nulls":6},{"$f":"IF(FZ70*GA70*(GB70)>0, FZ70*GA70*(GB70), \"\")","v":""},{"$nulls":8},5,"30 - 45 Seconds",null,"90 - 120 Seconds",{"$nulls":6},{"$f":"IF(GS70*GT70*(GU70)>0, GS70*GT70*(GU70), \"\")","v":""}]
[{"$nulls":6},5,"31 - 45 Seconds",null,"91 - 120 Seconds",{"$nulls":6},"",{"$nulls":8},5,"31 - 45 Seconds",null,"91 - 120 Seconds",{"$nulls":6},"",{"$nulls":18},"",{"$nulls":18},"",{"$nulls":18},"",{"$nulls":18},"",{"$nulls":18},"",{"$nulls":8},5,"31 - 45 Seconds",null,"91 - 120 Seconds",{"$nulls":6},"",{"$nulls":8},5,"31 - 45 Seconds",null,"91 - 120 Seconds",{"$nulls":6},"",{"$nulls":8},5,"31 - 45 Seconds",null,"91 - 120 Seconds",{"$nulls":6},"",{"$nulls":8},5,"31 - 45 Seconds",null,"91 - 120 Seconds",{"$nulls":6},""]
[{"$nulls":6},5,"32 - 45 Seconds",null,"92 - 120 Seconds",{"$nulls":6},"",{"$nulls":8},5,"32 - 45 Seconds",null,"92 - 120 Seconds",{"$nulls":6},"",{"$nulls":18},"",{"$nulls":18},"",{"$nulls":18},"",{"$nulls":18},"",{"$nulls":18},"",{"$nulls":8},5,"32 - 45 Seconds",null,"92 - 120 Seconds",{"$nulls":6},"",{"$nulls":8},5,"32 - 45 Seconds",null,"92 - 120 Seconds",{"$nulls":6},"",{"$nulls":8},5,"32 - 45 Seconds",null,"92 - 120 Seconds",{"$nulls":6},"",{"$nulls":8},5,"32 - 45 Seconds",null,"92 - 120 Seconds",{"$nulls":6},""]
[{"$nulls":6},5,"33 - 45 Seconds",null,"93 - 120 Seconds",{"$nulls":6},"",{"$nulls":8},5,"33 - 45 Seconds",null,"93 - 120 Seconds",{"$nulls":6},"",{"$nulls":18},"",{"$nulls":18},"",{"$nulls":18},"",{"$nulls":18},"",{"$nulls":18},"",{"$nulls":8},5,"33 - 45 Seconds",null,"93 - 120 Seconds",{"$nulls":6},"",{"$nulls":8},5,"33 - 45 Seconds",null,"93 - 120 Seconds",{"$nulls":6},"",{"$nulls":8},5,"33 - 45 Seconds",null,"93 - 120 Seconds",{"$nulls":6},"",{"$nulls":8},5,"33 - 45 Seconds",null,"93 - 120 Seconds",{"$nulls":6},""]
[null,"Day 4\nOptional Rest","Single-Leg",{"$nulls":3},5,"34 - 45 Seconds",null,"94 - 120 Seconds",{"$nulls":6},"",{"$f":"IF(MAX(M74:M78) > 0, MAX(M74:M78), \"\")","v":""},null,null,"Day 4\nOptional Rest","Single-Leg",{"$nulls":3},5,"34 - 45 Seconds",null,"94 - 120 Seconds",{"$nulls":6},"",{"$f":"IF(MAX(AF74:AF78) > 0, MAX(AF74:AF78), \"\")","v":""},null,null,"Day 4\nDynamics","Jerk",{"$nulls":13},"",{"$f":"IFERROR(IF(SUM(AY74:AY78)/COUNT(AW74:AW78), ROUND(SUM(AY74:AY78)/COUNT(AW74:AW78),1), \"\"),\"\")","v":""},{"$f":"IF(MAX(AY74:AY78),MAX(AY74:AY78),\"\")","v":""},null,"Day 4\nDynamics","Jerk",{"$nulls":13},"",{"$f":"IFERROR(IF(SUM(BR74:BR78)/COUNT(BP74:BP78), ROUND(SUM(BR74:BR78)/COUNT(BP74:BP78),1), \"\"),\"\")","v":""},{"$f":"IF(MAX(BR74:BR78),MAX(BR74:BR78),\"\")","v":""},null,"Day 4\nDynamics","Jerk",{"$nulls":13},"",{"$f":"IFERROR(IF(SUM(CK74:CK78)/COUNT(CI74:CI78), ROUND(SUM(CK74:CK78)/COUNT(CI74:CI78),1), \"\"),\"\")","v":""},{"$f":"IF(MAX(CK74:CK78),MAX(CK74:CK78),\"\")","v":""},null,"Day 4\nDynamics","Jerk",{"$nulls":13},"",{"$f":"IFERROR(IF(SUM(DD74:DD78)/COUNT(DB74:DB78), ROUND(SUM(DD74:DD78)/COUNT(DB74:DB78),1), \"\"),\"\")","v":""},{"$f":"IF(MAX(DD74:DD78),MAX(DD74:DD78),\"\")","v":""},null,"Day 4\nDynamics","Jerk",{"$nulls":13},"",{"$f":"IFERROR(IF(SUM(DW74:DW78)/COUNT(DU74:DU78), ROUND(SUM(DW74:DW78)/COUNT(DU74:DU78),1), \"\"),\"\")","v":""},{"$f":"IF(MAX(DW74:DW78),MAX(DW74:DW78),\"\")","v":""},null,"Day 4\nOptional Rest","Single-Leg",{"$nulls":3},5,"34 - 45 Seconds",null,"94 - 120 Seconds",{"$nulls":6},"",{"$f":"IF(MAX(EP74:EP78) > 0, MAX(EP74:EP78), \"\")","v":""},null,null,"Day 4\nOptional Rest","Single-Leg",{"$nulls":3},5,"34 - 45 Seconds",null,"94 - 120 Seconds",{"$nulls":6},"",{"$f":"IF(MAX(FI74:FI78) > 0, MAX(FI74:FI78), \"\")","v":""},null,null,"Day 4\nOptional Rest","Single-Leg",{"$nulls":3},5,"34 - 45 Seconds",null,"94 - 120 Seconds",{"$nulls":6},"",{"$f":"IF(MAX(GB74:GB78) > 0, MAX(GB74:GB78), \"\")","v":""},null,null,"Day 4\nOptional Rest","Single-Leg",{"$nulls":3},5,"34 - 45 Seconds",null,"94 - 120 Seconds",{"$nulls":6},"",{"$f":"IF(MAX(GU74:GU78) > 0, MAX(GU74:GU78), \"\")","v":""}]
[{"$nulls":6},5,"35 - 45 Seconds",null,"95 - 120 Seconds",{"$nulls":6},"",{"$nulls":8},5,"35 - 45 Seconds",null,"95 - 120 Seconds",{"$nulls":6},"",{"$nulls":18},"",{"$nulls":18},"",{"$nulls":18},"",{"$nulls":18},"",{"$nulls":18},"",{"$nulls":8},5,"35 - 45 Seconds",null,"95 - 120 Seconds",{"$nulls":6},"",{"$nulls":8},5,"35 - 45 Seconds",null,"95 - 120 Seconds",{"$nulls":6},"",{"$nulls":8},5,"35 - 45 Seconds",null,"95 - 120 Seconds",{"$nulls":6},"",{"$nulls":8},5,"35 - 45 Seconds",null,"95 - 120 Seconds",{"$nulls":6},""]
[{"$nulls":6},5,"36 - 45 Seconds",null,"96 - 120 Seconds",{"$nulls":6},"",{"$nulls":8},5,"36 - 45 Seconds",null,"96 - 120 Seconds",{"$nulls":6},"",{"$nulls":18},"",{"$nulls":18},"",{"$nulls":18},"",{"$nulls":18},"",{"$nulls":18},"",{"$nulls":8},5,"36 - 45 Seconds",null,"96 - 120 Seconds",{"$nulls":6},"",{"$nulls":8},5,"36 - 45 Seconds",null,"96 - 120 Seconds",{"$nulls":6},"",{"$nulls":8},5,"36 - 45 Seconds",null,"96 - 120 Seconds",{"$nulls":6},"",{"$nulls":8},5,"36 - 45 Seconds",null,"96 - 120 Seconds",{"$nulls":6},""]
[{"$nulls":6},5,"37 - 45 Seconds",null,"97 - 120 Seconds",{"$nulls":6},"",{"$nulls":8},5,"37 - 45 Seconds",null,"97 - 120 Seconds",{"$nulls":6},"",{"$nulls":18},"",{"$nulls":18},"",{"$nulls":18},"",{"$nulls":18},"",{"$nulls":18},"",{"$nulls":8},5,"37 - 45 Seconds",null,"97 - 120 Seconds",{"$nulls":6},"",{"$nulls":8},5,"37 - 45 Seconds",null,"97 - 120 Seconds",{"$nulls":6},"",{"$nulls":8},5,"37 - 45 Seconds",null,"97 - 120 Seconds",{"$nulls":6},"",{"$nulls":8},5,"37 - 45 Seconds",null,"97 - 120 Seconds",{"$nulls":6},""]
[{"$nulls":6},5,"30 - 45 Seconds",null,"90 - 120 Seconds",{"$nulls":6},"",{"$nulls":8},5,"30 - 45 Seconds",null,"90 - 120 Seconds",{"$nulls":6},"",{"$nulls":18},"",{"$nulls":18},"",{"$nulls":18},"",{"$nulls":18},"",{"$nulls":18},"",{"$nulls":8},5,"30 - 45 Seconds",null,"90 - 120 Seconds",{"$nulls":6},"",{"$nulls":8},5,"30 - 45 Seconds",null,"90 - 120 Seconds",{"$nulls":6},"",{"$nulls":8},5,"30 - 45 Seconds",null,"90 - 120 Seconds",{"$nulls":6},"",{"$nulls":8},5,"30 - 45 Seconds",null,"90 - 120 Seconds",{"$nulls":6},""]
[null,null,"Single-Leg",{"$nulls":3},5,"34 - 45 Seconds",null,"94 - 120 Seconds",{"$nulls":6},"",{"$f":"IF(MAX(M79:M83) > 0, MAX(M79:M83), \"\")","v":""},{"$nulls":3},"Single-Leg",{"$nulls":3},5,"34 - 45 Seconds",null,"94 - 120 Seconds",{"$nulls":6},"",{"$f":"IF(MAX(AF79:AF83) > 0, MAX(AF79:AF83), \"\")","v":""},{"$nulls":3},"Clean",{"$nulls":13},"",{"$f":"IFERROR(IF(SUM(AY79:AY83)/COUNT(AW79:AW83), ROUND(SUM(AY79:AY83)/COUNT(AW79:AW83),1), \"\"),\"\")","v":""},{"$f":"IF(MAX(AY79:AY83),MAX(AY79:AY83),\"\")","v":""},null,null,"Clean",{"$nulls":13},"",{"$f":"IFERROR(IF(SUM(BR79:BR83)/COUNT(BP79:BP83), ROUND(SUM(BR79:BR83)/COUNT(BP79:BP83),1), \"\"),\"\")","v":""},{"$f":"IF(MAX(BR79:BR83),MAX(BR79:BR83),\"\")","v":""},null,null,"Clean",{"$nulls":13},"",{"$f":"IFERROR(IF(SUM(CK79:CK83)/COUNT(CI79:CI83), ROUND(SUM(CK79:CK83)/COUNT(CI79:CI83),1), \"\"),\"\")","v":""},{"$f":"IF(MAX(CK79:CK83),MAX(CK79:CK83),\"\")","v":""},null,null,"Clean",{"$nulls":13},"",{"$f":"IFERROR(IF(SUM(DD79:DD83)/COUNT(DB79:DB83), ROUND(SUM(DD79:DD83)/COUNT(DB79:DB83),1), \"\"),\"\")","v":""},{"$f":"IF(MAX(DD79:DD83),MAX(DD79:DD83),\"\")","v":""},null,null,"Clean",{"$nulls":13},"",{"$f":"IFERROR(IF(SUM(DW79:DW83)/COUNT(DU79:DU83), ROUND(SUM(DW79:DW83)/COUNT(DU79:DU83),1), \"\"),\"\")","v":""},{"$f":"IF(MAX(DW79:DW83),MAX(DW79:DW83),\"\")","v":""},null,null,"Single-Leg",{"$nulls":3},5,"34 - 45 Seconds",null,"94 - 120 Seconds",{"$nulls":6},"",{"$f":"IF(MAX(EP79:EP83) > 0, MAX(EP79:EP83), \"\")","v":""},{"$nulls":3},"Single-Leg",{"$nulls":3},5,"34 - 45 Seconds",null,"94 - 120 Seconds",{"$nulls":6},"",{"$f":"IF(MAX(FI79:FI83) > 0, MAX(FI79:FI83), \"\")","v":""},{"$nulls":3},"Single-Leg",{"$nulls":3},5,"34 - 45 Seconds",null,"94 - 120 Seconds",{"$nulls":6},"",{"$f":"IF(MAX(GB79:GB83) > 0, MAX(GB79:GB83), \"\")","v":""},{"$nulls":3},"Single-Leg",{"$nulls":3},5,"34 - 45 Seconds",null,"94 - 120 Seconds",{"$nulls":6},"",{"$f":"IF(MAX(GU79:GU83) > 0, MAX(GU79:GU83), \"\")","v":""}]
[{"$nulls":6},5,"35 - 45 Seconds",null,"95 - 120 Seconds",{"$nulls":6},"",{"$nulls":8},5,"35 - 45 Seconds",null,"95 - 120 Seconds",{"$nulls":6},"",{"$nulls":18},"",{"$nulls":18},"",{"$nulls":18},"",{"$nulls":18},"",{"$nulls":18},"",{"$nulls":8},5,"35 - 45 Seconds",null,"95 - 120 Seconds",{"$nulls":6},"",{"$nulls":8},5,"35 - 45 Seconds",null,"95 - 120 Seconds",{"$nulls":6},"",{"$nulls":8},5,"35 - 45 Seconds",null,"95 - 120 Seconds",{"$nulls":6},"",{"$nulls":8},5,"35 - 45 Seconds",null,"95 - 120 Seconds",{"$nulls":6},""]
[{"$nulls":6},5,"36 - 45 Seconds",null,"96 - 120 Seconds",{"$nulls":6},"",{"$nulls":8},5,"36 - 45 Seconds",null,"96 - 120 Seconds",{"$nulls":6},"",{"$nulls":18},"",{"$nulls":18},"",{"$nulls":18},"",{"$nulls":18},"",{"$nulls":18},"",{"$nulls":8},5,"36 - 45 Seconds",null,"96 - 120 Seconds",{"$nulls":6},"",{"$nulls":8},5,"36 - 45 Seconds",null,"96 - 120 Seconds",{"$nulls":6},"",{"$nulls":8},5,"36 - 45 Seconds",null,"96 - 120 Seconds",{"$nulls":6},"",{"$nulls":8},5,"36 - 45 Seconds",null,"96 - 120 Seconds",{"$nulls":6},""]
[{"$nulls":6},5,"37 - 45 Seconds",null,"97 - 120 Seconds",{"$nulls":6},"",{"$nulls":8},5,"37 - 45 Seconds",null,"97 - 120 Seconds",{"$nulls":6},"",{"$nulls":18},"",{"$nulls":18},"",{"$nulls":18},"",{"$nulls":18},"",{"$nulls":18},"",{"$nulls":8},5,"37 - 45 Seconds",null,"97 - 120 Seconds",{"$nulls":6},"",{"$nulls":8},5,"37 - 45 Seconds",null,"97 - 120 Seconds",{"$nulls":6},"",{"$nulls":8},5,"37 - 45 Seconds",null,"97 - 120 Seconds",{"$nulls":6},"",{"$nulls":8},5,"37 - 45 Seconds",null,"97 - 120 Seconds",{"$nulls":6},""]
[{"$nulls":6},5,"30 - 45 Seconds",null,"90 - 120 Seconds",{"$nulls":6},"",{"$nulls":8},5,"30 - 45 Seconds",null,"90 - 120 Seconds",{"$nulls":6},"",{"$nulls":18},"",{"$nulls":18},"",{"$nulls":18},"",{"$nulls":18},"",{"$nulls":18},"",{"$nulls":8},5,"30 - 45 Seconds",null,"90 - 120 Seconds",{"$nulls":6},"",{"$nulls":8},5,"30 - 45 Seconds",null,"90 - 120 Seconds",{"$nulls":6},"",{"$nulls":8},5,"30 - 45 Seconds",null,"90 - 120 Seconds",{"$nulls":6},"",{"$nulls":8},5,"30 - 45 Seconds",null,"90 - 120 Seconds",{"$nulls":6},""]
[null,null,"Session RPE:",null,"Session Duration:",{"$nulls":4},"Session Score:",{"$nulls":3},{"$f":"IFERROR(IF(SUBSTITUTE(D84,\"RPE \",\"\")*G84, CONCATENATE(SUBSTITUTE(D84,\"RPE \",\"\")*G84, \" AU\"),0),0)","v":0},null,"Daily Totals:",{"$f":"IF(SUM(Q69:Q83)>0, SUM(Q69:Q83), \"\")","v":""},{"$f":"IF(MAX(R69:R83), MAX(R69:R83), \"\")","v":""},{"$nulls":3},"Session RPE:",null,"Session Duration:",{"$nulls":4},"Session Score:",{"$nulls":3},{"$f":"IFERROR(IF(SUBSTITUTE(W84,\"RPE \",\"\")*Z84, CONCATENATE(SUBSTITUTE(W84,\"RPE \",\"\")*Z84, \" AU\"),0),0)","v":0},null,"Daily Totals:",{"$f":"IF(SUM(AJ69:AJ83)>0, SUM(AJ69:AJ83), \"\")","v":""},{"$f":"IF(MAX(AK69:AK83), MAX(AK69:AK83), \"\")","v":""},{"$nulls":3},"Session RPE:",null,"Session Duration:",60,{"$nulls":3},"Session Score:",{"$nulls":3},{"$f":"IFERROR(IF(SUBSTITUTE(AP84,\"RPE \",\"\")*AS84, CONCATENATE(SUBSTITUTE(AP84,\"RPE \",\"\")*AS84, \" AU\"),0),0)","v":0},null,"Daily Totals:",{"$f":"IF(SUM(BC69:BC83)<1,\"\",CONCATENATE(SUM(BC69:BC83),\" Pounds\"))","v":""},{"$f":"IFERROR(IF(SUM(AW69:AW83), CONCATENATE(ROUND(SUM(AY69:AY83)/SUM(AW69:AW83),1), \" Pounds/Set\"),\"\"),\"\")","v":""},{"$f":"IF(MAX(BE69:BE83)>0,CONCATENATE(MAX(BE69:BE83),\" Pounds\"),\"\")","v":""},null,null,"Session RPE:",null,"Session Duration:",{"$nulls":4},"Session Score:",{"$nulls":3},{"$f":"IFERROR(IF(SUBSTITUTE(BI84,\"RPE \",\"\")*BL84, CONCATENATE(SUBSTITUTE(BI84,\"RPE \",\"\")*BL84, \" AU\"),0),0)","v":0},null,"Daily Totals:",{"$f":"IF(SUM(BV69:BV83)<1,\"\",SUM(BV69:BV83))","v":""},{"$f":"IFERROR(IF(SUM(BR69:BR83)/COUNT(BP69:BP83), ROUND(SUM(BR69:BR83)/COUNT(BP69:BP83),1),\"\"),\"\")","v":""},{"$f":"IF(MAX(BX69:BX83)>0,MAX(BX69:BX83),\"\")","v":""},null,null,"Session RPE:",null,"Session Duration:",{"$nulls":4},"Session Score:",{"$nulls":3},{"$f":"IFERROR(IF(SUBSTITUTE(CB84,\"RPE \",\"\")*CE84, CONCATENATE(SUBSTITUTE(CB84,\"RPE \",\"\")*CE84, \" AU\"),0),0)","v":0},null,"Daily Totals:",{"$f":"IF(SUM(CO69:CO83)<1,\"\",SUM(CO69:CO83))","v":""},{"$f":"IFERROR(IF(SUM(CK69:CK83)/COUNT(CI69:CI83), ROUND(SUM(CK69:CK83)/COUNT(CI69:CI83),1),\"\"),\"\")","v":""},{"$f":"IF(MAX(CQ69:CQ83)>0,MAX(CQ69:CQ83),\"\")","v":""},null,null,"Session RPE:",null,"Session Duration:",{"$nulls":4},"Session Score:",{"$nulls":3},{"$f":"IFERROR(IF(SUBSTITUTE(CU84,\"RPE \",\"\")*CX84, CONCATENATE(SUBSTITUTE(CU84,\"RPE \",\"\")*CX84, \" AU\"),0),0)","v":0},null,"Daily Totals:",{"$f":"IF(SUM(DH69:DH83)<1,\"\",SUM(DH69:DH83))","v":""},{"$f":"IFERROR(IF(SUM(DD69:DD83)/COUNT(DB69:DB83), ROUND(SUM(DD69:DD83)/COUNT(DB69:DB83),1),\"\"),\"\")","v":""},{"$f":"IF(MAX(DJ69:DJ83)>0,MAX(DJ69:DJ83),\"\")","v":""},null,null,"Session RPE:",null,"Session Duration:",{"$nulls":4},"Session Score:",{"$nulls":3},{"$f":"IFERROR(IF(SUBSTITUTE(DN84,\"RPE \",\"\")*DQ84, CONCATENATE(SUBSTITUTE(DN84,\"RPE \",\"\")*DQ84, \" AU\"),0),0)","v":0},null,"Daily Totals:",{"$f":"IF(SUM(EA69:EA83)<1,\"\",SUM(EA69:EA83))","v":""},{"$f":"IFERROR(IF(SUM(DW69:DW83)/COUNT(DU69:DU83), ROUND(SUM(DW69:DW83)/COUNT(DU69:DU83),1),\"\"),\"\")","v":""},{"$f":"IF(MAX(EC69:EC83)>0,MAX(EC69:EC83),\"\")","v":""},null,null,"Session RPE:",null,"Session Duration:",{"$nulls":4},"Session Score:",{"$nulls":3},{"$f":"IFERROR(IF(SUBSTITUTE(EG84,\"RPE \",\"\")*EJ84, CONCATENATE(SUBSTITUTE(EG84,\"RPE \",\"\")*EJ84, \" AU\"),0),0)","v":0},null,"Daily Totals:",{"$f":"IF(SUM(ET69:ET83)>0, SUM(ET69:ET83), \"\")","v":""},{"$f":"IF(MAX(EU69:EU83), MAX(EU69:EU83), \"\")","v":""},{"$nulls":3},"Session RPE:",null,"Session Duration:",{"$nulls":4},"Session Score:",{"$nulls":3},{"$f":"IFERROR(IF(SUBSTITUTE(EZ84,\"RPE \",\"\")*FC84, CONCATENATE(SUBSTITUTE(EZ84,\"RPE \",\"\")*FC84, \" AU\"),0),0)","v":0},null,"Daily Totals:",{"$f":"IF(SUM(FM69:FM83)>0, SUM(FM69:FM83), \"\")","v":""},{"$f":"IF(MAX(FN69:FN83), MAX(FN69:FN83), \"\")","v":""},{"$nulls":3},"Session RPE:",null,"Session Duration:",{"$nulls":4},"Session Score:",{"$nulls":3},{"$f":"IFERROR(IF(SUBSTITUTE(FS84,\"RPE \",\"\")*FV84, CONCATENATE(SUBSTITUTE(FS84,\"RPE \",\"\")*FV84, \" AU\"),0),0)","v":0},null,"Daily Totals:",{"$f":"IF(SUM(GF69:GF83)>0, SUM(GF69:GF83), \"\")","v":""},{"$f":"IF(MAX(GG69:GG83), MAX(GG69:GG83), \"\")","v":""},{"$nulls":3},"Session RPE:",null,"Session Duration:",{"$nulls":4},"Session Score:",{"$nulls":3},{"$f":"IFERROR(IF(SUBSTITUTE(GL84,\"RPE \",\"\")*GO84, CONCATENATE(SUBSTITUTE(GL84,\"RPE \",\"\")*GO84, \" AU\"),0),0)","v":0},null,"Daily Totals:",{"$f":"IF(SUM(GY69:GY83)>0, SUM(GY69:GY83), \"\")","v":""},{"$f":"IF(MAX(GZ69:GZ83), MAX(GZ69:GZ83), \"\")","v":""}]
[null,"Day","Weightlifting\n Movement","Cluster Type","Exercise","Tempo","Sets","Reps","Weight","Rest","Score",null,null,"Feedback",null,null,"Exercise Tonnage","Average Intensity","Absolute Intensity",null,"Day","Weightlifting\n Movement","Cluster Type","Exercise","Tempo","Sets","Reps","Weight","Rest","Score",null,null,"Feedback",null,null,"Exercise Tonnage","Average Intensity","Absolute Intensity",null,"Day","Type","Isotonic Type","Exercise","Tempo","Sets","Reps","Weight","Rest","Score",null,null,"Feedback",null,null,"Exercise Tonnage","Average Intensity","Absolute Intensity",null,"Day","Type","Isotonic Type","Exercise","Tempo","Sets","Reps","Weight","Rest","Score",null,null,"Feedback",null,null,"Exercise Tonnage","Average Intensity","Absolute Intensity",null,"Day","Type","Isotonic Type","Exercise","Tempo","Sets","Reps","Weight","Rest","Score",null,null,"Feedback",null,null,"Exercise Tonnage","Average Intensity","Absolute Intensity",null,"Day","Type","Isotonic Type","Exercise","Tempo","Sets","Reps","Weight","Rest","Score",null,null,"Feedback",null,null,"Exercise Tonnage","Average Intensity","Absolute Intensity",null,"Day","Type","Isotonic Type","Exercise","Tempo","Sets","Reps","Weight","Rest","Score",null,null,"Feedback",null,null,"Exercise Tonnage","Average Intensity","Absolute Intensity",null,"Day","Weightlifting\n Movement","Cluster Type","Exercise","Tempo","Sets","Reps","Weight","Rest","Score",null,null,"Feedback",null,null,"Exercise Tonnage","Average Intensity","Absolute Intensity",null,"Day","Weightlifting\n Movement","Cluster Type","Exercise","Tempo","Sets","Reps","Weight","Rest","Score",null,null,"Feedback",null,null,"Exercise Tonnage","Average Intensity","Absolute Intensity",null,"Day","Weightlifting\n Movement","Cluster Type","Exercise","Tempo","Sets","Reps","Weight","Rest","Score",null,null,"Feedback",null,null,"Exercise Tonnage","Average Intensity","Absolute Intensity",null,"Day","Weightlifting\n Movement","Cluster Type","Exercise","Tempo","Sets","Reps","Weight","Rest","Score",null,null,"Feedback",null,null,"Exercise Tonnage","Average Intensity","Absolute Intensity"]
[{"$nulls":10},"Sets","Reps","Weight",{"$nulls":16},"Sets","Reps","Weight",{"$nulls":16},"Sets","Reps","Weight",{"$nulls":16},"Sets","Reps","Weight",{"$nulls":16},"Sets","Reps","Weight",{"$nulls":16},"Sets","Reps","Weight",{"$nulls":16},"Sets","Reps","Weight",{"$nulls":16},"Sets","Reps","Weight",{"$nulls":16},"Sets","Reps","Weight",{"$nulls":16},"Sets","Reps","Weight",{"$nulls":16},"Sets","Reps","Weight"]
[null,"Biofeedback\nTest:",{"$nulls":14},{"$f":"IF(K87*L87*M87<1, \"\", K87*L87*M87)","v":""},{"$f":"IFERROR(IF(SUM(M87:M96)/COUNT(K87:K96), ROUND(SUM(M87:M96)/COUNT(K87:K96),1), \"\"),\"\")","v":""},{"$f":"IF(MAX(M87:M96),MAX(M87:M96),\"\")","v":""},null,"Biofeedback\nTest:",{"$nulls":14},{"$f":"IF(AD87*AE87*AF87<1, \"\", AD87*AE87*AF87)","v":""},{"$f":"IFERROR(IF(SUM(AF87:AF96)/COUNT(AD87:AD96), ROUND(SUM(AF87:AF96)/COUNT(AD87:AD96),1), \"\"),\"\")","v":""},{"$f":"IF(MAX(AF87:AF96),MAX(AF87:AF96),\"\")","v":""},null,"Biofeedback\nTest:",{"$nulls":14},{"$f":"IF(AW87*AX87*AY87<1, \"\", AW87*AX87*AY87)","v":""},{"$f":"IFERROR(IF(SUM(AY87:AY96)/COUNT(AW87:AW96), ROUND(SUM(AY87:AY96)/COUNT(AW87:AW96),1), \"\"),\"\")","v":""},{"$f":"IF(MAX(AY87:AY96),MAX(AY87:AY96),\"\")","v":""},null,"Biofeedback\nTest:",{"$nulls":14},{"$f":"IF(BP87*BQ87*BR87<1, \"\", BP87*BQ87*BR87)","v":""},{"$f":"IFERROR(IF(SUM(BR87:BR96)/COUNT(BP87:BP96), ROUND(SUM(BR87:BR96)/COUNT(BP87:BP96),1), \"\"),\"\")","v":""},{"$f":"IF(MAX(BR87:BR96),MAX(BR87:BR96),\"\")","v":""},null,"Biofeedback\nTest:",{"$nulls":14},{"$f":"IF(CI87*CJ87*CK87<1, \"\", CI87*CJ87*CK87)","v":""},{"$f":"IFERROR(IF(SUM(CK87:CK96)/COUNT(CI87:CI96), ROUND(SUM(CK87:CK96)/COUNT(CI87:CI96),1), \"\"),\"\")","v":""},{"$f":"IF(MAX(CK87:CK96),MAX(CK87:CK96),\"\")","v":""},null,"Biofeedback\nTest:",{"$nulls":14},{"$f":"IF(DB87*DC87*DD87<1, \"\", DB87*DC87*DD87)","v":""},{"$f":"IFERROR(IF(SUM(DD87:DD96)/COUNT(DB87:DB96), ROUND(SUM(DD87:DD96)/COUNT(DB87:DB96),1), \"\"),\"\")","v":""},{"$f":"IF(MAX(DD87:DD96),MAX(DD87:DD96),\"\")","v":""},null,"Biofeedback\nTest:",{"$nulls":14},{"$f":"IF(DU87*DV87*DW87<1, \"\", DU87*DV87*DW87)","v":""},{"$f":"IFERROR(IF(SUM(DW87:DW96)/COUNT(DU87:DU96), ROUND(SUM(DW87:DW96)/COUNT(DU87:DU96),1), \"\"),\"\")","v":""},{"$f":"IF(MAX(DW87:DW96),MAX(DW87:DW96),\"\")","v":""},null,"Biofeedback\nTest:",{"$nulls":14},{"$f":"IF(EN87*EO87*EP87<1, \"\", EN87*EO87*EP87)","v":""},{"$f":"IFERROR(IF(SUM(EP87:EP96)/COUNT(EN87:EN96), ROUND(SUM(EP87:EP96)/COUNT(EN87:EN96),1), \"\"),\"\")","v":""},{"$f":"IF(MAX(EP87:EP96),MAX(EP87:EP96),\"\")","v":""},null,"Biofeedback\nTest:",{"$nulls":14},{"$f":"IF(FG87*FH87*FI87<1, \"\", FG87*FH87*FI87)","v":""},{"$f":"IFERROR(IF(SUM(FI87:FI96)/COUNT(FG87:FG96), ROUND(SUM(FI87:FI96)/COUNT(FG87:FG96),1), \"\"),\"\")","v":""},{"$f":"IF(MAX(FI87:FI96),MAX(FI87:FI96),\"\")","v":""},null,"Biofeedback\nTest:",{"$nulls":14},{"$f":"IF(FZ87*GA87*GB87<1, \"\", FZ87*GA87*GB87)","v":""},{"$f":"IFERROR(IF(SUM(GB87:GB96)/COUNT(FZ87:FZ96), ROUND(SUM(GB87:GB96)/COUNT(FZ87:FZ96),1), \"\"),\"\")","v":""},{"$f":"IF(MAX(GB87:GB96),MAX(GB87:GB96),\"\")","v":""},null,"Biofeedback\nTest:",{"$nulls":14},{"$f":"IF(GS87*GT87*GU87<1, \"\", GS87*GT87*GU87)","v":""},{"$f":"IFERROR(IF(SUM(GU87:GU96)/COUNT(GS87:GS96), ROUND(SUM(GU87:GU96)/COUNT(GS87:GS96),1), \"\"),\"\")","v":""},{"$f":"IF(MAX(GU87:GU96),MAX(GU87:GU96),\"\")","v":""}]
[{"$nulls":16},{"$f":"IF(K88*L88*M88<1, \"\", K88*L88*M88)","v":""},{"$nulls":18},{"$f":"IF(AD88*AE88*AF88<1, \"\", AD88*AE88*AF88)","v":""},{"$nulls":18},{"$f":"IF(AW88*AX88*AY88<1, \"\", AW88*AX88*AY88)","v":""},{"$nulls":18},{"$f":"IF(BP88*BQ88*BR88<1, \"\", BP88*BQ88*BR88)","v":""},{"$nulls":18},{"$f":"IF(CI88*CJ88*CK88<1, \"\", CI88*CJ88*CK88)","v":""},{"$nulls":18},{"$f":"IF(DB88*DC88*DD88<1, \"\", DB88*DC88*DD88)","v":""},{"$nulls":18},{"$f":"IF(DU88*DV88*DW88<1, \"\", DU88*DV88*DW88)","v":""},{"$nulls":18},{"$f":"IF(EN88*EO88*EP88<1, \"\", EN88*EO88*EP88)","v":""},{"$nulls":18},{"$f":"IF(FG88*FH88*FI88<1, \"\", FG88*FH88*FI88)","v":""},{"$nulls":18},{"$f":"IF(FZ88*GA88*GB88<1, \"\", FZ88*GA88*GB88)","v":""},{"$nulls":18},{"$f":"IF(GS88*GT88*GU88<1, \"\", GS88*GT88*GU88)","v":""}]
[{"$nulls":16},"",{"$nulls":18},"",{"$nulls":18},"",{"$nulls":18},"",{"$nulls":18},"",{"$nulls":18},"",{"$nulls":18},"",{"$nulls":18},"",{"$nulls":18},"",{"$nulls":18},"",{"$nulls":18},""]
[{"$nulls":16},"",{"$nulls":18},"",{"$nulls":18},"",{"$nulls":18},"",{"$nulls":18},"",{"$nulls":18},"",{"$nulls":18},"",{"$nulls":18},"",{"$nulls":18},"",{"$nulls":18},"",{"$nulls":18},""]
[{"$nulls":16},"",{"$nulls":18},"",{"$nulls":18},"",{"$nulls":18},"",{"$nulls":18},"",{"$nulls":18},"",{"$nulls":18},"",{"$nulls":18},"",{"$nulls":18},"",{"$nulls":18},"",{"$nulls":18},""]
[{"$nulls":16},"",{"$nulls":18},"",{"$nulls":18},"",{"$nulls":18},"",{"$nulls":18},"",{"$nulls":18},"",{"$nulls":18},"",{"$nulls":18},"",{"$nulls":18},"",{"$nulls":18},"",{"$nulls":18},""]
[{"$nulls":16},"",{"$nulls":18},"",{"$nulls":18},"",{"$nulls":18},"",{"$nulls":18},"",{"$nulls":18},"",{"$nulls":18},"",{"$nulls":18},"",{"$nulls":18},"",{"$nulls":18},"",{"$nulls":18},""]
[null,"Day 5\nDynamic\n(Optional)\n+\nIsotonic",{"$nulls":14},"",{"$nulls":3},"Day 5\nDynamic\n(Optional)\n+\nIsotonic",{"$nulls":14},"",{"$nulls":3},"Day 5\nDynamic\n(Optional)\n+\nIsotonic",{"$nulls":14},"",{"$nulls":3},"Day 5\nDynamic\n(Optional)\n+\nIsotonic",{"$nulls":14},"",{"$nulls":3},"Day 5\nDynamic\n(Optional)\n+\nIsotonic",{"$nulls":14},"",{"$nulls":3},"Day 5\nDynamic\n(Optional)\n+\nIsotonic",{"$nulls":14},"",{"$nulls":3},"Day 5\nDynamic\n(Optional)\n+\nIsotonic",{"$nulls":14},"",{"$nulls":3},"Day 5\nDynamic\n(Optional)\n+\nIsotonic",{"$nulls":14},"",{"$nulls":3},"Day 5\nDynamic\n(Optional)\n+\nIsotonic",{"$nulls":14},"",{"$nulls":3},"Day 5\nDynamic\n(Optional)\n+\nIsotonic",{"$nulls":14},"",{"$nulls":3},"Day 5\nDynamic\n(Optional)\n+\nIsotonic",{"$nulls":14},""]
[{"$nulls":16},"",{"$nulls":18},"",{"$nulls":18},"",{"$nulls":18},"",{"$nulls":18},"",{"$nulls":18},"",{"$nulls":18},"",{"$nulls":18},"",{"$nulls":18},"",{"$nulls":18},"",{"$nulls":18},""]
[{"$nulls":16},"",{"$nulls":18},"",{"$nulls":18},"",{"$nulls":18},"",{"$nulls":18},"",{"$nulls":18},"",{"$nulls":18},"",{"$nulls":18},"",{"$nulls":18},"",{"$nulls":18},"",{"$nulls":18},""]
[null,null,"Type",null,"Isotonic Exercise","Tempo","Sets","Reps","Weight","Rest",{"$nulls":6},"Exercise Tonnage","Average Intensity","Absolute Intensity",null,null,"Type",null,"Isotonic Exercise","Tempo","Sets","Reps","Weight","Rest",{"$nulls":6},"Exercise Tonnage","Average Intensity","Absolute Intensity",null,null,"Type",null,"Isotonic Exercise","Tempo","Sets","Reps","Weight","Rest",{"$nulls":6},"Exercise Tonnage","Average Intensity","Absolute Intensity",null,null,"Type",null,"Isotonic Exercise","Tempo","Sets","Reps","Weight","Rest",{"$nulls":6},"Exercise Tonnage","Average Intensity","Absolute Intensity",null,null,"Type",null,"Isotonic Exercise","Tempo","Sets","Reps","Weight","Rest",{"$nulls":6},"Exercise Tonnage","Average Intensity","Absolute Intensity",null,null,"Type",null,"Isotonic Exercise","Tempo","Sets","Reps","Weight","Rest",{"$nulls":6},"Exercise Tonnage","Average Intensity","Absolute Intensity",null,null,"Type",null,"Isotonic Exercise","Tempo","Sets","Reps","Weight","Rest",{"$nulls":6},"Exercise Tonnage","Average Intensity","Absolute Intensity",null,null,"Type",null,"Isotonic Exercise","Tempo","Sets","Reps","Weight","Rest",{"$nulls":6},"Exercise Tonnage","Average Intensity","Absolute Intensity",null,null,"Type",null,"Isotonic Exercise","Tempo","Sets","Reps","Weight","Rest",{"$nulls":6},"Exercise Tonnage","Average Intensity","Absolute Intensity",null,null,"Type",null,"Isotonic Exercise","Tempo","Sets","Reps","Weight","Rest",{"$nulls":6},"Exercise Tonnage","Average Intensity","Absolute Intensity",null,null,"Type",null,"Isotonic Exercise","Tempo","Sets","Reps","Weight","Rest",{"$nulls":6},"Exercise Tonnage","Average Intensity","Absolute Intensity"]
[null,null,"Isotonic",{"$nulls":13},{"$f":"IF(SUMPRODUCT(K98:K102,L98:L102,M98:M102), SUMPRODUCT(K98:K102,L98:L102,M98:M102), \"\")","v":""},{"$f":"IFERROR(IF(SUM(M98:M102)/COUNT(K98:K102), ROUND(SUM(M98:M102)/COUNT(K98:K102),1), \"\"),\"\")","v":""},{"$f":"IF(MAX(M98:M102),MAX(M98:M102),\"\")","v":""},null,null,"Isotonic",{"$nulls":13},{"$f":"IF(SUMPRODUCT(AD98:AD102,AE98:AE102,AF98:AF102), SUMPRODUCT(AD98:AD102,AE98:AE102,AF98:AF102), \"\")","v":""},{"$f":"IFERROR(IF(SUM(AF98:AF102)/COUNT(AD98:AD102), ROUND(SUM(AF98:AF102)/COUNT(AD98:AD102),1), \"\"),\"\")","v":""},{"$f":"IF(MAX(AF98:AF102),MAX(AF98:AF102),\"\")","v":""},null,null,"Isotonic",{"$nulls":13},{"$f":"IF(SUMPRODUCT(AW98:AW102,AX98:AX102,AY98:AY102), SUMPRODUCT(AW98:AW102,AX98:AX102,AY98:AY102), \"\")","v":""},{"$f":"IFERROR(IF(SUM(AY98:AY102)/COUNT(AW98:AW102), ROUND(SUM(AY98:AY102)/COUNT(AW98:AW102),1), \"\"),\"\")","v":""},{"$f":"IF(MAX(AY98:AY102),MAX(AY98:AY102),\"\")","v":""},null,null,"Isotonic",{"$nulls":13},{"$f":"IF(SUMPRODUCT(BP98:BP102,BQ98:BQ102,BR98:BR102), SUMPRODUCT(BP98:BP102,BQ98:BQ102,BR98:BR102), \"\")","v":""},{"$f":"IFERROR(IF(SUM(BR98:BR102)/COUNT(BP98:BP102), ROUND(SUM(BR98:BR102)/COUNT(BP98:BP102),1), \"\"),\"\")","v":""},{"$f":"IF(MAX(BR98:BR102),MAX(BR98:BR102),\"\")","v":""},null,null,"Isotonic",{"$nulls":13},{"$f":"IF(SUMPRODUCT(CI98:CI102,CJ98:CJ102,CK98:CK102), SUMPRODUCT(CI98:CI102,CJ98:CJ102,CK98:CK102), \"\")","v":""},{"$f":"IFERROR(IF(SUM(CK98:CK102)/COUNT(CI98:CI102), ROUND(SUM(CK98:CK102)/COUNT(CI98:CI102),1), \"\"),\"\")","v":""},{"$f":"IF(MAX(CK98:CK102),MAX(CK98:CK102),\"\")","v":""},null,null,"Isotonic",{"$nulls":13},{"$f":"IF(SUMPRODUCT(DB98:DB102,DC98:DC102,DD98:DD102), SUMPRODUCT(DB98:DB102,DC98:DC102,DD98:DD102), \"\")","v":""},{"$f":"IFERROR(IF(SUM(DD98:DD102)/COUNT(DB98:DB102), ROUND(SUM(DD98:DD102)/COUNT(DB98:DB102),1), \"\"),\"\")","v":""},{"$f":"IF(MAX(DD98:DD102),MAX(DD98:DD102),\"\")","v":""},null,null,"Isotonic",{"$nulls":13},{"$f":"IF(SUMPRODUCT(DU98:DU102,DV98:DV102,DW98:DW102), SUMPRODUCT(DU98:DU102,DV98:DV102,DW98:DW102), \"\")","v":""},{"$f":"IFERROR(IF(SUM(DW98:DW102)/COUNT(DU98:DU102), ROUND(SUM(DW98:DW102)/COUNT(DU98:DU102),1), \"\"),\"\")","v":""},{"$f":"IF(MAX(DW98:DW102),MAX(DW98:DW102),\"\")","v":""},null,null,"Isotonic",{"$nulls":13},{"$f":"IF(SUMPRODUCT(EN98:EN102,EO98:EO102,EP98:EP102), SUMPRODUCT(EN98:EN102,EO98:EO102,EP98:EP102), \"\")","v":""},{"$f":"IFERROR(IF(SUM(EP98:EP102)/COUNT(EN98:EN102), ROUND(SUM(EP98:EP102)/COUNT(EN98:EN102),1), \"\"),\"\")","v":""},{"$f":"IF(MAX(EP98:EP102),MAX(EP98:EP102),\"\")","v":""},null,null,"Isotonic",{"$nulls":13},{"$f":"IF(SUMPRODUCT(FG98:FG102,FH98:FH102,FI98:FI102), SUMPRODUCT(FG98:FG102,FH98:FH102,FI98:FI102), \"\")","v":""},{"$f":"IFERROR(IF(SUM(FI98:FI102)/COUNT(FG98:FG102), ROUND(SUM(FI98:FI102)/COUNT(FG98:FG102),1), \"\"),\"\")","v":""},{"$f":"IF(MAX(FI98:FI102),MAX(FI98:FI102),\"\")","v":""},null,null,"Isotonic",{"$nulls":13},{"$f":"IF(SUMPRODUCT(FZ98:FZ102,GA98:GA102,GB98:GB102), SUMPRODUCT(FZ98:FZ102,GA98:GA102,GB98:GB102), \"\")","v":""},{"$f":"IFERROR(IF(SUM(GB98:GB102)/COUNT(FZ98:FZ102), ROUND(SUM(GB98:GB102)/COUNT(FZ98:FZ102),1), \"\"),\"\")","v":""},{"$f":"IF(MAX(GB98:GB102),MAX(GB98:GB102),\"\")","v":""},null,null,"Isotonic",{"$nulls":13},{"$f":"IF(SUMPRODUCT(GS98:GS102,GT98:GT102,GU98:GU102), SUMPRODUCT(GS98:GS102,GT98:GT102,GU98:GU102), \"\")","v":""},{"$f":"IFERROR(IF(SUM(GU98:GU102)/COUNT(GS98:GS102), ROUND(SUM(GU98:GU102)/COUNT(GS98:GS102),1), \"\"),\"\")","v":""},{"$f":"IF(MAX(GU98:GU102),MAX(GU98:GU102),\"\")","v":""}]
[]
[]
[]
[]
[{"$nulls":16},{"$f":"IF(SUMPRODUCT(K103:K107,L103:L107,M103:M107), SUMPRODUCT(K103:K107,L103:L107,M103:M107), \"\")","v":""},{"$f":"IFERROR(IF(SUM(M103:M107)/COUNT(K103:K107), ROUND(SUM(M103:M107)/COUNT(K103:K107),1), \"\"),\"\")","v":""},{"$f":"IF(MAX(M103:M107),MAX(M103:M107),\"\")","v":""},{"$nulls":16},{"$f":"IF(SUMPRODUCT(AD103:AD107,AE103:AE107,AF103:AF107), SUMPRODUCT(AD103:AD107,AE103:AE107,AF103:AF107), \"\")","v":""},{"$f":"IFERROR(IF(SUM(AF103:AF107)/COUNT(AD103:AD107), ROUND(SUM(AF103:AF107)/COUNT(AD103:AD107),1), \"\"),\"\")","v":""},{"$f":"IF(MAX(AF103:AF107),MAX(AF103:AF107),\"\")","v":""},{"$nulls":16},{"$f":"IF(SUMPRODUCT(AW103:AW107,AX103:AX107,AY103:AY107), SUMPRODUCT(AW103:AW107,AX103:AX107,AY103:AY107), \"\")","v":""},{"$f":"IFERROR(IF(SUM(AY103:AY107)/COUNT(AW103:AW107), ROUND(SUM(AY103:AY107)/COUNT(AW103:AW107),1), \"\"),\"\")","v":""},{"$f":"IF(MAX(AY103:AY107),MAX(AY103:AY107),\"\")","v":""},{"$nulls":16},{"$f":"IF(SUMPRODUCT(BP103:BP107,BQ103:BQ107,BR103:BR107), SUMPRODUCT(BP103:BP107,BQ103:BQ107,BR103:BR107), \"\")","v":""},{"$f":"IFERROR(IF(SUM(BR103:BR107)/COUNT(BP103:BP107), ROUND(SUM(BR103:BR107)/COUNT(BP103:BP107),1), \"\"),\"\")","v":""},{"$f":"IF(MAX(BR103:BR107),MAX(BR103:BR107),\"\")","v":""},{"$nulls":16},{"$f":"IF(SUMPRODUCT(CI103:CI107,CJ103:CJ107,CK103:CK107), SUMPRODUCT(CI103:CI107,CJ103:CJ107,CK103:CK107), \"\")","v":""},{"$f":"IFERROR(IF(SUM(CK103:CK107)/COUNT(CI103:CI107), ROUND(SUM(CK103:CK107)/COUNT(CI103:CI107),1), \"\"),\"\")","v":""},{"$f":"IF(MAX(CK103:CK107),MAX(CK103:CK107),\"\")","v":""},{"$nulls":16},{"$f":"IF(SUMPRODUCT(DB103:DB107,DC103:DC107,DD103:DD107), SUMPRODUCT(DB103:DB107,DC103:DC107,DD103:DD107), \"\")","v":""},{"$f":"IFERROR(IF(SUM(DD103:DD107)/COUNT(DB103:DB107), ROUND(SUM(DD103:DD107)/COUNT(DB103:DB107),1), \"\"),\"\")","v":""},{"$f":"IF(MAX(DD103:DD107),MAX(DD103:DD107),\"\")","v":""},{"$nulls":16},{"$f":"IF(SUMPRODUCT(DU103:DU107,DV103:DV107,DW103:DW107), SUMPRODUCT(DU103:DU107,DV103:DV107,DW103:DW107), \"\")","v":""},{"$f":"IFERROR(IF(SUM(DW103:DW107)/COUNT(DU103:DU107), ROUND(SUM(DW103:DW107)/COUNT(DU103:DU107),1), \"\"),\"\")","v":""},{"$f":"IF(MAX(DW103:DW107),MAX(DW103:DW107),\"\")","v":""},{"$nulls":16},{"$f":"IF(SUMPRODUCT(EN103:EN107,EO103:EO107,EP103:EP107), SUMPRODUCT(EN103:EN107,EO103:EO107,EP103:EP107), \"\")","v":""},{"$f":"IFERROR(IF(SUM(EP103:EP107)/COUNT(EN103:EN107), ROUND(SUM(EP103:EP107)/COUNT(EN103:EN107),1), \"\"),\"\")","v":""},{"$f":"IF(MAX(EP103:EP107),MAX(EP103:EP107),\"\")","v":""},{"$nulls":16},{"$f":"IF(SUMPRODUCT(FG103:FG107,FH103:FH107,FI103:FI107), SUMPRODUCT(FG103:FG107,FH103:FH107,FI103:FI107), \"\")","v":""},{"$f":"IFERROR(IF(SUM(FI103:FI107)/COUNT(FG103:FG107), ROUND(SUM(FI103:FI107)/COUNT(FG103:FG107),1), \"\"),\"\")","v":""},{"$f":"IF(MAX(FI103:FI107),MAX(FI103:FI107),\"\")","v":""},{"$nulls":16},{"$f":"IF(SUMPRODUCT(FZ103:FZ107,GA103:GA107,GB103:GB107), SUMPRODUCT(FZ103:FZ107,GA103:GA107,GB103:GB107), \"\")","v":""},{"$f":"IFERROR(IF(SUM(GB103:GB107)/COUNT(FZ103:FZ107), ROUND(SUM(GB103:GB107)/COUNT(FZ103:FZ107),1), \"\"),\"\")","v":""},{"$f":"IF(MAX(GB103:GB107),MAX(GB103:GB107),\"\")","v":""},{"$nulls":16},{"$f":"IF(SUMPRODUCT(GS103:GS107,GT103:GT107,GU103:GU107), SUMPRODUCT(GS103:GS107,GT103:GT107,GU103:GU107), \"\")","v":""},{"$f":"IFERROR(IF(SUM(GU103:GU107)/COUNT(GS103:GS107), ROUND(SUM(GU103:GU107)/COUNT(GS103:GS107),1), \"\"),\"\")","v":""},{"$f":"IF(MAX(GU103:GU107),MAX(GU103:GU107),\"\")","v":""}]
[]
[]
[]
[]
[{"$nulls":16},{"$f":"IF(SUMPRODUCT(K108:K112,L108:L112,M108:M112), SUMPRODUCT(K108:K112,L108:L112,M108:M112), \"\")","v":""},{"$f":"IFERROR(IF(SUM(M108:M112)/COUNT(K108:K112), ROUND(SUM(M108:M112)/COUNT(K108:K112),1), \"\"),\"\")","v":""},{"$f":"IF(MAX(M108:M112),MAX(M108:M112),\"\")","v":""},{"$nulls":16},{"$f":"IF(SUMPRODUCT(AD108:AD112,AE108:AE112,AF108:AF112), SUMPRODUCT(AD108:AD112,AE108:AE112,AF108:AF112), \"\")","v":""},{"$f":"IFERROR(IF(SUM(AF108:AF112)/COUNT(AD108:AD112), ROUND(SUM(AF108:AF112)/COUNT(AD108:AD112),1), \"\"),\"\")","v":""},{"$f":"IF(MAX(AF108:AF112),MAX(AF108:AF112),\"\")","v":""},{"$nulls":16},{"$f":"IF(SUMPRODUCT(AW108:AW112,AX108:AX112,AY108:AY112), SUMPRODUCT(AW108:AW112,AX108:AX112,AY108:AY112), \"\")","v":""},{"$f":"IFERROR(IF(SUM(AY108:AY112)/COUNT(AW108:AW112), ROUND(SUM(AY108:AY112)/COUNT(AW108:AW112),1), \"\"),\"\")","v":""},{"$f":"IF(MAX(AY108:AY112),MAX(AY108:AY112),\"\")","v":""},{"$nulls":16},{"$f":"IF(SUMPRODUCT(BP108:BP112,BQ108:BQ112,BR108:BR112), SUMPRODUCT(BP108:BP112,BQ108:BQ112,BR108:BR112), \"\")","v":""},{"$f":"IFERROR(IF(SUM(BR108:BR112)/COUNT(BP108:BP112), ROUND(SUM(BR108:BR112)/COUNT(BP108:BP112),1), \"\"),\"\")","v":""},{"$f":"IF(MAX(BR108:BR112),MAX(BR108:BR112),\"\")","v":""},{"$nulls":16},{"$f":"IF(SUMPRODUCT(CI108:CI112,CJ108:CJ112,CK108:CK112), SUMPRODUCT(CI108:CI112,CJ108:CJ112,CK108:CK112), \"\")","v":""},{"$f":"IFERROR(IF(SUM(CK108:CK112)/COUNT(CI108:CI112), ROUND(SUM(CK108:CK112)/COUNT(CI108:CI112),1), \"\"),\"\")","v":""},{"$f":"IF(MAX(CK108:CK112),MAX(CK108:CK112),\"\")","v":""},{"$nulls":16},{"$f":"IF(SUMPRODUCT(DB108:DB112,DC108:DC112,DD108:DD112), SUMPRODUCT(DB108:DB112,DC108:DC112,DD108:DD112), \"\")","v":""},{"$f":"IFERROR(IF(SUM(DD108:DD112)/COUNT(DB108:DB112), ROUND(SUM(DD108:DD112)/COUNT(DB108:DB112),1), \"\"),\"\")","v":""},{"$f":"IF(MAX(DD108:DD112),MAX(DD108:DD112),\"\")","v":""},{"$nulls":16},{"$f":"IF(SUMPRODUCT(DU108:DU112,DV108:DV112,DW108:DW112), SUMPRODUCT(DU108:DU112,DV108:DV112,DW108:DW112), \"\")","v":""},{"$f":"IFERROR(IF(SUM(DW108:DW112)/COUNT(DU108:DU112), ROUND(SUM(DW108:DW112)/COUNT(DU108:DU112),1), \"\"),\"\")","v":""},{"$f":"IF(MAX(DW108:DW112),MAX(DW108:DW112),\"\")","v":""},{"$nulls":16},{"$f":"IF(SUMPRODUCT(EN108:EN112,EO108:EO112,EP108:EP112), SUMPRODUCT(EN108:EN112,EO108:EO112,EP108:EP112), \"\")","v":""},{"$f":"IFERROR(IF(SUM(EP108:EP112)/COUNT(EN108:EN112), ROUND(SUM(EP108:EP112)/COUNT(EN108:EN112),1), \"\"),\"\")","v":""},{"$f":"IF(MAX(EP108:EP112),MAX(EP108:EP112),\"\")","v":""},{"$nulls":16},{"$f":"IF(SUMPRODUCT(FG108:FG112,FH108:FH112,FI108:FI112), SUMPRODUCT(FG108:FG112,FH108:FH112,FI108:FI112), \"\")","v":""},{"$f":"IFERROR(IF(SUM(FI108:FI112)/COUNT(FG108:FG112), ROUND(SUM(FI108:FI112)/COUNT(FG108:FG112),1), \"\"),\"\")","v":""},{"$f":"IF(MAX(FI108:FI112),MAX(FI108:FI112),\"\")","v":""},{"$nulls":16},{"$f":"IF(SUMPRODUCT(FZ108:FZ112,GA108:GA112,GB108:GB112), SUMPRODUCT(FZ108:FZ112,GA108:GA112,GB108:GB112), \"\")","v":""},{"$f":"IFERROR(IF(SUM(GB108:GB112)/COUNT(FZ108:FZ112), ROUND(SUM(GB108:GB112)/COUNT(FZ108:FZ112),1), \"\"),\"\")","v":""},{"$f":"IF(MAX(GB108:GB112),MAX(GB108:GB112),\"\")","v":""},{"$nulls":16},{"$f":"IF(SUMPRODUCT(GS108:GS112,GT108:GT112,GU108:GU112), SUMPRODUCT(GS108:GS112,GT108:GT112,GU108:GU112), \"\")","v":""},{"$f":"IFERROR(IF(SUM(GU108:GU112)/COUNT(GS108:GS112), ROUND(SUM(GU108:GU112)/COUNT(GS108:GS112),1), \"\"),\"\")","v":""},{"$f":"IF(MAX(GU108:GU112),MAX(GU108:GU112),\"\")","v":""}]
[]
[]
[]
[]
[null,null,"Session RPE:",null,"Session Duration:",{"$nulls":4},"Session Score:",{"$nulls":3},{"$f":"IFERROR(IF(SUBSTITUTE(D113,\"RPE \",\"\")*G113, CONCATENATE(SUBSTITUTE(D113,\"RPE \",\"\")*G113, \" AU\"),0),0)","v":0},null,"Daily Totals:",{"$f":"IF(SUM(Q98:Q112)<1,\"\",SUM(Q98:Q112))","v":""},{"$f":"IFERROR(IF(SUM(M98:M112)/COUNT(K98:K112), ROUND(SUM(M98:M112)/COUNT(K98:K112),1),\"\"),\"\")","v":""},{"$f":"IF(SUM(S98:S112)>0,SUM(S98:S112),\"\")","v":""},null,null,"Session RPE:",null,"Session Duration:",{"$nulls":4},"Session Score:",{"$nulls":3},{"$f":"IFERROR(IF(SUBSTITUTE(W113,\"RPE \",\"\")*Z113, CONCATENATE(SUBSTITUTE(W113,\"RPE \",\"\")*Z113, \" AU\"),0),0)","v":0},null,"Daily Totals:",{"$f":"IF(SUM(AJ98:AJ112)<1,\"\",SUM(AJ98:AJ112))","v":""},{"$f":"IFERROR(IF(SUM(AF98:AF112)/COUNT(AD98:AD112), ROUND(SUM(AF98:AF112)/COUNT(AD98:AD112),1),\"\"),\"\")","v":""},{"$f":"IF(SUM(AL98:AL112)>0,SUM(AL98:AL112),\"\")","v":""},null,null,"Session RPE:",null,"Session Duration:",{"$nulls":4},"Session Score:",{"$nulls":3},{"$f":"IFERROR(IF(SUBSTITUTE(AP113,\"RPE \",\"\")*AS113, CONCATENATE(SUBSTITUTE(AP113,\"RPE \",\"\")*AS113, \" AU\"),0),0)","v":0},null,"Daily Totals:",{"$f":"IF(SUM(BC98:BC112)<1,\"\",SUM(BC98:BC112))","v":""},{"$f":"IFERROR(IF(SUM(AY98:AY112)/COUNT(AW98:AW112), ROUND(SUM(AY98:AY112)/COUNT(AW98:AW112),1),\"\"),\"\")","v":""},{"$f":"IF(SUM(BE98:BE112)>0,SUM(BE98:BE112),\"\")","v":""},null,null,"Session RPE:",null,"Session Duration:",{"$nulls":4},"Session Score:",{"$nulls":3},{"$f":"IFERROR(IF(SUBSTITUTE(BI113,\"RPE \",\"\")*BL113, CONCATENATE(SUBSTITUTE(BI113,\"RPE \",\"\")*BL113, \" AU\"),0),0)","v":0},null,"Daily Totals:",{"$f":"IF(SUM(BV98:BV112)<1,\"\",SUM(BV98:BV112))","v":""},{"$f":"IFERROR(IF(SUM(BR98:BR112)/COUNT(BP98:BP112), ROUND(SUM(BR98:BR112)/COUNT(BP98:BP112),1),\"\"),\"\")","v":""},{"$f":"IF(SUM(BX98:BX112)>0,SUM(BX98:BX112),\"\")","v":""},null,null,"Session RPE:",null,"Session Duration:",{"$nulls":4},"Session Score:",{"$nulls":3},{"$f":"IFERROR(IF(SUBSTITUTE(CB113,\"RPE \",\"\")*CE113, CONCATENATE(SUBSTITUTE(CB113,\"RPE \",\"\")*CE113, \" AU\"),0),0)","v":0},null,"Daily Totals:",{"$f":"IF(SUM(CO98:CO112)<1,\"\",SUM(CO98:CO112))","v":""},{"$f":"IFERROR(IF(SUM(CK98:CK112)/COUNT(CI98:CI112), ROUND(SUM(CK98:CK112)/COUNT(CI98:CI112),1),\"\"),\"\")","v":""},{"$f":"IF(SUM(CQ98:CQ112)>0,SUM(CQ98:CQ112),\"\")","v":""},null,null,"Session RPE:",null,"Session Duration:",{"$nulls":4},"Session Score:",{"$nulls":3},{"$f":"IFERROR(IF(SUBSTITUTE(CU113,\"RPE \",\"\")*CX113, CONCATENATE(SUBSTITUTE(CU113,\"RPE \",\"\")*CX113, \" AU\"),0),0)","v":0},null,"Daily Totals:",{"$f":"IF(SUM(DH98:DH112)<1,\"\",SUM(DH98:DH112))","v":""},{"$f":"IFERROR(IF(SUM(DD98:DD112)/COUNT(DB98:DB112), ROUND(SUM(DD98:DD112)/COUNT(DB98:DB112),1),\"\"),\"\")","v":""},{"$f":"IF(SUM(DJ98:DJ112)>0,SUM(DJ98:DJ112),\"\")","v":""},null,null,"Session RPE:",null,"Session Duration:",{"$nulls":4},"Session Score:",{"$nulls":3},{"$f":"IFERROR(IF(SUBSTITUTE(DN113,\"RPE \",\"\")*DQ113, CONCATENATE(SUBSTITUTE(DN113,\"RPE \",\"\")*DQ113, \" AU\"),0),0)","v":0},null,"Daily Totals:",{"$f":"IF(SUM(EA98:EA112)<1,\"\",SUM(EA98:EA112))","v":""},{"$f":"IFERROR(IF(SUM(DW98:DW112)/COUNT(DU98:DU112), ROUND(SUM(DW98:DW112)/COUNT(DU98:DU112),1),\"\"),\"\")","v":""},{"$f":"IF(SUM(EC98:EC112)>0,SUM(EC98:EC112),\"\")","v":""},null,null,"Session RPE:",null,"Session Duration:",{"$nulls":4},"Session Score:",{"$nulls":3},{"$f":"IFERROR(IF(SUBSTITUTE(EG113,\"RPE \",\"\")*EJ113, CONCATENATE(SUBSTITUTE(EG113,\"RPE \",\"\")*EJ113, \" AU\"),0),0)","v":0},null,"Daily Totals:",{"$f":"IF(SUM(ET98:ET112)<1,\"\",SUM(ET98:ET112))","v":""},{"$f":"IFERROR(IF(SUM(EP98:EP112)/COUNT(EN98:EN112), ROUND(SUM(EP98:EP112)/COUNT(EN98:EN112),1),\"\"),\"\")","v":""},{"$f":"IF(SUM(EV98:EV112)>0,SUM(EV98:EV112),\"\")","v":""},null,null,"Session RPE:",null,"Session Duration:",{"$nulls":4},"Session Score:",{"$nulls":3},{"$f":"IFERROR(IF(SUBSTITUTE(EZ113,\"RPE \",\"\")*FC113, CONCATENATE(SUBSTITUTE(EZ113,\"RPE \",\"\")*FC113, \" AU\"),0),0)","v":0},null,"Daily Totals:",{"$f":"IF(SUM(FM98:FM112)<1,\"\",SUM(FM98:FM112))","v":""},{"$f":"IFERROR(IF(SUM(FI98:FI112)/COUNT(FG98:FG112), ROUND(SUM(FI98:FI112)/COUNT(FG98:FG112),1),\"\"),\"\")","v":""},{"$f":"IF(SUM(FO98:FO112)>0,SUM(FO98:FO112),\"\")","v":""},null,null,"Session RPE:",null,"Session Duration:",{"$nulls":4},"Session Score:",{"$nulls":3},{"$f":"IFERROR(IF(SUBSTITUTE(FS113,\"RPE \",\"\")*FV113, CONCATENATE(SUBSTITUTE(FS113,\"RPE \",\"\")*FV113, \" AU\"),0),0)","v":0},null,"Daily Totals:",{"$f":"IF(SUM(GF98:GF112)<1,\"\",SUM(GF98:GF112))","v":""},{"$f":"IFERROR(IF(SUM(GB98:GB112)/COUNT(FZ98:FZ112), ROUND(SUM(GB98:GB112)/COUNT(FZ98:FZ112),1),\"\"),\"\")","v":""},{"$f":"IF(SUM(GH98:GH112)>0,SUM(GH98:GH112),\"\")","v":""},null,null,"Session RPE:",null,"Session Duration:",{"$nulls":4},"Session Score:",{"$nulls":3},{"$f":"IFERROR(IF(SUBSTITUTE(GL113,\"RPE \",\"\")*GO113, CONCATENATE(SUBSTITUTE(GL113,\"RPE \",\"\")*GO113, \" AU\"),0),0)","v":0},null,"Daily Totals:",{"$f":"IF(SUM(GY98:GY112)<1,\"\",SUM(GY98:GY112))","v":""},{"$f":"IFERROR(IF(SUM(GU98:GU112)/COUNT(GS98:GS112), ROUND(SUM(GU98:GU112)/COUNT(GS98:GS112),1),\"\"),\"\")","v":""},{"$f":"IF(SUM(HA98:HA112)>0,SUM(HA98:HA112),\"\")","v":""}]
[null,"Day","Type","Exercise",null,null,"Sets","Duration",null,"Rest","Objective Score",null,null,"Feedback",null,null,"Exercise\nTonnage","Absolute\nIntensity",null,null,"Day","Type","Exercise",null,null,"Sets","Duration",null,"Rest","Objective Score",null,null,"Feedback",null,null,"Exercise\nTonnage","Absolute\nIntensity",null,null,"Day","Type","Exercise",null,null,"Sets","Duration",null,"Rest","Objective Score",null,null,"Feedback",null,null,"Exercise\nTonnage","Absolute\nIntensity",null,null,"Day","Type","Exercise",null,null,"Sets","Duration",null,"Rest","Objective Score",null,null,"Feedback",null,null,"Exercise\nTonnage","Absolute\nIntensity",null,null,"Day","Type","Exercise",null,null,"Sets","Duration",null,"Rest","Objective Score",null,null,"Feedback",null,null,"Exercise\nTonnage","Absolute\nIntensity",null,null,"Day","Weightlifting\n Movement","Cluster Type","Exercise","Tempo","Sets","Reps","Weight","Rest","Score",null,null,"Feedback",null,null,"Exercise Tonnage","Average Intensity","Absolute Intensity",null,"Day","Weightlifting\n Movement","Cluster Type","Exercise","Tempo","Sets","Reps","Weight","Rest","Score",null,null,"Feedback",null,null,"Exercise Tonnage","Average Intensity","Absolute Intensity",null,"Day","Weightlifting\n Movement","Cluster Type","Exercise","Tempo","Sets","Reps","Weight","Rest","Score",null,null,"Feedback",null,null,"Exercise Tonnage","Average Intensity","Absolute Intensity",null,"Day","Weightlifting\n Movement","Cluster Type","Exercise","Tempo","Sets","Reps","Weight","Rest","Score",null,null,"Feedback",null,null,"Exercise Tonnage","Average Intensity","Absolute Intensity",null,"Day","Weightlifting\n Movement","Cluster Type","Exercise","Tempo","Sets","Reps","Weight","Rest","Score",null,null,"Feedback",null,null,"Exercise Tonnage","Average Intensity","Absolute Intensity",null,"Day","Weightlifting\n Movement","Cluster Type","Exercise","Tempo","Sets","Reps","Weight","Rest","Score",null,null,"Feedback",null,null,"Exercise Tonnage","Average Intensity","Absolute Intensity"]
[{"$nulls":10},"Sets","Duration","Weight",{"$nulls":16},"Sets","Duration","Weight",{"$nulls":16},"Sets","Duration","Weight",{"$nulls":16},"Sets","Duration","Weight",{"$nulls":16},"Sets","Duration","Weight",{"$nulls":16},"Sets","Reps","Weight",{"$nulls":16},"Sets","Reps","Weight",{"$nulls":16},"Sets","Reps","Weight",{"$nulls":16},"Sets","Reps","Weight",{"$nulls":16},"Sets","Reps","Weight",{"$nulls":16},"Sets","Reps","Weight"]
[null,"Biofeedback\nTest:","Double-Leg",{"$nulls":3},5,"30 - 45 Seconds",null,"90 - 120 Seconds",{"$nulls":6},{"$f":"IF(K116*L116*(M116)>0, K116*L116*(M116), \"\")","v":""},{"$f":"IF(MAX(M116:M120) > 0, MAX(M116:M120), \"\")","v":""},null,null,"Biofeedback\nTest:","Double-Leg",{"$nulls":13},{"$f":"IF(AD116*AE116*(AF116)>0, AD116*AE116*(AF116), \"\")","v":""},{"$f":"IF(MAX(AF116:AF120) > 0, MAX(AF116:AF120), \"\")","v":""},null,null,"Biofeedback\nTest:","Double-Leg",{"$nulls":3},5,"30 - 45 Seconds",null,"90 - 120 Seconds",{"$nulls":6},{"$f":"IF(AW116*AX116*(AY116)>0, AW116*AX116*(AY116), \"\")","v":""},{"$f":"IF(MAX(AY116:AY120) > 0, MAX(AY116:AY120), \"\")","v":""},null,null,"Biofeedback\nTest:","Double-Leg",{"$nulls":3},5,"30 - 45 Seconds",null,"90 - 120 Seconds",{"$nulls":6},{"$f":"IF(BP116*BQ116*(BR116)>0, BP116*BQ116*(BR116), \"\")","v":""},{"$f":"IF(MAX(BR116:BR120) > 0, MAX(BR116:BR120), \"\")","v":""},null,null,"Biofeedback\nTest:","Double-Leg",{"$nulls":3},5,"30 - 45 Seconds",null,"90 - 120 Seconds",{"$nulls":6},{"$f":"IF(CI116*CJ116*(CK116)>0, CI116*CJ116*(CK116), \"\")","v":""},{"$f":"IF(MAX(CK116:CK120) > 0, MAX(CK116:CK120), \"\")","v":""},null,null,"Biofeedback\nTest:","Snatch",{"$nulls":13},{"$f":"IF(DB116*DC116*DD116<1, \"\", DB116*DC116*DD116)","v":""},{"$f":"IFERROR(IF(SUM(DD116:DD120)/COUNT(DB116:DB120), ROUND(SUM(DD116:DD120)/COUNT(DB116:DB120),1), \"\"),\"\")","v":""},{"$f":"IF(MAX(DD116:DD120),MAX(DD116:DD120),\"\")","v":""},null,"Biofeedback\nTest:","Jerk",{"$nulls":13},{"$f":"IF(DU116*DV116*DW116<1, \"\", DU116*DV116*DW116)","v":""},{"$f":"IFERROR(IF(SUM(DU116:DU120),ROUND(SUM(DW116:DW120)/SUM(DU116:DU120),0), \"\"), \"\")","v":""},{"$f":"IF(MAX(DW116:DW120),MAX(DW116:DW120),\"\")","v":""},null,"Biofeedback\nTest:","Snatch",{"$nulls":13},{"$f":"IF(EN116*EO116*EP116<1, \"\", EN116*EO116*EP116)","v":""},{"$f":"IFERROR(IF(SUM(EP116:EP120)/COUNT(EN116:EN120), ROUND(SUM(EP116:EP120)/COUNT(EN116:EN120),1), \"\"),\"\")","v":""},{"$f":"IF(MAX(EP116:EP120),MAX(EP116:EP120),\"\")","v":""},null,"Biofeedback\nTest:","Snatch",{"$nulls":13},{"$f":"IF(FG116*FH116*FI116<1, \"\", FG116*FH116*FI116)","v":""},{"$f":"IFERROR(IF(SUM(FI116:FI120)/COUNT(FG116:FG120), ROUND(SUM(FI116:FI120)/COUNT(FG116:FG120),1), \"\"),\"\")","v":""},{"$f":"IF(MAX(FI116:FI120),MAX(FI116:FI120),\"\")","v":""},null,"Biofeedback\nTest:","Jerk",{"$nulls":13},{"$f":"IF(FZ116*GA116*GB116<1, \"\", FZ116*GA116*GB116)","v":""},{"$f":"IFERROR(IF(SUM(GB116:GB120)/COUNT(FZ116:FZ120), ROUND(SUM(GB116:GB120)/COUNT(FZ116:FZ120),1), \"\"),\"\")","v":""},{"$f":"IF(MAX(GB116:GB120),MAX(GB116:GB120),\"\")","v":""},null,"Biofeedback\nTest:","Jerk",{"$nulls":13},{"$f":"IF(GS116*GT116*GU116<1, \"\", GS116*GT116*GU116)","v":""},{"$f":"IFERROR(IF(SUM(GU116:GU120)/COUNT(GS116:GS120), ROUND(SUM(GU116:GU120)/COUNT(GS116:GS120),1), \"\"),\"\")","v":""},{"$f":"IF(MAX(GU116:GU120),MAX(GU116:GU120),\"\")","v":""}]
[{"$nulls":6},5,"30 - 45 Seconds",null,"90 - 120 Seconds",{"$nulls":6},{"$f":"IF(K117*L117*(M117)>0, K117*L117*(M117), \"\")","v":""},{"$nulls":18},{"$f":"IF(AD117*AE117*(AF117)>0, AD117*AE117*(AF117), \"\")","v":""},{"$nulls":8},5,"30 - 45 Seconds",null,"90 - 120 Seconds",{"$nulls":6},{"$f":"IF(AW117*AX117*(AY117)>0, AW117*AX117*(AY117), \"\")","v":""},{"$nulls":8},5,"30 - 45 Seconds",null,"90 - 120 Seconds",{"$nulls":6},{"$f":"IF(BP117*BQ117*(BR117)>0, BP117*BQ117*(BR117), \"\")","v":""},{"$nulls":8},5,"30 - 45 Seconds",null,"90 - 120 Seconds",{"$nulls":6},{"$f":"IF(CI117*CJ117*(CK117)>0, CI117*CJ117*(CK117), \"\")","v":""},{"$nulls":18},{"$f":"IF(DB117*DC117*DD117<1, \"\", DB117*DC117*DD117)","v":""},{"$nulls":18},{"$f":"IF(DU117*DV117*DW117<1, \"\", DU117*DV117*DW117)","v":""},{"$nulls":18},{"$f":"IF(EN117*EO117*EP117<1, \"\", EN117*EO117*EP117)","v":""},{"$nulls":18},{"$f":"IF(FG117*FH117*FI117<1, \"\", FG117*FH117*FI117)","v":""},{"$nulls":18},{"$f":"IF(FZ117*GA117*GB117<1, \"\", FZ117*GA117*GB117)","v":""},{"$nulls":18},{"$f":"IF(GS117*GT117*GU117<1, \"\", GS117*GT117*GU117)","v":""}]
[{"$nulls":6},5,"31 - 45 Seconds",null,"91 - 120 Seconds",{"$nulls":6},"",{"$nulls":18},"",{"$nulls":8},5,"31 - 45 Seconds",null,"91 - 120 Seconds",{"$nulls":6},"",{"$nulls":8},5,"31 - 45 Seconds",null,"91 - 120 Seconds",{"$nulls":6},"",{"$nulls":8},5,"31 - 45 Seconds",null,"91 - 120 Seconds",{"$nulls":6},"",{"$nulls":18},"",{"$nulls":18},"",{"$nulls":18},"",{"$nulls":18},"",{"$nulls":18},"",{"$nulls":18},""]
[{"$nulls":6},5,"32 - 45 Seconds",null,"92 - 120 Seconds",{"$nulls":6},"",{"$nulls":18},"",{"$nulls":8},5,"32 - 45 Seconds",null,"92 - 120 Seconds",{"$nulls":6},"",{"$nulls":8},5,"32 - 45 Seconds",null,"92 - 120 Seconds",{"$nulls":6},"",{"$nulls":8},5,"32 - 45 Seconds",null,"92 - 120 Seconds",{"$nulls":6},"",{"$nulls":18},"",{"$nulls":18},"",{"$nulls":18},"",{"$nulls":18},"",{"$nulls":18},"",{"$nulls":18},""]
[{"$nulls":6},5,"33 - 45 Seconds",null,"93 - 120 Seconds",{"$nulls":6},"",{"$nulls":18},"",{"$nulls":8},5,"33 - 45 Seconds",null,"93 - 120 Seconds",{"$nulls":6},"",{"$nulls":8},5,"33 - 45 Seconds",null,"93 - 120 Seconds",{"$nulls":6},"",{"$nulls":8},5,"33 - 45 Seconds",null,"93 - 120 Seconds",{"$nulls":6},"",{"$nulls":18},"",{"$nulls":18},"",{"$nulls":18},"",{"$nulls":18},"",{"$nulls":18},"",{"$nulls":18},""]
[null,"Day 6\nOptional Rest","Single-Leg",{"$nulls":3},5,"34 - 45 Seconds",null,"94 - 120 Seconds",{"$nulls":6},"",{"$f":"IF(MAX(M121:M125) > 0, MAX(M121:M125), \"\")","v":""},null,null,"Day 6\nOptional Rest","Single-Leg",{"$nulls":13},"",{"$f":"IF(MAX(AF121:AF125) > 0, MAX(AF121:AF125), \"\")","v":""},null,null,"Day 6\nOptional Rest","Single-Leg",{"$nulls":3},5,"34 - 45 Seconds",null,"94 - 120 Seconds",{"$nulls":6},"",{"$f":"IF(MAX(AY121:AY125) > 0, MAX(AY121:AY125), \"\")","v":""},null,null,"Day 6\nOptional Rest","Single-Leg",{"$nulls":3},5,"34 - 45 Seconds",null,"94 - 120 Seconds",{"$nulls":6},"",{"$f":"IF(MAX(BR121:BR125) > 0, MAX(BR121:BR125), \"\")","v":""},null,null,"Day 6\nOptional Rest","Single-Leg",{"$nulls":3},5,"34 - 45 Seconds",null,"94 - 120 Seconds",{"$nulls":6},"",{"$f":"IF(MAX(CK121:CK125) > 0, MAX(CK121:CK125), \"\")","v":""},null,null,"Day 6\nDynamics","Clean",{"$nulls":13},"",{"$f":"IFERROR(IF(SUM(DD121:DD125)/COUNT(DB121:DB125), ROUND(SUM(DD121:DD125)/COUNT(DB121:DB125),1), \"\"),\"\")","v":""},{"$f":"IF(MAX(DD121:DD125),MAX(DD121:DD125),\"\")","v":""},null,"Day 6\nDynamics","Jerk",{"$nulls":13},"",{"$f":"IFERROR(IF(SUM(DU121:DU125),ROUND(SUM(DW121:DW125)/SUM(DU121:DU125),0), \"\"), \"\")","v":""},{"$f":"IF(MAX(DW121:DW125),MAX(DW121:DW125),\"\")","v":""},null,"Day 6\nDynamics","Jerk",{"$nulls":13},"",{"$f":"IFERROR(IF(SUM(EP121:EP125)/COUNT(EN121:EN125), ROUND(SUM(EP121:EP125)/COUNT(EN121:EN125),1), \"\"),\"\")","v":""},{"$f":"IF(MAX(EP121:EP125),MAX(EP121:EP125),\"\")","v":""},null,"Day 6\nDynamics","Clean",{"$nulls":13},"",{"$f":"IFERROR(IF(SUM(FI121:FI125)/COUNT(FG121:FG125), ROUND(SUM(FI121:FI125)/COUNT(FG121:FG125),1), \"\"),\"\")","v":""},{"$f":"IF(MAX(FI121:FI125),MAX(FI121:FI125),\"\")","v":""},null,"Day 6\nDynamics","Jerk",{"$nulls":13},"",{"$f":"IFERROR(IF(SUM(GB121:GB125)/COUNT(FZ121:FZ125), ROUND(SUM(GB121:GB125)/COUNT(FZ121:FZ125),1), \"\"),\"\")","v":""},{"$f":"IF(MAX(GB121:GB125),MAX(GB121:GB125),\"\")","v":""},null,"Day 6\nDynamics","Jerk",{"$nulls":13},"",{"$f":"IFERROR(IF(SUM(GU121:GU125)/COUNT(GS121:GS125), ROUND(SUM(GU121:GU125)/COUNT(GS121:GS125),1), \"\"),\"\")","v":""},{"$f":"IF(MAX(GU121:GU125),MAX(GU121:GU125),\"\")","v":""}]
[{"$nulls":6},5,"35 - 45 Seconds",null,"95 - 120 Seconds",{"$nulls":6},"",{"$nulls":18},"",{"$nulls":8},5,"35 - 45 Seconds",null,"95 - 120 Seconds",{"$nulls":6},"",{"$nulls":8},5,"35 - 45 Seconds",null,"95 - 120 Seconds",{"$nulls":6},"",{"$nulls":8},5,"35 - 45 Seconds",null,"95 - 120 Seconds",{"$nulls":6},"",{"$nulls":18},"",{"$nulls":18},"",{"$nulls":18},"",{"$nulls":18},"",{"$nulls":18},"",{"$nulls":18},""]
[{"$nulls":6},5,"36 - 45 Seconds",null,"96 - 120 Seconds",{"$nulls":6},"",{"$nulls":18},"",{"$nulls":8},5,"36 - 45 Seconds",null,"96 - 120 Seconds",{"$nulls":6},"",{"$nulls":8},5,"36 - 45 Seconds",null,"96 - 120 Seconds",{"$nulls":6},"",{"$nulls":8},5,"36 - 45 Seconds",null,"96 - 120 Seconds",{"$nulls":6},"",{"$nulls":18},"",{"$nulls":18},"",{"$nulls":18},"",{"$nulls":18},"",{"$nulls":18},"",{"$nulls":18},""]
[{"$nulls":6},5,"37 - 45 Seconds",null,"97 - 120 Seconds",{"$nulls":6},"",{"$nulls":18},"",{"$nulls":8},5,"37 - 45 Seconds",null,"97 - 120 Seconds",{"$nulls":6},"",{"$nulls":8},5,"37 - 45 Seconds",null,"97 - 120 Seconds",{"$nulls":6},"",{"$nulls":8},5,"37 - 45 Seconds",null,"97 - 120 Seconds",{"$nulls":6},"",{"$nulls":18},"",{"$nulls":18},"",{"$nulls":18},"",{"$nulls":18},"",{"$nulls":18},"",{"$nulls":18},""]
[{"$nulls":6},5,"30 - 45 Seconds",null,"90 - 120 Seconds",{"$nulls":6},"",{"$nulls":18},"",{"$nulls":8},5,"30 - 45 Seconds",null,"90 - 120 Seconds",{"$nulls":6},"",{"$nulls":8},5,"30 - 45 Seconds",null,"90 - 120 Seconds",{"$nulls":6},"",{"$nulls":8},5,"30 - 45 Seconds",null,"90 - 120 Seconds",{"$nulls":6},"",{"$nulls":18},"",{"$nulls":18},"",{"$nulls":18},"",{"$nulls":18},"",{"$nulls":18},"",{"$nulls":18},""]
[null,null,"Single-Leg",{"$nulls":3},5,"34 - 45 Seconds",null,"94 - 120 Seconds",{"$nulls":6},"",{"$f":"IF(MAX(M126:M130) > 0, MAX(M126:M130), \"\")","v":""},{"$nulls":3},"Single-Leg",{"$nulls":13},"",{"$f":"IF(MAX(AF126:AF130) > 0, MAX(AF126:AF130), \"\")","v":""},{"$nulls":3},"Single-Leg",{"$nulls":3},5,"34 - 45 Seconds",null,"94 - 120 Seconds",{"$nulls":6},"",{"$f":"IF(MAX(AY126:AY130) > 0, MAX(AY126:AY130), \"\")","v":""},{"$nulls":3},"Single-Leg",{"$nulls":3},5,"34 - 45 Seconds",null,"94 - 120 Seconds",{"$nulls":6},"",{"$f":"IF(MAX(BR126:BR130) > 0, MAX(BR126:BR130), \"\")","v":""},{"$nulls":3},"Single-Leg",{"$nulls":3},5,"34 - 45 Seconds",null,"94 - 120 Seconds",{"$nulls":6},"",{"$f":"IF(MAX(CK126:CK130) > 0, MAX(CK126:CK130), \"\")","v":""},{"$nulls":3},"Snatch",{"$nulls":13},"",{"$f":"IFERROR(IF(SUM(DD126:DD130)/COUNT(DB126:DB130), ROUND(SUM(DD126:DD130)/COUNT(DB126:DB130),1), \"\"),\"\")","v":""},{"$f":"IF(MAX(DD126:DD130),MAX(DD126:DD130),\"\")","v":""},null,null,"Snatch",{"$nulls":13},"",{"$f":"IFERROR(IF(SUM(DU126:DU130),ROUND(SUM(DW126:DW130)/SUM(DU126:DU130),0), \"\"), \"\")","v":""},{"$f":"IF(MAX(DW126:DW130),MAX(DW126:DW130),\"\")","v":""},null,null,"Snatch",{"$nulls":13},"",{"$f":"IFERROR(IF(SUM(EP126:EP130)/COUNT(EN126:EN130), ROUND(SUM(EP126:EP130)/COUNT(EN126:EN130),1), \"\"),\"\")","v":""},{"$f":"IF(MAX(EP126:EP130),MAX(EP126:EP130),\"\")","v":""},null,null,"Clean",{"$nulls":13},"",{"$f":"IFERROR(IF(SUM(FI126:FI130)/COUNT(FG126:FG130), ROUND(SUM(FI126:FI130)/COUNT(FG126:FG130),1), \"\"),\"\")","v":""},{"$f":"IF(MAX(FI126:FI130),MAX(FI126:FI130),\"\")","v":""},null,null,"Snatch",{"$nulls":13},"",{"$f":"IFERROR(IF(SUM(GB126:GB130)/COUNT(FZ126:FZ130), ROUND(SUM(GB126:GB130)/COUNT(FZ126:FZ130),1), \"\"),\"\")","v":""},{"$f":"IF(MAX(GB126:GB130),MAX(GB126:GB130),\"\")","v":""},null,null,"Snatch",{"$nulls":13},"",{"$f":"IFERROR(IF(SUM(GU126:GU130)/COUNT(GS126:GS130), ROUND(SUM(GU126:GU130)/COUNT(GS126:GS130),1), \"\"),\"\")","v":""},{"$f":"IF(MAX(GU126:GU130),MAX(GU126:GU130),\"\")","v":""}]
[{"$nulls":6},5,"35 - 45 Seconds",null,"95 - 120 Seconds",{"$nulls":6},"",{"$nulls":18},"",{"$nulls":8},5,"35 - 45 Seconds",null,"95 - 120 Seconds",{"$nulls":6},"",{"$nulls":8},5,"35 - 45 Seconds",null,"95 - 120 Seconds",{"$nulls":6},"",{"$nulls":8},5,"35 - 45 Seconds",null,"95 - 120 Seconds",{"$nulls":6},"",{"$nulls":18},"",{"$nulls":18},"",{"$nulls":18},"",{"$nulls":18},"",{"$nulls":18},"",{"$nulls":18},""]
[{"$nulls":6},5,"36 - 45 Seconds",null,"96 - 120 Seconds",{"$nulls":6},"",{"$nulls":18},"",{"$nulls":8},5,"36 - 45 Seconds",null,"96 - 120 Seconds",{"$nulls":6},"",{"$nulls":8},5,"36 - 45 Seconds",null,"96 - 120 Seconds",{"$nulls":6},"",{"$nulls":8},5,"36 - 45 Seconds",null,"96 - 120 Seconds",{"$nulls":6},"",{"$nulls":18},"",{"$nulls":18},"",{"$nulls":18},"",{"$nulls":18},"",{"$nulls":18},"",{"$nulls":18},""]
[{"$nulls":6},5,"37 - 45 Seconds",null,"97 - 120 Seconds",{"$nulls":6},"",{"$nulls":18},"",{"$nulls":8},5,"37 - 45 Seconds",null,"97 - 120 Seconds",{"$nulls":6},"",{"$nulls":8},5,"37 - 45 Seconds",null,"97 - 120 Seconds",{"$nulls":6},"",{"$nulls":8},5,"37 - 45 Seconds",null,"97 - 120 Seconds",{"$nulls":6},"",{"$nulls":18},"",{"$nulls":18},"",{"$nulls":18},"",{"$nulls":18},"",{"$nulls":18},"",{"$nulls":18},""]
[{"$nulls":6},5,"30 - 45 Seconds",null,"90 - 120 Seconds",{"$nulls":6},"",{"$nulls":18},"",{"$nulls":8},5,"30 - 45 Seconds",null,"90 - 120 Seconds",{"$nulls":6},"",{"$nulls":8},5,"30 - 45 Seconds",null,"90 - 120 Seconds",{"$nulls":6},"",{"$nulls":8},5,"30 - 45 Seconds",null,"90 - 120 Seconds",{"$nulls":6},"",{"$nulls":18},"",{"$nulls":18},"",{"$nulls":18},"",{"$nulls":18},"",{"$nulls":18},"",{"$nulls":18},""]
[null,null,"Session RPE:",null,"Session Duration:",{"$nulls":4},"Session Score:",{"$nulls":3},{"$f":"IFERROR(IF(SUBSTITUTE(D131,\"RPE \",\"\")*G131, CONCATENATE(SUBSTITUTE(D131,\"RPE \",\"\")*G131, \" AU\"),0),0)","v":0},null,"Daily Totals:",{"$f":"IF(SUM(Q116:Q130)>0, SUM(Q116:Q130), \"\")","v":""},{"$f":"IF(MAX(R116:R130), MAX(R116:R130), \"\")","v":""},{"$nulls":3},"Session RPE:",null,"Session Duration:",{"$nulls":4},"Session Score:",{"$nulls":3},{"$f":"IFERROR(IF(SUBSTITUTE(W131,\"RPE \",\"\")*Z131, CONCATENATE(SUBSTITUTE(W131,\"RPE \",\"\")*Z131, \" AU\"),0),0)","v":0},null,"Daily Totals:",{"$f":"IF(SUM(AJ116:AJ130)>0, SUM(AJ116:AJ130), \"\")","v":""},{"$f":"IF(MAX(AK116:AK130), MAX(AK116:AK130), \"\")","v":""},{"$nulls":3},"Session RPE:",null,"Session Duration:",{"$nulls":4},"Session Score:",{"$nulls":3},{"$f":"IFERROR(IF(SUBSTITUTE(AP131,\"RPE \",\"\")*AS131, CONCATENATE(SUBSTITUTE(AP131,\"RPE \",\"\")*AS131, \" AU\"),0),0)","v":0},null,"Daily Totals:",{"$f":"IF(SUM(BC116:BC130)>0, SUM(BC116:BC130), \"\")","v":""},{"$f":"IF(MAX(BD116:BD130), MAX(BD116:BD130), \"\")","v":""},{"$nulls":3},"Session RPE:",null,"Session Duration:",{"$nulls":4},"Session Score:",{"$nulls":3},{"$f":"IFERROR(IF(SUBSTITUTE(BI131,\"RPE \",\"\")*BL131, CONCATENATE(SUBSTITUTE(BI131,\"RPE \",\"\")*BL131, \" AU\"),0),0)","v":0},null,"Daily Totals:",{"$f":"IF(SUM(BV116:BV130)>0, SUM(BV116:BV130), \"\")","v":""},{"$f":"IF(MAX(BW116:BW130), MAX(BW116:BW130), \"\")","v":""},{"$nulls":3},"Session RPE:",null,"Session Duration:",{"$nulls":4},"Session Score:",{"$nulls":3},{"$f":"IFERROR(IF(SUBSTITUTE(CB131,\"RPE \",\"\")*CE131, CONCATENATE(SUBSTITUTE(CB131,\"RPE \",\"\")*CE131, \" AU\"),0),0)","v":0},null,"Daily Totals:",{"$f":"IF(SUM(CO116:CO130)>0, SUM(CO116:CO130), \"\")","v":""},{"$f":"IF(MAX(CP116:CP130), MAX(CP116:CP130), \"\")","v":""},{"$nulls":3},"Session RPE:",null,"Session Duration:",{"$nulls":4},"Session Score:",{"$nulls":3},{"$f":"IFERROR(IF(SUBSTITUTE(CU131,\"RPE \",\"\")*CX131, CONCATENATE(SUBSTITUTE(CU131,\"RPE \",\"\")*CX131, \" AU\"),0),0)","v":0},null,"Daily Totals:",{"$f":"IF(SUM(DH116:DH130)<1,\"\",SUM(DH116:DH130))","v":""},{"$f":"IFERROR(IF(SUM(DD116:DD130)/COUNT(DB116:DB130), ROUND(SUM(DD116:DD130)/COUNT(DB116:DB130),1),\"\"),\"\")","v":""},{"$f":"IF(MAX(DJ116:DJ130)>0,MAX(DJ116:DJ130),\"\")","v":""},null,null,"Session RPE:",null,"Session Duration:",{"$nulls":4},"Session Score:",{"$nulls":3},{"$f":"IFERROR(IF(SUBSTITUTE(DN131,\"RPE \",\"\")*DQ131, CONCATENATE(SUBSTITUTE(DN131,\"RPE \",\"\")*DQ131, \" AU\"),0),0)","v":0},null,"Daily Totals:",{"$f":"IF(SUM(EA116:EA130)<1,\"\",SUM(EA116:EA130))","v":""},{"$f":"IFERROR(IF(SUM(DW116:DW130)/COUNT(DU116:DU130), ROUND(SUM(DW116:DW130)/COUNT(DU116:DU130),1),\"\"),\"\")","v":""},{"$f":"IF(MAX(EC116:EC130)>0,MAX(EC116:EC130),\"\")","v":""},null,null,"Session RPE:",null,"Session Duration:",60,{"$nulls":3},"Session Score:",{"$nulls":3},{"$f":"IFERROR(IF(SUBSTITUTE(EG131,\"RPE \",\"\")*EJ131, CONCATENATE(SUBSTITUTE(EG131,\"RPE \",\"\")*EJ131, \" AU\"),0),0)","v":0},null,"Daily Totals:",{"$f":"IF(SUM(ET116:ET130)<1,\"\",CONCATENATE(SUM(ET116:ET130),\" Pounds\"))","v":""},{"$f":"IFERROR(IF(SUM(EN116:EN130), CONCATENATE(ROUND(SUM(EP116:EP130)/SUM(EN116:EN130),1), \" Pounds/Set\"),\"\"),\"\")","v":""},{"$f":"IF(MAX(EV116:EV130)>0,CONCATENATE(MAX(EV116:EV130),\" Pounds\"),\"\")","v":""},null,null,"Session RPE:",null,"Session Duration:",{"$nulls":4},"Session Score:",{"$nulls":3},{"$f":"IFERROR(IF(SUBSTITUTE(EZ131,\"RPE \",\"\")*FC131, CONCATENATE(SUBSTITUTE(EZ131,\"RPE \",\"\")*FC131, \" AU\"),0),0)","v":0},null,"Daily Totals:",{"$f":"IF(SUM(FM116:FM130)<1,\"\",SUM(FM116:FM130))","v":""},{"$f":"IFERROR(IF(SUM(FI116:FI130)/COUNT(FG116:FG130), ROUND(SUM(FI116:FI130)/COUNT(FG116:FG130),1),\"\"),\"\")","v":""},{"$f":"IF(MAX(FO116:FO130)>0,MAX(FO116:FO130),\"\")","v":""},null,null,"Session RPE:",null,"Session Duration:",{"$nulls":4},"Session Score:",{"$nulls":3},{"$f":"IFERROR(IF(SUBSTITUTE(FS131,\"RPE \",\"\")*FV131, CONCATENATE(SUBSTITUTE(FS131,\"RPE \",\"\")*FV131, \" AU\"),0),0)","v":0},null,"Daily Totals:",{"$f":"IF(SUM(GF116:GF130)<1,\"\",SUM(GF116:GF130))","v":""},{"$f":"IFERROR(IF(SUM(GB116:GB130)/COUNT(FZ116:FZ130), ROUND(SUM(GB116:GB130)/COUNT(FZ116:FZ130),1),\"\"),\"\")","v":""},{"$f":"IF(MAX(GH116:GH130)>0,MAX(GH116:GH130),\"\")","v":""},null,null,"Session RPE:",null,"Session Duration:",{"$nulls":4},"Session Score:",{"$nulls":3},{"$f":"IFERROR(IF(SUBSTITUTE(GL131,\"RPE \",\"\")*GO131, CONCATENATE(SUBSTITUTE(GL131,\"RPE \",\"\")*GO131, \" AU\"),0),0)","v":0},null,"Daily Totals:",{"$f":"IF(SUM(GY116:GY130)<1,\"\",SUM(GY116:GY130))","v":""},{"$f":"IFERROR(IF(SUM(GU116:GU130)/COUNT(GS116:GS130), ROUND(SUM(GU116:GU130)/COUNT(GS116:GS130),1),\"\"),\"\")","v":""},{"$f":"IF(MAX(HA116:HA130)>0,MAX(HA116:HA130),\"\")","v":""}]
["WEEKLY \nTOTALS","Tonnage:",null,{"$f":"IF(SUM(Q15:Q29,Q51:Q65,Q98:Q112)>0, SUM(Q15:Q29,Q51:Q65,Q98:Q112),\"\")","v":""},"Average\nIntensity:",null,null,{"$f":"IFERROR(IF(SUM(M15:M29,M51:M65,M98:M112)/COUNT(K15:K29,K51:K65,K98:K112)>0,ROUND(SUM(M15:M29,M51:M65,M98:M112)/COUNT(K15:K29,K51:K65,K98:K112),1),\"\"),\"\")","v":""},null,null,"Absolute\n Intensity:",null,null,{"$f":"IF(SUM(S15:S29,S51:S65,S98:S112) > 0, SUM(S15:S29,S51:S65,S98:S112),\"\")","v":""},null,"Total AUs:",null,{"$f":"IFERROR(IF(SUBSTITUTE(N30, \" AU\", \"\") + SUBSTITUTE(N66, \" AU\", \"\")  + SUBSTITUTE(N113, \" AU\", \"\") > 0, CONCATENATE(SUBSTITUTE(N30, \" AU\", \"\") + SUBSTITUTE(N66, \" AU\", \"\")  + SUBSTITUTE(N113, \" AU\", \"\"), \" AU\"), \"\"),\"\")","v":""},null,null,"Tonnage:",null,{"$f":"IF(SUM(AJ15:AJ29,AJ51:AJ65,AJ98:AJ112)>0, SUM(AJ15:AJ29,AJ51:AJ65,AJ98:AJ112),\"\")","v":""},"Average\nIntensity:",null,null,{"$f":"IFERROR(IF(SUM(AF15:AF29,AF51:AF65,AF98:AF112)/COUNT(AD15:AD29,AD51:AD65,AD98:AD112)>0,ROUND(SUM(AF15:AF29,AF51:AF65,AF98:AF112)/COUNT(AD15:AD29,AD51:AD65,AD98:AD112),1),\"\"),\"\")","v":""},null,null,"Absolute\n Intensity:",null,null,{"$f":"IF(SUM(AL15:AL29,AL51:AL65,AL98:AL112) > 0, SUM(AL15:AL29,AL51:AL65,AL98:AL112),\"\")","v":""},null,"Total AUs:",null,{"$f":"IFERROR(IF(SUBSTITUTE(AG30, \" AU\", \"\") + SUBSTITUTE(AG66, \" AU\", \"\")  + SUBSTITUTE(AG113, \" AU\", \"\") > 0, CONCATENATE(SUBSTITUTE(AG30, \" AU\", \"\") + SUBSTITUTE(AG66, \" AU\", \"\")  + SUBSTITUTE(AG113, \" AU\", \"\"), \" AU\"), \"\"),\"\")","v":""},null,null,"Tonnage:",null,{"$f":"IF(SUM(BC15:BC29,BC51:BC65,BC98:BC112)>0, SUM(BC15:BC29,BC51:BC65,BC98:BC112),\"\")","v":""},"Average\nIntensity:",null,null,{"$f":"IFERROR(IF(SUM(AY15:AY29,AY51:AY65,AY98:AY112)/COUNT(AW15:AW29,AW51:AW65,AW98:AW112)>0,ROUND(SUM(AY15:AY29,AY51:AY65,AY98:AY112)/COUNT(AW15:AW29,AW51:AW65,AW98:AW112),1),\"\"),\"\")","v":""},null,null,"Absolute\n Intensity:",null,null,{"$f":"IF(SUM(BE15:BE29,BE51:BE65,BE98:BE112) > 0, SUM(BE15:BE29,BE51:BE65,BE98:BE112),\"\")","v":""},null,"Total AUs:",null,{"$f":"IFERROR(IF(SUBSTITUTE(AZ30, \" AU\", \"\") + SUBSTITUTE(AZ66, \" AU\", \"\")  + SUBSTITUTE(AZ113, \" AU\", \"\") > 0, CONCATENATE(SUBSTITUTE(AZ30, \" AU\", \"\") + SUBSTITUTE(AZ66, \" AU\", \"\")  + SUBSTITUTE(AZ113, \" AU\", \"\"), \" AU\"), \"\"),\"\")","v":""},null,null,"Tonnage:",null,{"$f":"IF(SUM(BV15:BV29,BV51:BV65,BV98:BV112)>0, SUM(BV15:BV29,BV51:BV65,BV98:BV112),\"\")","v":""},"Average\nIntensity:",null,null,{"$f":"IFERROR(IF(SUM(BR15:BR29,BR51:BR65,BR98:BR112)/COUNT(BP15:BP29,BP51:BP65,BP98:BP112)>0,ROUND(SUM(BR15:BR29,BR51:BR65,BR98:BR112)/COUNT(BP15:BP29,BP51:BP65,BP98:BP112),1),\"\"),\"\")","v":""},null,null,"Absolute\n Intensity:",null,null,{"$f":"IF(SUM(BX15:BX29,BX51:BX65,BX98:BX112) > 0, SUM(BX15:BX29,BX51:BX65,BX98:BX112),\"\")","v":""},null,"Total AUs:",null,{"$f":"IFERROR(IF(SUBSTITUTE(BS30, \" AU\", \"\") + SUBSTITUTE(BS66, \" AU\", \"\")  + SUBSTITUTE(BS113, \" AU\", \"\") > 0, CONCATENATE(SUBSTITUTE(BS30, \" AU\", \"\") + SUBSTITUTE(BS66, \" AU\", \"\")  + SUBSTITUTE(BS113, \" AU\", \"\"), \" AU\"), \"\"),\"\")","v":""},null,null,"Tonnage:",null,{"$f":"IF(SUM(CO15:CO29,CO51:CO65,CO98:CO112)>0, SUM(CO15:CO29,CO51:CO65,CO98:CO112),\"\")","v":""},"Average\nIntensity:",null,null,{"$f":"IFERROR(IF(SUM(CK15:CK29,CK51:CK65,CK98:CK112)/COUNT(CI15:CI29,CI51:CI65,CI98:CI112)>0,ROUND(SUM(CK15:CK29,CK51:CK65,CK98:CK112)/COUNT(CI15:CI29,CI51:CI65,CI98:CI112),1),\"\"),\"\")","v":""},null,null,"Absolute\n Intensity:",null,null,{"$f":"IF(SUM(CQ15:CQ29,CQ51:CQ65,CQ98:CQ112) > 0, SUM(CQ15:CQ29,CQ51:CQ65,CQ98:CQ112),\"\")","v":""},null,"Total AUs:",null,{"$f":"IFERROR(IF(SUBSTITUTE(CL30, \" AU\", \"\") + SUBSTITUTE(CL66, \" AU\", \"\")  + SUBSTITUTE(CL113, \" AU\", \"\") > 0, CONCATENATE(SUBSTITUTE(CL30, \" AU\", \"\") + SUBSTITUTE(CL66, \" AU\", \"\")  + SUBSTITUTE(CL113, \" AU\", \"\"), \" AU\"), \"\"),\"\")","v":""},null,null,"Tonnage:",null,{"$f":"IF(SUM(DH15:DH29,DH51:DH65,DH98:DH112)>0, SUM(DH15:DH29,DH51:DH65,DH98:DH112),\"\")","v":""},"Average\nIntensity:",null,null,{"$f":"IFERROR(IF(SUM(DD15:DD29,DD51:DD65,DD98:DD112)/COUNT(DB15:DB29,DB51:DB65,DB98:DB112)>0,ROUND(SUM(DD15:DD29,DD51:DD65,DD98:DD112)/COUNT(DB15:DB29,DB51:DB65,DB98:DB112),1),\"\"),\"\")","v":""},null,null,"Absolute\n Intensity:",null,null,{"$f":"IF(SUM(DJ15:DJ29,DJ51:DJ65,DJ98:DJ112) > 0, SUM(DJ15:DJ29,DJ51:DJ65,DJ98:DJ112),\"\")","v":""},null,"Total AUs:",null,{"$f":"IFERROR(IF(SUBSTITUTE(DE30, \" AU\", \"\") + SUBSTITUTE(DE66, \" AU\", \"\")  + SUBSTITUTE(DE113, \" AU\", \"\") > 0, CONCATENATE(SUBSTITUTE(DE30, \" AU\", \"\") + SUBSTITUTE(DE66, \" AU\", \"\")  + SUBSTITUTE(DE113, \" AU\", \"\"), \" AU\"), \"\"),\"\")","v":""},null,null,"Tonnage:",null,{"$f":"IF(SUM(EA15:EA29,EA51:EA65,EA98:EA112)>0, SUM(EA15:EA29,EA51:EA65,EA98:EA112),\"\")","v":""},"Average\nIntensity:",null,null,{"$f":"IFERROR(IF(SUM(DW15:DW29,DW51:DW65,DW98:DW112)/COUNT(DU15:DU29,DU51:DU65,DU98:DU112)>0,ROUND(SUM(DW15:DW29,DW51:DW65,DW98:DW112)/COUNT(DU15:DU29,DU51:DU65,DU98:DU112),1),\"\"),\"\")","v":""},null,null,"Absolute\n Intensity:",null,null,{"$f":"IF(SUM(EC15:EC29,EC51:EC65,EC98:EC112) > 0, SUM(EC15:EC29,EC51:EC65,EC98:EC112),\"\")","v":""},null,"Total AUs:",null,{"$f":"IFERROR(IF(SUBSTITUTE(DX30, \" AU\", \"\") + SUBSTITUTE(DX66, \" AU\", \"\")  + SUBSTITUTE(DX113, \" AU\", \"\") > 0, CONCATENATE(SUBSTITUTE(DX30, \" AU\", \"\") + SUBSTITUTE(DX66, \" AU\", \"\")  + SUBSTITUTE(DX113, \" AU\", \"\"), \" AU\"), \"\"),\"\")","v":""},null,null,"Tonnage:",null,{"$f":"IF(SUM(ET15:ET29,ET51:ET65,ET98:ET112)>0, SUM(ET15:ET29,ET51:ET65,ET98:ET112),\"\")","v":""},"Average\nIntensity:",null,null,{"$f":"IFERROR(IF(SUM(EP15:EP29,EP51:EP65,EP98:EP112)/COUNT(EN15:EN29,EN51:EN65,EN98:EN112)>0,ROUND(SUM(EP15:EP29,EP51:EP65,EP98:EP112)/COUNT(EN15:EN29,EN51:EN65,EN98:EN112),1),\"\"),\"\")","v":""},null,null,"Absolute\n Intensity:",null,null,{"$f":"IF(SUM(EV15:EV29,EV51:EV65,EV98:EV112) > 0, SUM(EV15:EV29,EV51:EV65,EV98:EV112),\"\")","v":""},null,"Total AUs:",null,{"$f":"IFERROR(IF(SUBSTITUTE(EQ30, \" AU\", \"\") + SUBSTITUTE(EQ66, \" AU\", \"\")  + SUBSTITUTE(EQ113, \" AU\", \"\") > 0, CONCATENATE(SUBSTITUTE(EQ30, \" AU\", \"\") + SUBSTITUTE(EQ66, \" AU\", \"\")  + SUBSTITUTE(EQ113, \" AU\", \"\"), \" AU\"), \"\"),\"\")","v":""},null,null,"Tonnage:",null,{"$f":"IF(SUM(FM15:FM29,FM51:FM65,FM98:FM112)>0, SUM(FM15:FM29,FM51:FM65,FM98:FM112),\"\")","v":""},"Average\nIntensity:",null,null,{"$f":"IFERROR(IF(SUM(FI15:FI29,FI51:FI65,FI98:FI112)/COUNT(FG15:FG29,FG51:FG65,FG98:FG112)>0,ROUND(SUM(FI15:FI29,FI51:FI65,FI98:FI112)/COUNT(FG15:FG29,FG51:FG65,FG98:FG112),1),\"\"),\"\")","v":""},null,null,"Absolute\n Intensity:",null,null,{"$f":"IF(SUM(FO15:FO29,FO51:FO65,FO98:FO112) > 0, SUM(FO15:FO29,FO51:FO65,FO98:FO112),\"\")","v":""},null,"Total AUs:",null,{"$f":"IFERROR(IF(SUBSTITUTE(FJ30, \" AU\", \"\") + SUBSTITUTE(FJ66, \" AU\", \"\")  + SUBSTITUTE(FJ113, \" AU\", \"\") > 0, CONCATENATE(SUBSTITUTE(FJ30, \" AU\", \"\") + SUBSTITUTE(FJ66, \" AU\", \"\")  + SUBSTITUTE(FJ113, \" AU\", \"\"), \" AU\"), \"\"),\"\")","v":""},null,null,"Tonnage:",null,{"$f":"IF(SUM(GF15:GF29,GF51:GF65,GF98:GF112)>0, SUM(GF15:GF29,GF51:GF65,GF98:GF112),\"\")","v":""},"Average\nIntensity:",null,null,{"$f":"IFERROR(IF(SUM(GB15:GB29,GB51:GB65,GB98:GB112)/COUNT(FZ15:FZ29,FZ51:FZ65,FZ98:FZ112)>0,ROUND(SUM(GB15:GB29,GB51:GB65,GB98:GB112)/COUNT(FZ15:FZ29,FZ51:FZ65,FZ98:FZ112),1),\"\"),\"\")","v":""},null,null,"Absolute\n Intensity:",null,null,{"$f":"IF(SUM(GH15:GH29,GH51:GH65,GH98:GH112) > 0, SUM(GH15:GH29,GH51:GH65,GH98:GH112),\"\")","v":""},null,"Total AUs:",null,{"$f":"IFERROR(IF(SUBSTITUTE(GC30, \" AU\", \"\") + SUBSTITUTE(GC66, \" AU\", \"\")  + SUBSTITUTE(GC113, \" AU\", \"\") > 0, CONCATENATE(SUBSTITUTE(GC30, \" AU\", \"\") + SUBSTITUTE(GC66, \" AU\", \"\")  + SUBSTITUTE(GC113, \" AU\", \"\"), \" AU\"), \"\"),\"\")","v":""},null,null,"Tonnage:",null,{"$f":"IF(SUM(GY15:GY29,GY51:GY65,GY98:GY112)>0, SUM(GY15:GY29,GY51:GY65,GY98:GY112),\"\")","v":""},"Average\nIntensity:",null,null,{"$f":"IFERROR(IF(SUM(GU15:GU29,GU51:GU65,GU98:GU112)/COUNT(GS15:GS29,GS51:GS65,GS98:GS112)>0,ROUND(SUM(GU15:GU29,GU51:GU65,GU98:GU112)/COUNT(GS15:GS29,GS51:GS65,GS98:GS112),1),\"\"),\"\")","v":""},null,null,"Absolute\n Intensity:",null,null,{"$f":"IF(SUM(HA15:HA29,HA51:HA65,HA98:HA112) > 0, SUM(HA15:HA29,HA51:HA65,HA98:HA112),\"\")","v":""},null,"Total AUs:",null,{"$f":"IFERROR(IF(SUBSTITUTE(GV30, \" AU\", \"\") + SUBSTITUTE(GV66, \" AU\", \"\")  + SUBSTITUTE(GV113, \" AU\", \"\") > 0, CONCATENATE(SUBSTITUTE(GV30, \" AU\", \"\") + SUBSTITUTE(GV66, \" AU\", \"\")  + SUBSTITUTE(GV113, \" AU\", \"\"), \" AU\"), \"\"),\"\")","v":""}]
[null,"Weekly\n% Difference",null,{"$f":"IF( D132 <> \"\", (IF(D132<>\"\",D132, 0) - IF('Phase II '!BI95<>\"\",'Phase II '!BI95, 0))/IF('Phase II '!BI95<>\"\",'Phase II '!BI95, 1), \"\")","v":""},{"$nulls":3},{"$f":"IF( H132 <> \"\", (IF(H132<>\"\",H132, 0) - IF('Phase II '!BM95<>\"\",'Phase II '!BM95, 0))/IF('Phase II '!BM95<>\"\",'Phase II '!BM95, 1), \"\")","v":""},{"$nulls":5},{"$f":"IF(N132 <> \"\", (IF(N132<>\"\",N132, 0) - IF('Phase II '!BS95<>\"\",'Phase II '!BS95, 0))/IF('Phase II '!BS95<>\"\",'Phase II '!BS95,1), \"\")","v":""},{"$nulls":3},{"$f":"IF(R132 <> \"\", (IF(R132<>\"\",SUBSTITUTE(R132,\" AU\",\"\"), 0) - IF('Phase II '!BW95<>\"\",SUBSTITUTE('Phase II '!BW95,\" AU\",\"\"), 0))/IF('Phase II '!BW95<>\"\",SUBSTITUTE('Phase II '!BW95,\" AU\",\"\"), 1), \"\")","v":""},null,null,"Weekly\n% Difference",null,{"$f":"IF( W132 <> \"\", (IF(W132<>\"\",W132, 0) - IF(D132<>\"\",D132, 0))/IF(D132<>\"\",D132, 1), \"\")","v":""},{"$nulls":3},{"$f":"IF( AA132 <> \"\", (IF(AA132<>\"\",AA132, 0) - IF(H132<>\"\",H132, 0))/IF(H132<>\"\",H132, 1), \"\")","v":""},{"$nulls":5},{"$f":"IF(AG132 <> \"\", (IF(AG132<>\"\",AG132, 0) - IF(N132<>\"\",N132, 0))/IF(N132<>\"\",N132,1), \"\")","v":""},{"$nulls":3},{"$f":"IF(AK132 <> \"\", (IF(AK132<>\"\",SUBSTITUTE(AK132,\" AU\",\"\"), 0) - IF(R132<>\"\",SUBSTITUTE(R132,\" AU\",\"\"), 0))/IF(R132<>\"\",SUBSTITUTE(R132,\" AU\",\"\"), 1), \"\")","v":""},null,null,"Weekly\n% Difference",null,{"$f":"IF( AP132 <> \"\", (IF(AP132<>\"\",AP132, 0) - IF(W132<>\"\",W132, 0))/IF(W132<>\"\",W132, 1), \"\")","v":""},{"$nulls":3},{"$f":"IF( AT132 <> \"\", (IF(AT132<>\"\",AT132, 0) - IF(AA132<>\"\",AA132, 0))/IF(AA132<>\"\",AA132, 1), \"\")","v":""},{"$nulls":5},{"$f":"IF(AZ132 <> \"\", (IF(AZ132<>\"\",AZ132, 0) - IF(AG132<>\"\",AG132, 0))/IF(AG132<>\"\",AG132,1), \"\")","v":""},{"$nulls":3},{"$f":"IF(BD132 <> \"\", (IF(BD132<>\"\",SUBSTITUTE(BD132,\" AU\",\"\"), 0) - IF(AK132<>\"\",SUBSTITUTE(AK132,\" AU\",\"\"), 0))/IF(AK132<>\"\",SUBSTITUTE(AK132,\" AU\",\"\"), 1), \"\")","v":""},null,null,"Weekly\n% Difference",null,{"$f":"IF( BI132 <> \"\", (IF(BI132<>\"\",BI132, 0) - IF(AP132<>\"\",AP132, 0))/IF(AP132<>\"\",AP132, 1), \"\")","v":""},{"$nulls":3},{"$f":"IF( BM132 <> \"\", (IF(BM132<>\"\",BM132, 0) - IF(AT132<>\"\",AT132, 0))/IF(AT132<>\"\",AT132, 1), \"\")","v":""},{"$nulls":5},{"$f":"IF(BS132 <> \"\", (IF(BS132<>\"\",BS132, 0) - IF(AZ132<>\"\",AZ132, 0))/IF(AZ132<>\"\",AZ132,1), \"\")","v":""},{"$nulls":3},{"$f":"IF(BW132 <> \"\", (IF(BW132<>\"\",SUBSTITUTE(BW132,\" AU\",\"\"), 0) - IF(BD132<>\"\",SUBSTITUTE(BD132,\" AU\",\"\"), 0))/IF(BD132<>\"\",SUBSTITUTE(BD132,\" AU\",\"\"), 1), \"\")","v":""},null,null,"Weekly\n% Difference",null,{"$f":"IF( CB132 <> \"\", (IF(CB132<>\"\",CB132, 0) - IF(BI132<>\"\",BI132, 0))/IF(BI132<>\"\",BI132, 1), \"\")","v":""},{"$nulls":3},{"$f":"IF( CF132 <> \"\", (IF(CF132<>\"\",CF132, 0) - IF(BM132<>\"\",BM132, 0))/IF(BM132<>\"\",BM132, 1), \"\")","v":""},{"$nulls":5},{"$f":"IF(CL132 <> \"\", (IF(CL132<>\"\",CL132, 0) - IF(BS132<>\"\",BS132, 0))/IF(BS132<>\"\",BS132,1), \"\")","v":""},{"$nulls":3},{"$f":"IF(CP132 <> \"\", (IF(CP132<>\"\",SUBSTITUTE(CP132,\" AU\",\"\"), 0) - IF(BW132<>\"\",SUBSTITUTE(BW132,\" AU\",\"\"), 0))/IF(BW132<>\"\",SUBSTITUTE(BW132,\" AU\",\"\"), 1), \"\")","v":""},null,null,"Weekly\n% Difference",null,{"$f":"IF( CU132 <> \"\", (IF(CU132<>\"\",CU132, 0) - IF(CB132<>\"\",CB132, 0))/IF(CB132<>\"\",CB132, 1), \"\")","v":""},{"$nulls":3},{"$f":"IF( CY132 <> \"\", (IF(CY132<>\"\",CY132, 0) - IF(CF132<>\"\",CF132, 0))/IF(CF132<>\"\",CF132, 1), \"\")","v":""},{"$nulls":5},{"$f":"IF(DE132 <> \"\", (IF(DE132<>\"\",DE132, 0) - IF(CL132<>\"\",CL132, 0))/IF(CL132<>\"\",CL132,1), \"\")","v":""},{"$nulls":3},{"$f":"IF(DI132 <> \"\", (IF(DI132<>\"\",SUBSTITUTE(DI132,\" AU\",\"\"), 0) - IF(CP132<>\"\",SUBSTITUTE(CP132,\" AU\",\"\"), 0))/IF(CP132<>\"\",SUBSTITUTE(CP132,\" AU\",\"\"), 1), \"\")","v":""},null,null,"Weekly\n% Difference",null,{"$f":"IF( DN132 <> \"\", (IF(DN132<>\"\",DN132, 0) - IF(CU132<>\"\",CU132, 0))/IF(CU132<>\"\",CU132, 1), \"\")","v":""},{"$nulls":3},{"$f":"IF( DR132 <> \"\", (IF(DR132<>\"\",DR132, 0) - IF(CY132<>\"\",CY132, 0))/IF(CY132<>\"\",CY132, 1), \"\")","v":""},{"$nulls":5},{"$f":"IF(DX132 <> \"\", (IF(DX132<>\"\",DX132, 0) - IF(DE132<>\"\",DE132, 0))/IF(DE132<>\"\",DE132,1), \"\")","v":""},{"$nulls":3},{"$f":"IF(EB132 <> \"\", (IF(EB132<>\"\",SUBSTITUTE(EB132,\" AU\",\"\"), 0) - IF(DI132<>\"\",SUBSTITUTE(DI132,\" AU\",\"\"), 0))/IF(DI132<>\"\",SUBSTITUTE(DI132,\" AU\",\"\"), 1), \"\")","v":""},null,null,"Weekly\n% Difference",null,{"$f":"IF( EG132 <> \"\", (IF(EG132<>\"\",EG132, 0) - IF(DN132<>\"\",DN132, 0))/IF(DN132<>\"\",DN132, 1), \"\")","v":""},{"$nulls":3},{"$f":"IF( EK132 <> \"\", (IF(EK132<>\"\",EK132, 0) - IF(DR132<>\"\",DR132, 0))/IF(DR132<>\"\",DR132, 1), \"\")","v":""},{"$nulls":5},{"$f":"IF(EQ132 <> \"\", (IF(EQ132<>\"\",EQ132, 0) - IF(DX132<>\"\",DX132, 0))/IF(DX132<>\"\",DX132,1), \"\")","v":""},{"$nulls":3},{"$f":"IF(EU132 <> \"\", (IF(EU132<>\"\",SUBSTITUTE(EU132,\" AU\",\"\"), 0) - IF(EB132<>\"\",SUBSTITUTE(EB132,\" AU\",\"\"), 0))/IF(EB132<>\"\",SUBSTITUTE(EB132,\" AU\",\"\"), 1), \"\")","v":""},null,null,"Weekly\n% Difference",null,{"$f":"IF( EZ132 <> \"\", (IF(EZ132<>\"\",EZ132, 0) - IF(EG132<>\"\",EG132, 0))/IF(EG132<>\"\",EG132, 1), \"\")","v":""},{"$nulls":3},{"$f":"IF( FD132 <> \"\", (IF(FD132<>\"\",FD132, 0) - IF(EK132<>\"\",EK132, 0))/IF(EK132<>\"\",EK132, 1), \"\")","v":""},{"$nulls":5},{"$f":"IF(FJ132 <> \"\", (IF(FJ132<>\"\",FJ132, 0) - IF(EQ132<>\"\",EQ132, 0))/IF(EQ132<>\"\",EQ132,1), \"\")","v":""},{"$nulls":3},{"$f":"IF(FN132 <> \"\", (IF(FN132<>\"\",SUBSTITUTE(FN132,\" AU\",\"\"), 0) - IF(EU132<>\"\",SUBSTITUTE(EU132,\" AU\",\"\"), 0))/IF(EU132<>\"\",SUBSTITUTE(EU132,\" AU\",\"\"), 1), \"\")","v":""},null,null,"Weekly\n% Difference",null,{"$f":"IF( FS132 <> \"\", (IF(FS132<>\"\",FS132, 0) - IF(EZ132<>\"\",EZ132, 0))/IF(EZ132<>\"\",EZ132, 1), \"\")","v":""},{"$nulls":3},{"$f":"IF( FW132 <> \"\", (IF(FW132<>\"\",FW132, 0) - IF(FD132<>\"\",FD132, 0))/IF(FD132<>\"\",FD132, 1), \"\")","v":""},{"$nulls":5},{"$f":"IF(GC132 <> \"\", (IF(GC132<>\"\",GC132, 0) - IF(FJ132<>\"\",FJ132, 0))/IF(FJ132<>\"\",FJ132,1), \"\")","v":""},{"$nulls":3},{"$f":"IF(GG132 <> \"\", (IF(GG132<>\"\",SUBSTITUTE(GG132,\" AU\",\"\"), 0) - IF(FN132<>\"\",SUBSTITUTE(FN132,\" AU\",\"\"), 0))/IF(FN132<>\"\",SUBSTITUTE(FN132,\" AU\",\"\"), 1), \"\")","v":""},null,null,"Weekly\n% Difference",null,{"$f":"IF( GL132 <> \"\", (IF(GL132<>\"\",GL132, 0) - IF(FS132<>\"\",FS132, 0))/IF(FS132<>\"\",FS132, 1), \"\")","v":""},{"$nulls":3},{"$f":"IF( GP132 <> \"\", (IF(GP132<>\"\",GP132, 0) - IF(FW132<>\"\",FW132, 0))/IF(FW132<>\"\",FW132, 1), \"\")","v":""},{"$nulls":5},{"$f":"IF(GV132 <> \"\", (IF(GV132<>\"\",GV132, 0) - IF(GC132<>\"\",GC132, 0))/IF(GC132<>\"\",GC132,1), \"\")","v":""},{"$nulls":3},{"$f":"IF(GZ132 <> \"\", (IF(GZ132<>\"\",SUBSTITUTE(GZ132,\" AU\",\"\"), 0) - IF(GG132<>\"\",SUBSTITUTE(GG132,\" AU\",\"\"), 0))/IF(GG132<>\"\",SUBSTITUTE(GG132,\" AU\",\"\"), 1), \"\")","v":""}]

{"sheet":"Phase IV","index":4,"n_rows":63,"n_cols":68,"rows_kept":63,"merged":[[0,0,0,67],[1,0,2,0],[1,1,2,1],[1,2,2,2],[1,3,2,3],[1,4,2,4],[1,5,2,5],[1,6,2,6],[1,7,2,7],[1,8,1,10],[1,11,2,13],[1,14,2,14],[1,15,2,15],[1,16,2,16],[1,17,2,17],[1,18,2,18],[1,19,2,19],[1,20,2,20],[1,21,2,21],[1,22,2,22],[1,23,2,23],[1,24,2,24],[1,25,1,27],[1,28,2,30],[1,31,2,31],[1,32,2,32],[1,33,2,33],[1,34,2,34],[1,35,2,35],[1,36,2,36],[1,37,2,37],[1,38,2,38],[1,39,2,39],[1,40,2,40],[1,41,2,41],[1,42,1,44],[1,45,2,47],[1,48,2,48],[1,49,2,49],[1,50,2,50],[1,51,2,51],[1,52,2,52],[1,53,2,53],[1,54,2,54],[1,55,2,55],[1,56,2,56],[1,57,2,57],[1,58,2,58],[1,59,1,61],[1,62,2,64],[1,65,2,65],[1,66,2,66],[1,67,2,67],[3,0,60,0],[3,1,11,1],[3,11,5,13],[3,14,5,14],[3,15,5,15],[3,16,5,16],[3,17,60,17],[3,18,11,18],[3,28,5,30],[3,31,5,31],[3,32,5,32],[3,33,5,33],[3,34,60,34],[3,35,11,35],[3,45,5,47],[3,48,5,48],[3,49,5,49],[3,50,5,50],[3,51,60,51],[3,52,11,52],[3,62,5,64],[3,65,5,65],[3,66,5,66],[3,67,5,67],[6,11,8,13],[6,14,8,14],[6,15,8,15],[6,16,8,16],[6,28,8,30],[6,31,8,31],[6,32,8,32],[6,33,8,33],[6,45,8,47],[6,48,8,48],[6,49,8,49],[6,50,8,50],[6,62,8,64],[6,65,8,65],[6,66,8,66],[6,67,8,67],[9,11,11,13],[9,14,11,14],[9,15,11,15],[9,16,11,16],[9,28,11,30],[9,31,11,31],[9,32,11,32],[9,33,11,33],[9,45,11,47],[9,48,11,48],[9,49,11,49],[9,50,11,50],[9,62,11,64],[9,65,11,65],[9,66,11,66],[9,67,11,67],[12,5,12,8],[12,9,12,10],[12,22,12,25],[12,26,12,27],[12,39,12,42],[12,43,12,44],[12,45,12,46],[12,56,12,59],[12,60,12,61],[13,1,14,1],[13,2,14,2],[13,3,14,3],[13,4,14,4],[13,5,14,5],[13,6,14,6],[13,7,14,7],[13,8,13,10],[13,11,14,13],[13,14,14,14],[13,15,14,15],[13,16,14,16],[13,18,14,18],[13,19,14,19],[13,20,14,20],[13,21,14,21],[13,22,14,22],[13,23,14,23],[13,24,14,24],[13,25,13,27],[13,28,14,30],[13,31,14,31],[13,32,14,32],[13,33,14,33],[13,35,14,35],[13,36,14,36],[13,37,14,37],[13,38,14,38],[13,39,14,39],[13,40,14,40],[13,41,14,41],[13,42,13,44],[13,45,14,47],[13,48,14,48],[13,49,14,49],[13,50,14,50],[13,52,14,52],[13,53,14,53],[13,54,14,54],[13,55,14,55],[13,56,14,56],[13,57,14,57],[13,58,14,58],[13,59,13,61],[13,62,14,64],[13,65,14,65],[13,66,14,66],[13,67,14,67],[15,1,23,1],[15,11,17,13],[15,14,17,14],[15,15,17,15],[15,16,17,16],[15,18,23,18],[15,28,17,30],[15,31,17,31],[15,32,17,32],[15,33,17,33],[15,35,23,35],[15,45,17,47],[15,48,17,48],[15,49,17,49],[15,50,17,50],[15,52,23,52],[15,62,17,64],[15,65,17,65],[15,66,17,66],[15,67,17,67],[18,11,20,13],[18,14,20,14],[18,15,20,15],[18,16,20,16],[18,28,20,30],[18,31,20,31],[18,32,20,32],[18,33,20,33],[18,45,20,47],[18,48,20,48],[18,49,20,49],[18,50,20,50],[18,62,20,64],[18,65,20,65],[18,66,20,66],[18,67,20,67],[21,11,23,13],[21,14,23,14],[21,15,23,15],[21,16,23,16],[21,28,23,30],[21,31,23,31],[21,32,23,32],[21,33,23,33],[21,45,23,47],[21,48,23,48],[21,49,23,49],[21,50,23,50],[21,62,23,64],[21,65,23,65],[21,66,23,66],[21,67,23,67],[24,5,24,8],[24,9,24,10],[24,22,24,25],[24,26,24,27],[24,39,24,42],[24,43,24,44],[24,56,24,59],[24,60,24,61],[25,1,26,1],[25,2,26,2],[25,3,26,3],[25,4,26,4],[25,5,26,5],[25,6,26,6],[25,7,26,7],[25,8,25,10],[25,11,26,13],[25,14,26,14],[25,15,26,15],[25,16,26,16],[25,18,26,18],[25,19,26,19],[25,20,26,20],[25,21,26,21],[25,22,26,22],[25,23,26,23],[25,24,26,24],[25,25,25,27],[25,28,26,30],[25,31,26,31],[25,32,26,32],[25,33,26,33],[25,35,26,35],[25,36,26,36],[25,37,26,37],[25,38,26,38],[25,39,26,39],[25,40,26,40],[25,41,26,41],[25,42,25,44],[25,45,26,47],[25,48,26,48],[25,49,26,49],[25,50,26,50],[25,52,26,52],[25,53,26,53],[25,54,26,54],[25,55,26,55],[25,56,26,56],[25,57,26,57],[25,58,26,58],[25,59,25,61],[25,62,26,64],[25,65,26,65],[25,66,26,66],[25,67,26,67],[27,1,35,1],[27,11,29,13],[27,14,29,14],[27,15,29,15],[27,16,29,16],[27,18,35,18],[27,28,29,30],[27,31,29,31],[27,32,29,32],[27,33,29,33],[27,35,35,35],[27,45,29,47],[27,48,29,48],[27,49,29,49],[27,50,29,50],[27,52,35,52],[27,62,29,64],[27,65,29,65],[27,66,29,66],[27,67,29,67],[30,11,32,13],[30,14,32,14],[30,15,32,15],[30,16,32,16],[30,28,32,30],[30,31,32,31],[30,32,32,32],[30,33,32,33],[30,45,32,47],[30,48,32,48],[30,49,32,49],[30,50,32,50],[30,62,32,64],[30,65,32,65],[30,66,32,66],[30,67,32,67],[33,11,35,13],[33,14,35,14],[33,15,35,15],[33,16,35,16],[33,28,35,30],[33,31,35,31],[33,32,35,32],[33,33,35,33],[33,45,35,47],[33,48,35,48],[33,49,35,49],[33,50,35,50],[33,62,35,64],[33,65,35,65],[33,66,35,66],[33,67,35,67],[36,5,36,8],[36,9,36,10],[36,22,36,25],[36,26,36,27],[36,39,36,42],[36,43,36,44],[36,56,36,59],[36,60,36,61],[37,1,38,1],[37,2,38,2],[37,3,38,3],[37,4,38,4],[37,5,38,5],[37,6,38,6],[37,7,38,7],[37,8,37,10],[37,11,38,13],[37,14,38,14],[37,15,38,15],[37,16,38,16],[37,18,38,18],[37,19,38,19],[37,20,38,20],[37,21,38,21],[37,22,38,22],[37,23,38,23],[37,24,38,24],[37,25,37,27],[37,28,38,30],[37,31,38,31],[37,32,38,32],[37,33,38,33],[37,35,38,35],[37,36,38,36],[37,37,38,37],[37,38,38,38],[37,39,38,39],[37,40,38,40],[37,41,38,41],[37,42,37,44],[37,45,38,47],[37,48,38,48],[37,49,38,49],[37,50,38,50],[37,52,38,52],[37,53,38,53],[37,54,38,54],[37,55,38,55],[37,56,38,56],[37,57,38,57],[37,58,38,58],[37,59,37,61],[37,62,38,64],[37,65,38,65],[37,66,38,66],[37,67,38,67],[39,1,47,1],[39,11,41,13],[39,14,41,14],[39,15,41,15],[39,16,41,16],[39,18,47,18],[39,28,41,30],[39,31,41,31],[39,32,41,32],[39,33,41,33],[39,35,47,35],[39,45,41,47],[39,48,41,48],[39,49,41,49],[39,50,41,50],[39,52,47,52],[39,62,41,64],[39,65,41,65],[39,66,41,66],[39,67,41,67],[42,11,44,13],[42,14,44,14],[42,15,44,15],[42,16,44,16],[42,28,44,30],[42,31,44,31],[42,32,44,32],[42,33,44,33],[42,45,44,47],[42,48,44,48],[42,49,44,49],[42,50,44,50],[42,62,44,64],[42,65,44,65],[42,66,44,66],[42,67,44,67],[45,11,47,13],[45,14,47,14],[45,15,47,15],[45,16,47,16],[45,28,47,30],[45,31,47,31],[45,32,47,32],[45,33,47,33],[45,45,47,47],[45,48,47,48],[45,49,47,49],[45,50,47,50],[45,62,47,64],[45,65,47,65],[45,66,47,66],[45,67,47,67],[48,5,48,8],[48,9,48,10],[48,22,48,25],[48,26,48,27],[48,39,48,42],[48,43,48,44],[48,56,48,59],[48,60,48,61],[49,1,50,1],[49,2,50,2],[49,3,50,3],[49,4,50,4],[49,5,50,5],[49,6,50,6],[49,7,50,7],[49,8,49,10],[49,11,50,13],[49,14,50,14],[49,15,50,15],[49,16,50,16],[49,18,50,18],[49,19,50,19],[49,20,50,20],[49,21,50,21],[49,22,50,22],[49,23,50,23],[49,24,50,24],[49,25,49,27],[49,28,50,30],[49,31,50,31],[49,32,50,32],[49,33,50,33],[49,35,50,35],[49,36,50,36],[49,37,50,37],[49,38,50,38],[49,39,50,39],[49,40,50,40],[49,41,50,41],[49,42,49,44],[49,45,50,47],[49,48,50,48],[49,49,50,49],[49,50,50,50],[49,52,50,52],[49,53,50,53],[49,54,50,54],[49,55,50,55],[49,56,50,56],[49,57,50,57],[49,58,50,58],[49,59,49,61],[49,62,50,64],[49,65,50,65],[49,66,50,66],[49,67,50,67],[51,1,59,1],[51,11,53,13],[51,14,53,14],[51,15,53,15],[51,16,53,16],[51,18,59,18],[51,28,53,30],[51,31,53,31],[51,32,53,32],[51,33,53,33],[51,35,59,35],[51,45,53,47],[51,48,53,48],[51,49,53,49],[51,50,53,50],[51,52,59,52],[51,62,53,64],[51,65,53,65],[51,66,53,66],[51,67,53,67],[54,11,56,13],[54,14,56,14],[54,15,56,15],[54,16,56,16],[54,28,56,30],[54,31,56,31],[54,32,56,32],[54,33,56,33],[54,45,56,47],[54,48,56,48],[54,49,56,49],[54,50,56,50],[54,62,56,64],[54,65,56,65],[54,66,56,66],[54,67,56,67],[57,11,59,13],[57,14,59,14],[57,15,59,15],[57,16,59,16],[57,28,59,30],[57,31,59,31],[57,32,59,32],[57,33,59,33],[57,45,59,47],[57,48,59,48],[57,49,59,49],[57,50,59,50],[57,62,59,64],[57,65,59,65],[57,66,59,66],[57,67,59,67],[60,5,60,8],[60,9,60,10],[60,22,60,25],[60,26,60,27],[60,39,60,42],[60,43,60,44],[60,56,60,59],[60,60,60,61],[61,1,61,2],[61,5,61,8],[61,9,61,10],[61,11,61,13],[61,18,61,19],[61,22,61,25],[61,26,61,27],[61,28,61,30],[61,35,61,36],[61,39,61,42],[61,43,61,44],[61,45,61,47],[61,52,61,53],[61,56,61,59],[61,60,61,61],[61,62,61,64],[62,18,62,19],[62,21,62,23],[62,35,62,36],[62,38,62,40],[62,52,62,53],[62,55,62,57]]}
["Phase IV - Return to Sport "]
["Week ","Day","Weightlifting\n Movement","Tempo","Sets","Reps","RPE","Rest","Score",null,null,"Feedback",null,null,"Exercise Tonnage","Average Intensity","Absolute Intensity","Week ","Day","Weightlifting\n Movement","Tempo","Sets","Reps","RPE","Rest","Score",null,null,"Feedback",null,null,"Exercise Tonnage","Average Intensity","Absolute Intensity","Week ","Day","Weightlifting\n Movement","Tempo","Sets","Reps","RPE","Rest","Score",null,null,"Feedback",null,null,"Exercise Tonnage","Average Intensity","Absolute Intensity","Week ","Day","Weightlifting\n Movement","Tempo","Sets","Reps","RPE","Rest","Score",null,null,"Feedback",null,null,"Exercise Tonnage","Average Intensity","Absolute Intensity"]
[{"$nulls":8},"Sets","Reps","Weight",{"$nulls":14},"Sets","Reps","Weight",{"$nulls":14},"Sets","Reps","Weight",{"$nulls":14},"Sets","Reps","Weight"]
["W\nE\nE\nK\n\n17","Day 1","Snatch-Pull + Snatch","Normal",1,"2+1",7,{"$nulls":7},{"$f":"IF(SUMPRODUCT(I4:I6,J4:J6,K4:K6), SUMPRODUCT(I4:I6,J4:J6,K4:K6), \"\")","v":""},{"$f":"IFERROR(IF(SUM(K4:K6)/COUNT(I4:I6), ROUND(SUM(K4:K6)/COUNT(I4:I6),1), \"\"),\"\")","v":""},{"$f":"IF(MAX(K4:K6),MAX(K4:K6),\"\")","v":""},"W\nE\nE\nK\n\n18","Day 1","Snatch-Pull + Snatch","Normal",1,"1+1","7.5-8",{"$nulls":7},{"$f":"IF(SUMPRODUCT(Z4:Z6,AA4:AA6,AB4:AB6), SUMPRODUCT(Z4:Z6,AA4:AA6,AB4:AB6), \"\")","v":""},{"$f":"IFERROR(IF(SUM(AB4:AB6)/COUNT(Z4:Z6), ROUND(SUM(AB4:AB6)/COUNT(Z4:Z6),1), \"\"),\"\")","v":""},{"$f":"IF(MAX(AB4:AB6),MAX(AB4:AB6),\"\")","v":""},"W\nE\nE\nK\n\n19","Day 1","Snatch-Pull + Snatch","Normal",1,"1+1",8,{"$nulls":7},{"$f":"IF(SUMPRODUCT(AQ4:AQ6,AR4:AR6,AS4:AS6), SUMPRODUCT(AQ4:AQ6,AR4:AR6,AS4:AS6), \"\")","v":""},{"$f":"IFERROR(IF(SUM(AS4:AS6)/COUNT(AQ4:AQ6), ROUND(SUM(AS4:AS6)/COUNT(AQ4:AQ6),1), \"\"),\"\")","v":""},{"$f":"IF(MAX(AS4:AS6),MAX(AS4:AS6),\"\")","v":""},"W\nE\nE\nK\n\n20","Day 1","Snatch-Pull + Snatch","Normal",1,"2+1",7,{"$nulls":7},{"$f":"IF(SUMPRODUCT(BH4:BH6,BI4:BI6,BJ4:BJ6), SUMPRODUCT(BH4:BH6,BI4:BI6,BJ4:BJ6), \"\")","v":""},{"$f":"IFERROR(IF(SUM(BJ4:BJ6)/COUNT(BH4:BH6), ROUND(SUM(BJ4:BJ6)/COUNT(BH4:BH6),1), \"\"),\"\")","v":""},{"$f":"IF(MAX(BJ4:BJ6),MAX(BJ4:BJ6),\"\")","v":""}]
[null,null,"Snatch-Pull + Snatch","Normal",1,"2+1",7,{"$nulls":12},"Snatch-Pull + Snatch","Normal",1,"1+1","7.5-8",{"$nulls":12},"Snatch-Pull + Snatch","Normal",1,"1+1",8,{"$nulls":12},"Snatch-Pull + Snatch","Normal",1,"2+1",7]
[null,null,"Snatch-Pull + Snatch","Normal",1,"2+1",7,{"$nulls":12},"Snatch-Pull + Snatch","Normal",1,"1+1","7.5-8",{"$nulls":12},"Snatch-Pull + Snatch","Normal",1,"1+1",8,{"$nulls":12},"Snatch-Pull + Snatch","Normal",1,"2+1",7]
[null,null,"Clean & Jerk","Normal",3,"1+2",7,{"$nulls":7},{"$f":"IF(SUMPRODUCT(I7:I9,J7:J9,K7:K9), SUMPRODUCT(I7:I9,J7:J9,K7:K9), \"\")","v":""},{"$f":"IFERROR(IF(SUM(K7:K9)/COUNT(I7:I9), ROUND(SUM(K7:K9)/COUNT(I7:I9),1), \"\"),\"\")","v":""},{"$f":"IF(MAX(K7:K9),MAX(K7:K9),\"\")","v":""},null,null,"Clean & Jerk","Normal",3,"1+2","7.5-8",{"$nulls":7},{"$f":"IF(SUMPRODUCT(Z7:Z9,AA7:AA9,AB7:AB9), SUMPRODUCT(Z7:Z9,AA7:AA9,AB7:AB9), \"\")","v":""},{"$f":"IFERROR(IF(SUM(AB7:AB9)/COUNT(Z7:Z9), ROUND(SUM(AB7:AB9)/COUNT(Z7:Z9),1), \"\"),\"\")","v":""},{"$f":"IF(MAX(AB7:AB9),MAX(AB7:AB9),\"\")","v":""},null,null,"Clean & Jerk","Normal",4,"1+2",8,{"$nulls":7},{"$f":"IF(SUMPRODUCT(AQ7:AQ9,AR7:AR9,AS7:AS9), SUMPRODUCT(AQ7:AQ9,AR7:AR9,AS7:AS9), \"\")","v":""},{"$f":"IFERROR(IF(SUM(AS7:AS9)/COUNT(AQ7:AQ9), ROUND(SUM(AS7:AS9)/COUNT(AQ7:AQ9),1), \"\"),\"\")","v":""},{"$f":"IF(MAX(AS7:AS9),MAX(AS7:AS9),\"\")","v":""},null,null,"Clean & Jerk","Normal",3,"1+2",7,{"$nulls":7},{"$f":"IF(SUMPRODUCT(BH7:BH9,BI7:BI9,BJ7:BJ9), SUMPRODUCT(BH7:BH9,BI7:BI9,BJ7:BJ9), \"\")","v":""},{"$f":"IFERROR(IF(SUM(BJ7:BJ9)/COUNT(BH7:BH9), ROUND(SUM(BJ7:BJ9)/COUNT(BH7:BH9),1), \"\"),\"\")","v":""},{"$f":"IF(MAX(BJ7:BJ9),MAX(BJ7:BJ9),\"\")","v":""}]
[null,null,"Clean & Jerk","Normal",3,"1+2",7,{"$nulls":12},"Clean & Jerk","Normal",3,"1+2","7.5-8",{"$nulls":12},"Clean & Jerk","Normal",4,"1+2",8,{"$nulls":12},"Clean & Jerk","Normal",3,"1+2",7]
[null,null,"Clean & Jerk","Normal",3,"1+2",7,{"$nulls":12},"Clean & Jerk","Normal",3,"1+2","7.5-8",{"$nulls":12},"Clean & Jerk","Normal",4,"1+2",8,{"$nulls":12},"Clean & Jerk","Normal",3,"1+2",7]
[null,null,"Overhead-Squat","2-0-1",5,4,7,{"$nulls":7},{"$f":"IF(SUMPRODUCT(I10:I12,J10:J12,K10:K12), SUMPRODUCT(I10:I12,J10:J12,K10:K12), \"\")","v":""},{"$f":"IFERROR(IF(SUM(K10:K12)/COUNT(I10:I12), ROUND(SUM(K10:K12)/COUNT(I10:I12),1), \"\"),\"\")","v":""},{"$f":"IF(MAX(K10:K12),MAX(K10:K12),\"\")","v":""},null,null,"Overhead-Squat","2-0-1",5,4,"7.5-8",{"$nulls":7},{"$f":"IF(SUMPRODUCT(Z10:Z12,AA10:AA12,AB10:AB12), SUMPRODUCT(Z10:Z12,AA10:AA12,AB10:AB12), \"\")","v":""},{"$f":"IFERROR(IF(SUM(AB10:AB12)/COUNT(Z10:Z12), ROUND(SUM(AB10:AB12)/COUNT(Z10:Z12),1), \"\"),\"\")","v":""},{"$f":"IF(MAX(AB10:AB12),MAX(AB10:AB12),\"\")","v":""},null,null,"Overhead-Squat","2-0-1",5,4,"8-8.5",{"$nulls":7},{"$f":"IF(SUMPRODUCT(AQ10:AQ12,AR10:AR12,AS10:AS12), SUMPRODUCT(AQ10:AQ12,AR10:AR12,AS10:AS12), \"\")","v":""},{"$f":"IFERROR(IF(SUM(AS10:AS12)/COUNT(AQ10:AQ12), ROUND(SUM(AS10:AS12)/COUNT(AQ10:AQ12),1), \"\"),\"\")","v":""},{"$f":"IF(MAX(AS10:AS12),MAX(AS10:AS12),\"\")","v":""},null,null,"Overhead-Squat","2-0-1",5,4,7,{"$nulls":7},{"$f":"IF(SUMPRODUCT(BH10:BH12,BI10:BI12,BJ10:BJ12), SUMPRODUCT(BH10:BH12,BI10:BI12,BJ10:BJ12), \"\")","v":""},{"$f":"IFERROR(IF(SUM(BJ10:BJ12)/COUNT(BH10:BH12), ROUND(SUM(BJ10:BJ12)/COUNT(BH10:BH12),1), \"\"),\"\")","v":""},{"$f":"IF(MAX(BJ10:BJ12),MAX(BJ10:BJ12),\"\")","v":""}]
[null,null,"Overhead-Squat","2-0-1",5,4,7,{"$nulls":12},"Overhead-Squat","2-0-1",5,4,"7.5-8",{"$nulls":12},"Overhead-Squat","2-0-1",5,4,"8-8.5",{"$nulls":12},"Overhead-Squat","2-0-1",5,4,7]
[null,null,"Overhead-Squat","2-0-1",5,4,7,{"$nulls":12},"Overhead-Squat","2-0-1",5,4,"7.5-8",{"$nulls":12},"Overhead-Squat","2-0-1",5,4,"8-8.5",{"$nulls":12},"Overhead-Squat","2-0-1",5,4,7]
[null,"Session RPE:",null,"Session Duration:",null,"Session Score:",{"$nulls":3},{"$f":"IFERROR(IF(SUBSTITUTE(C13,\"RPE \",\"\")*E13, CONCATENATE(SUBSTITUTE(C13,\"RPE \",\"\")*E13, \" AU\"),0),0)","v":0},{"$nulls":3},"Daily Totals:",{"$f":"IF(SUM(O4:O11)<1,\"\",SUM(O4:O11))","v":""},{"$f":"IFERROR(IF(SUM(K4:K12)/COUNT(I4:I12), ROUND(SUM(K4:K12)/COUNT(I4:I12),1),\"\"),\"\")","v":""},{"$f":"IF(MAX(Q4:Q12)>0,MAX(Q4:Q12),\"\")","v":""},null,"Session RPE:",null,"Session Duration:",null,"Session Score:",{"$nulls":3},{"$f":"IFERROR(IF(SUBSTITUTE(T13,\"RPE \",\"\")*V13, CONCATENATE(SUBSTITUTE(T13,\"RPE \",\"\")*V13, \" AU\"),0),0)","v":0},{"$nulls":3},"Daily Totals:",{"$f":"IF(SUM(AF4:AF11)<1,\"\",SUM(AF4:AF11))","v":""},{"$f":"IFERROR(IF(SUM(AB4:AB12)/COUNT(Z4:Z12), ROUND(SUM(AB4:AB12)/COUNT(Z4:Z12),1),\"\"),\"\")","v":""},{"$f":"IF(MAX(AH4:AH12)>0,MAX(AH4:AH12),\"\")","v":""},null,"Session RPE:",null,"Session Duration:",null,"Session Score:",{"$nulls":3},{"$f":"IFERROR(IF(SUBSTITUTE(AK13,\"RPE \",\"\")*AM13, CONCATENATE(SUBSTITUTE(AK13,\"RPE \",\"\")*AM13, \" AU\"),0),0)","v":0},{"$nulls":3},"Daily Totals:",{"$f":"IF(SUM(AW4:AW11)<1,\"\",SUM(AW4:AW11))","v":""},{"$f":"IFERROR(IF(SUM(AS4:AS12)/COUNT(AQ4:AQ12), ROUND(SUM(AS4:AS12)/COUNT(AQ4:AQ12),1),\"\"),\"\")","v":""},{"$f":"IF(MAX(AY4:AY12)>0,MAX(AY4:AY12),\"\")","v":""},null,"Session RPE:",null,"Session Duration:",null,"Session Score:",{"$nulls":3},{"$f":"IFERROR(IF(SUBSTITUTE(BB13,\"RPE \",\"\")*BD13, CONCATENATE(SUBSTITUTE(BB13,\"RPE \",\"\")*BD13, \" AU\"),0),0)","v":0},{"$nulls":3},"Daily Totals:",{"$f":"IF(SUM(BN4:BN11)<1,\"\",SUM(BN4:BN11))","v":""},{"$f":"IFERROR(IF(SUM(BJ4:BJ12)/COUNT(BH4:BH12), ROUND(SUM(BJ4:BJ12)/COUNT(BH4:BH12),1),\"\"),\"\")","v":""},{"$f":"IF(MAX(BP4:BP12)>0,MAX(BP4:BP12),\"\")","v":""}]
[null,"Day","Weightlifting\n Movement","Tempo","Sets","Reps","RPE","Rest","Score",null,null,"Feedback",null,null,"Exercise Tonnage","Average Intensity","Absolute Intensity",null,"Day","Weightlifting\n Movement","Tempo","Sets","Reps","RPE","Rest","Score",null,null,"Feedback",null,null,"Exercise Tonnage","Average Intensity","Absolute Intensity",null,"Day","Weightlifting\n Movement","Tempo","Sets","Reps","RPE","Rest","Score",null,null,"Feedback",null,null,"Exercise Tonnage","Average Intensity","Absolute Intensity",null,"Day","Weightlifting\n Movement","Tempo","Sets","Reps","RPE","Rest","Score",null,null,"Feedback",null,null,"Exercise Tonnage","Average Intensity","Absolute Intensity"]
[{"$nulls":8},"Sets","Reps","Weight",{"$nulls":14},"Sets","Reps","Weight",{"$nulls":14},"Sets","Reps","Weight",{"$nulls":14},"Sets","Reps","Weight"]
[null,"Day 2","Power-Snatch","Normal",2,4,7,{"$nulls":7},{"$f":"IF(SUMPRODUCT(I16:I18,J16:J18,K16:K18), SUMPRODUCT(I16:I18,J16:J18,K16:K18), \"\")","v":""},{"$f":"IFERROR(IF(SUM(K16:K18)/COUNT(I16:I18), ROUND(SUM(K16:K18)/COUNT(I16:I18),1), \"\"),\"\")","v":""},{"$f":"IF(MAX(K16:K18),MAX(K16:K18),\"\")","v":""},null,"Day 2","Power-Snatch","Normal",2,4,"7.5-8",{"$nulls":7},{"$f":"IF(SUMPRODUCT(Z16:Z18,AA16:AA18,AB16:AB18), SUMPRODUCT(Z16:Z18,AA16:AA18,AB16:AB18), \"\")","v":""},{"$f":"IFERROR(IF(SUM(AB16:AB18)/COUNT(Z16:Z18), ROUND(SUM(AB16:AB18)/COUNT(Z16:Z18),1), \"\"),\"\")","v":""},{"$f":"IF(MAX(AB16:AB18),MAX(AB16:AB18),\"\")","v":""},null,"Day 2","Power-Snatch","Normal",2,5,8,{"$nulls":7},{"$f":"IF(SUMPRODUCT(AQ16:AQ18,AR16:AR18,AS16:AS18), SUMPRODUCT(AQ16:AQ18,AR16:AR18,AS16:AS18), \"\")","v":""},{"$f":"IFERROR(IF(SUM(AS16:AS18)/COUNT(AQ16:AQ18), ROUND(SUM(AS16:AS18)/COUNT(AQ16:AQ18),1), \"\"),\"\")","v":""},{"$f":"IF(MAX(AS16:AS18),MAX(AS16:AS18),\"\")","v":""},null,"Day 2","Power-Snatch","Normal",2,4,7,{"$nulls":7},{"$f":"IF(SUMPRODUCT(BH16:BH18,BI16:BI18,BJ16:BJ18), SUMPRODUCT(BH16:BH18,BI16:BI18,BJ16:BJ18), \"\")","v":""},{"$f":"IFERROR(IF(SUM(BJ16:BJ18)/COUNT(BH16:BH18), ROUND(SUM(BJ16:BJ18)/COUNT(BH16:BH18),1), \"\"),\"\")","v":""},{"$f":"IF(MAX(BJ16:BJ18),MAX(BJ16:BJ18),\"\")","v":""}]
[null,null,"Power-Snatch","Normal",2,4,7,{"$nulls":12},"Power-Snatch","Normal",2,4,"7.5-8",{"$nulls":12},"Power-Snatch","Normal",2,5,8,{"$nulls":12},"Power-Snatch","Normal",2,4,7]
[null,null,"Power-Snatch","Normal",2,4,7,{"$nulls":12},"Power-Snatch","Normal",2,4,"7.5-8",{"$nulls":12},"Power-Snatch","Normal",2,5,8,{"$nulls":12},"Power-Snatch","Normal",2,4,7]
[null,null,"Power-Clean + Power-Jerk","Normal",3,"2+1",7,{"$nulls":7},{"$f":"IF(SUMPRODUCT(I19:I21,J19:J21,K19:K21), SUMPRODUCT(I19:I21,J19:J21,K19:K21), \"\")","v":""},{"$f":"IFERROR(IF(SUM(K19:K21)/COUNT(I19:I21), ROUND(SUM(K19:K21)/COUNT(I19:I21),1), \"\"),\"\")","v":""},{"$f":"IF(MAX(K19:K21),MAX(K19:K21),\"\")","v":""},null,null,"Power-Clean + Power-Jerk","Normal",3,"2+1","7.5-8",{"$nulls":7},{"$f":"IF(SUMPRODUCT(Z19:Z21,AA19:AA21,AB19:AB21), SUMPRODUCT(Z19:Z21,AA19:AA21,AB19:AB21), \"\")","v":""},{"$f":"IFERROR(IF(SUM(AB19:AB21)/COUNT(Z19:Z21), ROUND(SUM(AB19:AB21)/COUNT(Z19:Z21),1), \"\"),\"\")","v":""},{"$f":"IF(MAX(AB19:AB21),MAX(AB19:AB21),\"\")","v":""},null,null,"Power-Clean + Power-Jerk","Normal",4,"2+1",8,{"$nulls":7},{"$f":"IF(SUMPRODUCT(AQ19:AQ21,AR19:AR21,AS19:AS21), SUMPRODUCT(AQ19:AQ21,AR19:AR21,AS19:AS21), \"\")","v":""},{"$f":"IFERROR(IF(SUM(AS19:AS21)/COUNT(AQ19:AQ21), ROUND(SUM(AS19:AS21)/COUNT(AQ19:AQ21),1), \"\"),\"\")","v":""},{"$f":"IF(MAX(AS19:AS21),MAX(AS19:AS21),\"\")","v":""},null,null,"Power-Clean + Power-Jerk","Normal",3,"2+1",7,{"$nulls":7},{"$f":"IF(SUMPRODUCT(BH19:BH21,BI19:BI21,BJ19:BJ21), SUMPRODUCT(BH19:BH21,BI19:BI21,BJ19:BJ21), \"\")","v":""},{"$f":"IFERROR(IF(SUM(BJ19:BJ21)/COUNT(BH19:BH21), ROUND(SUM(BJ19:BJ21)/COUNT(BH19:BH21),1), \"\"),\"\")","v":""},{"$f":"IF(MAX(BJ19:BJ21),MAX(BJ19:BJ21),\"\")","v":""}]
[null,null,"Power-Clean + Power-Jerk","Normal",3,"2+1",7,{"$nulls":12},"Power-Clean + Power-Jerk","Normal",3,"2+1","7.5-8",{"$nulls":12},"Power-Clean + Power-Jerk","Normal",4,"2+1",8,{"$nulls":12},"Power-Clean + Power-Jerk","Normal",3,"2+1",7]
[null,null,"Power-Clean + Power-Jerk","Normal",3,"2+1",7,{"$nulls":12},"Power-Clean + Power-Jerk","Normal",3,"2+1","7.5-8",{"$nulls":12},"Power-Clean + Power-Jerk","Normal",4,"2+1",8,{"$nulls":12},"Power-Clean + Power-Jerk","Normal",3,"2+1",7]
[null,null,"Clean-Pull","1-0-2",3,3,7,{"$nulls":7},{"$f":"IF(SUMPRODUCT(I22:I24,J22:J24,K22:K24), SUMPRODUCT(I22:I24,J22:J24,K22:K24), \"\")","v":""},{"$f":"IFERROR(IF(SUM(K22:K24)/COUNT(I22:I24), ROUND(SUM(K22:K24)/COUNT(I22:I24),1), \"\"),\"\")","v":""},{"$f":"IF(MAX(K22:K24),MAX(K22:K24),\"\")","v":""},null,null,"Clean-Pull","1-0-2",3,4,"7.5-8",{"$nulls":7},{"$f":"IF(SUMPRODUCT(Z22:Z24,AA22:AA24,AB22:AB24), SUMPRODUCT(Z22:Z24,AA22:AA24,AB22:AB24), \"\")","v":""},{"$f":"IFERROR(IF(SUM(AB22:AB24)/COUNT(Z22:Z24), ROUND(SUM(AB22:AB24)/COUNT(Z22:Z24),1), \"\"),\"\")","v":""},{"$f":"IF(MAX(AB22:AB24),MAX(AB22:AB24),\"\")","v":""},null,null,"Clean-Pull","1-0-2",2,4,"8-8.5",{"$nulls":7},{"$f":"IF(SUMPRODUCT(AQ22:AQ24,AR22:AR24,AS22:AS24), SUMPRODUCT(AQ22:AQ24,AR22:AR24,AS22:AS24), \"\")","v":""},{"$f":"IFERROR(IF(SUM(AS22:AS24)/COUNT(AQ22:AQ24), ROUND(SUM(AS22:AS24)/COUNT(AQ22:AQ24),1), \"\"),\"\")","v":""},{"$f":"IF(MAX(AS22:AS24),MAX(AS22:AS24),\"\")","v":""},null,null,"Clean-Pull","1-0-2",3,3,7,{"$nulls":7},{"$f":"IF(SUMPRODUCT(BH22:BH24,BI22:BI24,BJ22:BJ24), SUMPRODUCT(BH22:BH24,BI22:BI24,BJ22:BJ24), \"\")","v":""},{"$f":"IFERROR(IF(SUM(BJ22:BJ24)/COUNT(BH22:BH24), ROUND(SUM(BJ22:BJ24)/COUNT(BH22:BH24),1), \"\"),\"\")","v":""},{"$f":"IF(MAX(BJ22:BJ24),MAX(BJ22:BJ24),\"\")","v":""}]
[null,null,"Clean-Pull","1-0-2",3,3,7,{"$nulls":12},"Clean-Pull","1-0-2",3,4,"7.5-8",{"$nulls":12},"Clean-Pull","1-0-2",2,4,"8-8.5",{"$nulls":12},"Clean-Pull","1-0-2",3,3,7]
[null,null,"Clean-Pull","1-0-2",3,3,7,{"$nulls":12},"Clean-Pull","1-0-2",3,4,"7.5-8",{"$nulls":12},"Clean-Pull","1-0-2",2,4,"8-8.5",{"$nulls":12},"Clean-Pull","1-0-2",3,3,7]
[null,"Session RPE:",null,"Session Duration:",null,"Session Score:",{"$nulls":3},{"$f":"IFERROR(IF(SUBSTITUTE(C25,\"RPE \",\"\")*E25, CONCATENATE(SUBSTITUTE(C25,\"RPE \",\"\")*E25, \" AU\"),0),0)","v":0},{"$nulls":3},"Daily Totals:",{"$f":"IF(SUM(O16:O23)<1,\"\",SUM(O16:O23))","v":""},{"$f":"IFERROR(IF(SUM(K16:K24)/COUNT(I16:I24), ROUND(SUM(K16:K24)/COUNT(I16:I24),1),\"\"),\"\")","v":""},{"$f":"IF(MAX(Q16:Q24)>0,MAX(Q16:Q24),\"\")","v":""},null,"Session RPE:",null,"Session Duration:",null,"Session Score:",{"$nulls":3},{"$f":"IFERROR(IF(SUBSTITUTE(T25,\"RPE \",\"\")*V25, CONCATENATE(SUBSTITUTE(T25,\"RPE \",\"\")*V25, \" AU\"),0),0)","v":0},{"$nulls":3},"Daily Totals:",{"$f":"IF(SUM(AF16:AF23)<1,\"\",SUM(AF16:AF23))","v":""},{"$f":"IFERROR(IF(SUM(AB16:AB24)/COUNT(Z16:Z24), ROUND(SUM(AB16:AB24)/COUNT(Z16:Z24),1),\"\"),\"\")","v":""},{"$f":"IF(MAX(AH16:AH24)>0,MAX(AH16:AH24),\"\")","v":""},null,"Session RPE:",null,"Session Duration:",null,"Session Score:",{"$nulls":3},{"$f":"IFERROR(IF(SUBSTITUTE(AK25,\"RPE \",\"\")*AM25, CONCATENATE(SUBSTITUTE(AK25,\"RPE \",\"\")*AM25, \" AU\"),0),0)","v":0},{"$nulls":3},"Daily Totals:",{"$f":"IF(SUM(AW16:AW23)<1,\"\",SUM(AW16:AW23))","v":""},{"$f":"IFERROR(IF(SUM(AS16:AS24)/COUNT(AQ16:AQ24), ROUND(SUM(AS16:AS24)/COUNT(AQ16:AQ24),1),\"\"),\"\")","v":""},{"$f":"IF(MAX(AY16:AY24)>0,MAX(AY16:AY24),\"\")","v":""},null,"Session RPE:",null,"Session Duration:",null,"Session Score:",{"$nulls":3},{"$f":"IFERROR(IF(SUBSTITUTE(BB25,\"RPE \",\"\")*BD25, CONCATENATE(SUBSTITUTE(BB25,\"RPE \",\"\")*BD25, \" AU\"),0),0)","v":0},{"$nulls":3},"Daily Totals:",{"$f":"IF(SUM(BN16:BN23)<1,\"\",SUM(BN16:BN23))","v":""},{"$f":"IFERROR(IF(SUM(BJ16:BJ24)/COUNT(BH16:BH24), ROUND(SUM(BJ16:BJ24)/COUNT(BH16:BH24),1),\"\"),\"\")","v":""},{"$f":"IF(MAX(BP16:BP24)>0,MAX(BP16:BP24),\"\")","v":""}]
[null,"Day","Weightlifting\n Movement","Tempo","Sets","Reps","RPE","Rest","Score",null,null,"Feedback",null,null,"Exercise Tonnage","Average Intensity","Absolute Intensity",null,"Day","Weightlifting\n Movement","Tempo","Sets","Reps","RPE","Rest","Score",null,null,"Feedback",null,null,"Exercise Tonnage","Average Intensity","Absolute Intensity",null,"Day","Weightlifting\n Movement","Tempo","Sets","Reps","RPE","Rest","Score",null,null,"Feedback",null,null,"Exercise Tonnage","Average Intensity","Absolute Intensity",null,"Day","Weightlifting\n Movement","Tempo","Sets","Reps","RPE","Rest","Score",null,null,"Feedback",null,null,"Exercise Tonnage","Average Intensity","Absolute Intensity"]
[{"$nulls":8},"Sets","Reps","Weight",{"$nulls":14},"Sets","Reps","Weight",{"$nulls":14},"Sets","Reps","Weight",{"$nulls":14},"Sets","Reps","Weight"]
[null,"Day 3","Dip-snatch","Normal",3,3,7,{"$nulls":7},{"$f":"IF(SUMPRODUCT(I28:I30,J28:J30,K28:K30), SUMPRODUCT(I28:I30,J28:J30,K28:K30), \"\")","v":""},{"$f":"IFERROR(IF(SUM(K28:K30)/COUNT(I28:I30), ROUND(SUM(K28:K30)/COUNT(I28:I30),1), \"\"),\"\")","v":""},{"$f":"IF(MAX(K28:K30),MAX(K28:K30),\"\")","v":""},null,"Day 3","Dip-snatch","Normal",3,3,"7.5-8",{"$nulls":7},{"$f":"IF(SUMPRODUCT(Z28:Z30,AA28:AA30,AB28:AB30), SUMPRODUCT(Z28:Z30,AA28:AA30,AB28:AB30), \"\")","v":""},{"$f":"IFERROR(IF(SUM(AB28:AB30)/COUNT(Z28:Z30), ROUND(SUM(AB28:AB30)/COUNT(Z28:Z30),1), \"\"),\"\")","v":""},{"$f":"IF(MAX(AB28:AB30),MAX(AB28:AB30),\"\")","v":""},null,"Day 3","Dip-snatch","Normal",2,4,8,{"$nulls":7},{"$f":"IF(SUMPRODUCT(AQ28:AQ30,AR28:AR30,AS28:AS30), SUMPRODUCT(AQ28:AQ30,AR28:AR30,AS28:AS30), \"\")","v":""},{"$f":"IFERROR(IF(SUM(AS28:AS30)/COUNT(AQ28:AQ30), ROUND(SUM(AS28:AS30)/COUNT(AQ28:AQ30),1), \"\"),\"\")","v":""},{"$f":"IF(MAX(AS28:AS30),MAX(AS28:AS30),\"\")","v":""},null,"Day 3","Dip-snatch","Normal",3,3,7,{"$nulls":7},{"$f":"IF(SUMPRODUCT(BH28:BH30,BI28:BI30,BJ28:BJ30), SUMPRODUCT(BH28:BH30,BI28:BI30,BJ28:BJ30), \"\")","v":""},{"$f":"IFERROR(IF(SUM(BJ28:BJ30)/COUNT(BH28:BH30), ROUND(SUM(BJ28:BJ30)/COUNT(BH28:BH30),1), \"\"),\"\")","v":""},{"$f":"IF(MAX(BJ28:BJ30),MAX(BJ28:BJ30),\"\")","v":""}]
[null,null,"Dip-snatch","Normal",3,3,7,{"$nulls":12},"Dip-snatch","Normal",{"$nulls":15},"Dip-snatch","Normal",2,4,8,{"$nulls":12},"Dip-snatch","Normal",3,3,7]
[null,null,"Dip-snatch","Normal",3,3,7,{"$nulls":12},"Dip-snatch","Normal",{"$nulls":15},"Dip-snatch","Normal",2,4,8,{"$nulls":12},"Dip-snatch","Normal",3,3,7]
[null,null,"Push-Press","Normal",4,3,7,{"$nulls":7},{"$f":"IF(SUMPRODUCT(I31:I33,J31:J33,K31:K33), SUMPRODUCT(I31:I33,J31:J33,K31:K33), \"\")","v":""},{"$f":"IFERROR(IF(SUM(K31:K33)/COUNT(I31:I33), ROUND(SUM(K31:K33)/COUNT(I31:I33),1), \"\"),\"\")","v":""},{"$f":"IF(MAX(K31:K33),MAX(K31:K33),\"\")","v":""},null,null,"Push-Press","Normal",{"$nulls":10},{"$f":"IF(SUMPRODUCT(Z31:Z33,AA31:AA33,AB31:AB33), SUMPRODUCT(Z31:Z33,AA31:AA33,AB31:AB33), \"\")","v":""},{"$f":"IFERROR(IF(SUM(AB31:AB33)/COUNT(Z31:Z33), ROUND(SUM(AB31:AB33)/COUNT(Z31:Z33),1), \"\"),\"\")","v":""},{"$f":"IF(MAX(AB31:AB33),MAX(AB31:AB33),\"\")","v":""},null,null,"Push-Press","Normal",4,4,"8-8.5",{"$nulls":7},{"$f":"IF(SUMPRODUCT(AQ31:AQ33,AR31:AR33,AS31:AS33), SUMPRODUCT(AQ31:AQ33,AR31:AR33,AS31:AS33), \"\")","v":""},{"$f":"IFERROR(IF(SUM(AS31:AS33)/COUNT(AQ31:AQ33), ROUND(SUM(AS31:AS33)/COUNT(AQ31:AQ33),1), \"\"),\"\")","v":""},{"$f":"IF(MAX(AS31:AS33),MAX(AS31:AS33),\"\")","v":""},null,null,"Push-Press","Normal",4,3,7,{"$nulls":7},{"$f":"IF(SUMPRODUCT(BH31:BH33,BI31:BI33,BJ31:BJ33), SUMPRODUCT(BH31:BH33,BI31:BI33,BJ31:BJ33), \"\")","v":""},{"$f":"IFERROR(IF(SUM(BJ31:BJ33)/COUNT(BH31:BH33), ROUND(SUM(BJ31:BJ33)/COUNT(BH31:BH33),1), \"\"),\"\")","v":""},{"$f":"IF(MAX(BJ31:BJ33),MAX(BJ31:BJ33),\"\")","v":""}]
[null,null,"Push-Press","Normal",4,3,7,{"$nulls":12},"Push-Press","Normal",{"$nulls":15},"Push-Press","Normal",4,4,"8-8.5",{"$nulls":12},"Push-Press","Normal",4,3,7]
[null,null,"Push-Press","Normal",4,3,7,{"$nulls":12},"Push-Press","Normal",{"$nulls":15},"Push-Press","Normal",4,4,"8-8.5",{"$nulls":12},"Push-Press","Normal",4,3,7]
[null,null,"Front-Squat","2-0-1",4,4,7,{"$nulls":7},{"$f":"IF(SUMPRODUCT(I34:I36,J34:J36,K34:K36), SUMPRODUCT(I34:I36,J34:J36,K34:K36), \"\")","v":""},{"$f":"IFERROR(IF(SUM(K34:K36)/COUNT(I34:I36), ROUND(SUM(K34:K36)/COUNT(I34:I36),1), \"\"),\"\")","v":""},{"$f":"IF(MAX(K34:K36),MAX(K34:K36),\"\")","v":""},null,null,"Front-Squat","2-0-1",{"$nulls":10},{"$f":"IF(SUMPRODUCT(Z34:Z36,AA34:AA36,AB34:AB36), SUMPRODUCT(Z34:Z36,AA34:AA36,AB34:AB36), \"\")","v":""},{"$f":"IFERROR(IF(SUM(AB34:AB36)/COUNT(Z34:Z36), ROUND(SUM(AB34:AB36)/COUNT(Z34:Z36),1), \"\"),\"\")","v":""},{"$f":"IF(MAX(AB34:AB36),MAX(AB34:AB36),\"\")","v":""},null,null,"Front-Squat","2-0-1",4,4,"8-8.5",{"$nulls":7},{"$f":"IF(SUMPRODUCT(AQ34:AQ36,AR34:AR36,AS34:AS36), SUMPRODUCT(AQ34:AQ36,AR34:AR36,AS34:AS36), \"\")","v":""},{"$f":"IFERROR(IF(SUM(AS34:AS36)/COUNT(AQ34:AQ36), ROUND(SUM(AS34:AS36)/COUNT(AQ34:AQ36),1), \"\"),\"\")","v":""},{"$f":"IF(MAX(AS34:AS36),MAX(AS34:AS36),\"\")","v":""},null,null,"Front-Squat","2-0-1",4,3,7,{"$nulls":7},{"$f":"IF(SUMPRODUCT(BH34:BH36,BI34:BI36,BJ34:BJ36), SUMPRODUCT(BH34:BH36,BI34:BI36,BJ34:BJ36), \"\")","v":""},{"$f":"IFERROR(IF(SUM(BJ34:BJ36)/COUNT(BH34:BH36), ROUND(SUM(BJ34:BJ36)/COUNT(BH34:BH36),1), \"\"),\"\")","v":""},{"$f":"IF(MAX(BJ34:BJ36),MAX(BJ34:BJ36),\"\")","v":""}]
[null,null,"Front-Squat","2-0-1",4,4,7,{"$nulls":12},"Front-Squat","2-0-1",4,4,"7.5-8",{"$nulls":12},"Front-Squat","2-0-1",4,4,"8-8.5",{"$nulls":12},"Front-Squat","2-0-1",4,3,7]
[null,null,"Front-Squat","2-0-1",4,4,7,{"$nulls":12},"Front-Squat","2-0-1",4,4,"7.5-8",{"$nulls":12},"Front-Squat","2-0-1",4,4,"8-8.5",{"$nulls":12},"Front-Squat","2-0-1",4,4,7]
[null,"Session RPE:",null,"Session Duration:",null,"Session Score:",{"$nulls":3},{"$f":"IFERROR(IF(SUBSTITUTE(C37,\"RPE \",\"\")*E37, CONCATENATE(SUBSTITUTE(C37,\"RPE \",\"\")*E37, \" AU\"),0),0)","v":0},{"$nulls":3},"Daily Totals:",{"$f":"IF(SUM(O28:O35)<1,\"\",SUM(O28:O35))","v":""},{"$f":"IFERROR(IF(SUM(K28:K36)/COUNT(I28:I36), ROUND(SUM(K28:K36)/COUNT(I28:I36),1),\"\"),\"\")","v":""},{"$f":"IF(MAX(Q28:Q36)>0,MAX(Q28:Q36),\"\")","v":""},null,"Session RPE:",null,"Session Duration:",null,"Session Score:",{"$nulls":3},{"$f":"IFERROR(IF(SUBSTITUTE(T37,\"RPE \",\"\")*V37, CONCATENATE(SUBSTITUTE(T37,\"RPE \",\"\")*V37, \" AU\"),0),0)","v":0},{"$nulls":3},"Daily Totals:",{"$f":"IF(SUM(AF28:AF35)<1,\"\",SUM(AF28:AF35))","v":""},{"$f":"IFERROR(IF(SUM(AB28:AB36)/COUNT(Z28:Z36), ROUND(SUM(AB28:AB36)/COUNT(Z28:Z36),1),\"\"),\"\")","v":""},{"$f":"IF(MAX(AH28:AH36)>0,MAX(AH28:AH36),\"\")","v":""},null,"Session RPE:",null,"Session Duration:",null,"Session Score:",{"$nulls":3},{"$f":"IFERROR(IF(SUBSTITUTE(AK37,\"RPE \",\"\")*AM37, CONCATENATE(SUBSTITUTE(AK37,\"RPE \",\"\")*AM37, \" AU\"),0),0)","v":0},{"$nulls":3},"Daily Totals:",{"$f":"IF(SUM(AW28:AW35)<1,\"\",SUM(AW28:AW35))","v":""},{"$f":"IFERROR(IF(SUM(AS28:AS36)/COUNT(AQ28:AQ36), ROUND(SUM(AS28:AS36)/COUNT(AQ28:AQ36),1),\"\"),\"\")","v":""},{"$f":"IF(MAX(AY28:AY36)>0,MAX(AY28:AY36),\"\")","v":""},null,"Session RPE:",null,"Session Duration:",null,"Session Score:",{"$nulls":3},{"$f":"IFERROR(IF(SUBSTITUTE(BB37,\"RPE \",\"\")*BD37, CONCATENATE(SUBSTITUTE(BB37,\"RPE \",\"\")*BD37, \" AU\"),0),0)","v":0},{"$nulls":3},"Daily Totals:",{"$f":"IF(SUM(BN28:BN35)<1,\"\",SUM(BN28:BN35))","v":""},{"$f":"IFERROR(IF(SUM(BJ28:BJ36)/COUNT(BH28:BH36), ROUND(SUM(BJ28:BJ36)/COUNT(BH28:BH36),1),\"\"),\"\")","v":""},{"$f":"IF(MAX(BP28:BP36)>0,MAX(BP28:BP36),\"\")","v":""}]
[null,"Day","Weightlifting\n Movement","Tempo","Sets","Reps","RPE","Rest","Score",null,null,"Feedback",null,null,"Exercise Tonnage","Average Intensity","Absolute Intensity",null,"Day","Weightlifting\n Movement","Tempo","Sets","Reps","RPE","Rest","Score",null,null,"Feedback",null,null,"Exercise Tonnage","Average Intensity","Absolute Intensity",null,"Day","Weightlifting\n Movement","Tempo","Sets","Reps","RPE","Rest","Score",null,null,"Feedback",null,null,"Exercise Tonnage","Average Intensity","Absolute Intensity",null,"Day","Weightlifting\n Movement","Tempo","Sets","Reps","RPE","Rest","Score",null,null,"Feedback",null,null,"Exercise Tonnage","Average Intensity","Absolute Intensity"]
[{"$nulls":8},"Sets","Reps","Weight",{"$nulls":14},"Sets","Reps","Weight",{"$nulls":14},"Sets","Reps","Weight",{"$nulls":14},"Sets","Reps","Weight"]
[null,"Day 4","Snatch","Normal",2,3,7,{"$nulls":7},{"$f":"IF(SUMPRODUCT(I40:I42,J40:J42,K40:K42), SUMPRODUCT(I40:I42,J40:J42,K40:K42), \"\")","v":""},{"$f":"IFERROR(IF(SUM(K40:K42)/COUNT(I40:I42), ROUND(SUM(K40:K42)/COUNT(I40:I42),1), \"\"),\"\")","v":""},{"$f":"IF(MAX(K40:K42),MAX(K40:K42),\"\")","v":""},null,"Day 4","Snatch","Normal",2,4,"7.5-8",{"$nulls":7},{"$f":"IF(SUMPRODUCT(Z40:Z42,AA40:AA42,AB40:AB42), SUMPRODUCT(Z40:Z42,AA40:AA42,AB40:AB42), \"\")","v":""},{"$f":"IFERROR(IF(SUM(AB40:AB42)/COUNT(Z40:Z42), ROUND(SUM(AB40:AB42)/COUNT(Z40:Z42),1), \"\"),\"\")","v":""},{"$f":"IF(MAX(AB40:AB42),MAX(AB40:AB42),\"\")","v":""},null,"Day 4","Snatch","Normal",1,5,8,{"$nulls":7},{"$f":"IF(SUMPRODUCT(AQ40:AQ42,AR40:AR42,AS40:AS42), SUMPRODUCT(AQ40:AQ42,AR40:AR42,AS40:AS42), \"\")","v":""},{"$f":"IFERROR(IF(SUM(AS40:AS42)/COUNT(AQ40:AQ42), ROUND(SUM(AS40:AS42)/COUNT(AQ40:AQ42),1), \"\"),\"\")","v":""},{"$f":"IF(MAX(AS40:AS42),MAX(AS40:AS42),\"\")","v":""},null,"Day 4","Snatch","Normal",2,3,7,{"$nulls":7},{"$f":"IF(SUMPRODUCT(BH40:BH42,BI40:BI42,BJ40:BJ42), SUMPRODUCT(BH40:BH42,BI40:BI42,BJ40:BJ42), \"\")","v":""},{"$f":"IFERROR(IF(SUM(BJ40:BJ42)/COUNT(BH40:BH42), ROUND(SUM(BJ40:BJ42)/COUNT(BH40:BH42),1), \"\"),\"\")","v":""},{"$f":"IF(MAX(BJ40:BJ42),MAX(BJ40:BJ42),\"\")","v":""}]
[null,null,"Snatch","Normal",2,3,7,{"$nulls":12},"Snatch","Normal",2,4,"7.5-8",{"$nulls":12},"Snatch","Normal",{"$nulls":15},"Snatch","Normal",2,3,7]
[null,null,"Snatch","Normal",2,3,7,{"$nulls":12},"Snatch","Normal",2,4,"7.5-8",{"$nulls":12},"Snatch","Normal",{"$nulls":15},"Snatch","Normal",2,3,7]
[null,null,"Clean & Jerk","Normal",1,"2+1",7,{"$nulls":7},{"$f":"IF(SUMPRODUCT(I43:I45,J43:J45,K43:K45), SUMPRODUCT(I43:I45,J43:J45,K43:K45), \"\")","v":""},{"$f":"IFERROR(IF(SUM(K43:K45)/COUNT(I43:I45), ROUND(SUM(K43:K45)/COUNT(I43:I45),1), \"\"),\"\")","v":""},{"$f":"IF(MAX(K43:K45),MAX(K43:K45),\"\")","v":""},null,null,"Clean & Jerk","Normal",1,"2+1","7.5-8",{"$nulls":7},{"$f":"IF(SUMPRODUCT(Z43:Z45,AA43:AA45,AB43:AB45), SUMPRODUCT(Z43:Z45,AA43:AA45,AB43:AB45), \"\")","v":""},{"$f":"IFERROR(IF(SUM(AB43:AB45)/COUNT(Z43:Z45), ROUND(SUM(AB43:AB45)/COUNT(Z43:Z45),1), \"\"),\"\")","v":""},{"$f":"IF(MAX(AB43:AB45),MAX(AB43:AB45),\"\")","v":""},null,null,"Clean & Jerk","Normal",{"$nulls":10},{"$f":"IF(SUMPRODUCT(AQ43:AQ45,AR43:AR45,AS43:AS45), SUMPRODUCT(AQ43:AQ45,AR43:AR45,AS43:AS45), \"\")","v":""},{"$f":"IFERROR(IF(SUM(AS43:AS45)/COUNT(AQ43:AQ45), ROUND(SUM(AS43:AS45)/COUNT(AQ43:AQ45),1), \"\"),\"\")","v":""},{"$f":"IF(MAX(AS43:AS45),MAX(AS43:AS45),\"\")","v":""},null,null,"Clean & Jerk","Normal",1,"2+1",7,{"$nulls":7},{"$f":"IF(SUMPRODUCT(BH43:BH45,BI43:BI45,BJ43:BJ45), SUMPRODUCT(BH43:BH45,BI43:BI45,BJ43:BJ45), \"\")","v":""},{"$f":"IFERROR(IF(SUM(BJ43:BJ45)/COUNT(BH43:BH45), ROUND(SUM(BJ43:BJ45)/COUNT(BH43:BH45),1), \"\"),\"\")","v":""},{"$f":"IF(MAX(BJ43:BJ45),MAX(BJ43:BJ45),\"\")","v":""}]
[null,null,"Clean & Jerk","Normal",1,"2+1",7,{"$nulls":12},"Clean & Jerk","Normal",1,"2+1","7.5-8",{"$nulls":12},"Clean & Jerk","Normal",{"$nulls":15},"Clean & Jerk","Normal",1,"2+1",7]
[null,null,"Clean & Jerk","Normal",1,"2+1",7,{"$nulls":12},"Clean & Jerk","Normal",1,"2+1","7.5-8",{"$nulls":12},"Clean & Jerk","Normal",{"$nulls":15},"Clean & Jerk","Normal",1,"2+1",7]
[null,null,"Snatch-Pull + Snatch","1-0-2",3,3,7,{"$nulls":7},{"$f":"IF(SUMPRODUCT(I46:I48,J46:J48,K46:K48), SUMPRODUCT(I46:I48,J46:J48,K46:K48), \"\")","v":""},{"$f":"IFERROR(IF(SUM(K46:K48)/COUNT(I46:I48), ROUND(SUM(K46:K48)/COUNT(I46:I48),1), \"\"),\"\")","v":""},{"$f":"IF(MAX(K46:K48),MAX(K46:K48),\"\")","v":""},null,null,"Snatch-Pull + Snatch","1-0-2",3,3,"7.5-8",{"$nulls":7},{"$f":"IF(SUMPRODUCT(Z46:Z48,AA46:AA48,AB46:AB48), SUMPRODUCT(Z46:Z48,AA46:AA48,AB46:AB48), \"\")","v":""},{"$f":"IFERROR(IF(SUM(AB46:AB48)/COUNT(Z46:Z48), ROUND(SUM(AB46:AB48)/COUNT(Z46:Z48),1), \"\"),\"\")","v":""},{"$f":"IF(MAX(AB46:AB48),MAX(AB46:AB48),\"\")","v":""},null,null,"Snatch-Pull + Snatch","1-0-2",{"$nulls":10},{"$f":"IF(SUMPRODUCT(AQ46:AQ48,AR46:AR48,AS46:AS48), SUMPRODUCT(AQ46:AQ48,AR46:AR48,AS46:AS48), \"\")","v":""},{"$f":"IFERROR(IF(SUM(AS46:AS48)/COUNT(AQ46:AQ48), ROUND(SUM(AS46:AS48)/COUNT(AQ46:AQ48),1), \"\"),\"\")","v":""},{"$f":"IF(MAX(AS46:AS48),MAX(AS46:AS48),\"\")","v":""},null,null,"Snatch-Pull + Snatch","1-0-2",3,3,7,{"$nulls":7},{"$f":"IF(SUMPRODUCT(BH46:BH48,BI46:BI48,BJ46:BJ48), SUMPRODUCT(BH46:BH48,BI46:BI48,BJ46:BJ48), \"\")","v":""},{"$f":"IFERROR(IF(SUM(BJ46:BJ48)/COUNT(BH46:BH48), ROUND(SUM(BJ46:BJ48)/COUNT(BH46:BH48),1), \"\"),\"\")","v":""},{"$f":"IF(MAX(BJ46:BJ48),MAX(BJ46:BJ48),\"\")","v":""}]
[null,null,"Snatch-Pull + Snatch","1-0-2",3,3,7,{"$nulls":12},"Snatch-Pull + Snatch","1-0-2",3,3,"7.5-8",{"$nulls":12},"Snatch-Pull + Snatch","1-0-2",1,1,8,{"$nulls":12},"Snatch-Pull + Snatch","1-0-2",3,3,7]
[null,null,"Snatch-Pull + Snatch","1-0-2",3,3,7,{"$nulls":12},"Snatch-Pull + Snatch","1-0-2",3,3,"7.5-8",{"$nulls":12},"Snatch-Pull + Snatch","1-0-2",2,4,"8-8.5",{"$nulls":12},"Snatch-Pull + Snatch","1-0-2",3,3,7]
[null,"Session RPE:",null,"Session Duration:",null,"Session Score:",{"$nulls":3},{"$f":"IFERROR(IF(SUBSTITUTE(C49,\"RPE \",\"\")*E49, CONCATENATE(SUBSTITUTE(C49,\"RPE \",\"\")*E49, \" AU\"),0),0)","v":0},{"$nulls":3},"Daily Totals:",{"$f":"IF(SUM(O40:O47)<1,\"\",SUM(O40:O47))","v":""},{"$f":"IFERROR(IF(SUM(K40:K48)/COUNT(I40:I48), ROUND(SUM(K40:K48)/COUNT(I40:I48),1),\"\"),\"\")","v":""},{"$f":"IF(MAX(Q40:Q48)>0,MAX(Q40:Q48),\"\")","v":""},null,"Session RPE:",null,"Session Duration:",null,"Session Score:",{"$nulls":3},{"$f":"IFERROR(IF(SUBSTITUTE(T49,\"RPE \",\"\")*V49, CONCATENATE(SUBSTITUTE(T49,\"RPE \",\"\")*V49, \" AU\"),0),0)","v":0},{"$nulls":3},"Daily Totals:",{"$f":"IF(SUM(AF40:AF47)<1,\"\",SUM(AF40:AF47))","v":""},{"$f":"IFERROR(IF(SUM(AB40:AB48)/COUNT(Z40:Z48), ROUND(SUM(AB40:AB48)/COUNT(Z40:Z48),1),\"\"),\"\")","v":""},{"$f":"IF(MAX(AH40:AH48)>0,MAX(AH40:AH48),\"\")","v":""},null,"Session RPE:",null,"Session Duration:",null,"Session Score:",{"$nulls":3},{"$f":"IFERROR(IF(SUBSTITUTE(AK49,\"RPE \",\"\")*AM49, CONCATENATE(SUBSTITUTE(AK49,\"RPE \",\"\")*AM49, \" AU\"),0),0)","v":0},{"$nulls":3},"Daily Totals:",{"$f":"IF(SUM(AW40:AW47)<1,\"\",SUM(AW40:AW47))","v":""},{"$f":"IFERROR(IF(SUM(AS40:AS48)/COUNT(AQ40:AQ48), ROUND(SUM(AS40:AS48)/COUNT(AQ40:AQ48),1),\"\"),\"\")","v":""},{"$f":"IF(MAX(AY40:AY48)>0,MAX(AY40:AY48),\"\")","v":""},null,"Session RPE:",null,"Session Duration:",null,"Session Score:",{"$nulls":3},{"$f":"IFERROR(IF(SUBSTITUTE(BB49,\"RPE \",\"\")*BD49, CONCATENATE(SUBSTITUTE(BB49,\"RPE \",\"\")*BD49, \" AU\"),0),0)","v":0},{"$nulls":3},"Daily Totals:",{"$f":"IF(SUM(BN40:BN47)<1,\"\",SUM(BN40:BN47))","v":""},{"$f":"IFERROR(IF(SUM(BJ40:BJ48)/COUNT(BH40:BH48), ROUND(SUM(BJ40:BJ48)/COUNT(BH40:BH48),1),\"\"),\"\")","v":""},{"$f":"IF(MAX(BP40:BP48)>0,MAX(BP40:BP48),\"\")","v":""}]
[null,"Day","Weightlifting\n Movement","Tempo","Sets","Reps","RPE","Rest","Score",null,null,"Feedback",null,null,"Exercise Tonnage","Average Intensity","Absolute Intensity",null,"Day","Weightlifting\n Movement","Tempo","Sets","Reps","RPE","Rest","Score",null,null,"Feedback",null,null,"Exercise Tonnage","Average Intensity","Absolute Intensity",null,"Day","Weightlifting\n Movement","Tempo","Sets","Reps","RPE","Rest","Score",null,null,"Feedback",null,null,"Exercise Tonnage","Average Intensity","Absolute Intensity",null,"Day","Weightlifting\n Movement","Tempo","Sets","Reps","RPE","Rest","Score",null,null,"Feedback",null,null,"Exercise Tonnage","Average Intensity","Absolute Intensity"]
[{"$nulls":8},"Sets","Reps","Weight",{"$nulls":14},"Sets","Reps","Weight",{"$nulls":14},"Sets","Reps","Weight",{"$nulls":14},"Sets","Reps","Weight"]
[null,"Day 5","Snatch-Grip Push-Press","Normal",5,3,7,{"$nulls":7},{"$f":"IF(SUMPRODUCT(I52:I54,J52:J54,K52:K54), SUMPRODUCT(I52:I54,J52:J54,K52:K54), \"\")","v":""},{"$f":"IFERROR(IF(SUM(K52:K54)/COUNT(I52:I54), ROUND(SUM(K52:K54)/COUNT(I52:I54),1), \"\"),\"\")","v":""},{"$f":"IF(MAX(K52:K54),MAX(K52:K54),\"\")","v":""},null,"Day 5","Snatch-Grip Push-Press","Normal",5,4,"7.5-8",{"$nulls":7},{"$f":"IF(SUMPRODUCT(Z52:Z54,AA52:AA54,AB52:AB54), SUMPRODUCT(Z52:Z54,AA52:AA54,AB52:AB54), \"\")","v":""},{"$f":"IFERROR(IF(SUM(AB52:AB54)/COUNT(Z52:Z54), ROUND(SUM(AB52:AB54)/COUNT(Z52:Z54),1), \"\"),\"\")","v":""},{"$f":"IF(MAX(AB52:AB54),MAX(AB52:AB54),\"\")","v":""},null,"Day 5","Snatch-Grip Push-Press","Normal",5,4,"7.5-8",{"$nulls":7},{"$f":"IF(SUMPRODUCT(AQ52:AQ54,AR52:AR54,AS52:AS54), SUMPRODUCT(AQ52:AQ54,AR52:AR54,AS52:AS54), \"\")","v":""},{"$f":"IFERROR(IF(SUM(AS52:AS54)/COUNT(AQ52:AQ54), ROUND(SUM(AS52:AS54)/COUNT(AQ52:AQ54),1), \"\"),\"\")","v":""},{"$f":"IF(MAX(AS52:AS54),MAX(AS52:AS54),\"\")","v":""},null,"Day 5","Snatch-Grip Push-Press","Normal",5,3,7,{"$nulls":7},{"$f":"IF(SUMPRODUCT(BH52:BH54,BI52:BI54,BJ52:BJ54), SUMPRODUCT(BH52:BH54,BI52:BI54,BJ52:BJ54), \"\")","v":""},{"$f":"IFERROR(IF(SUM(BJ52:BJ54)/COUNT(BH52:BH54), ROUND(SUM(BJ52:BJ54)/COUNT(BH52:BH54),1), \"\"),\"\")","v":""},{"$f":"IF(MAX(BJ52:BJ54),MAX(BJ52:BJ54),\"\")","v":""}]
[null,null,"Snatch-Grip Push-Press","Normal",5,3,7,{"$nulls":12},"Snatch-Grip Push-Press","Normal",5,4,"7.5-8",{"$nulls":12},"Snatch-Grip Push-Press","Normal",5,4,"7.5-8",{"$nulls":12},"Snatch-Grip Push-Press","Normal",5,3,7]
[null,null,"Snatch-Grip Push-Press","Normal",5,3,7,{"$nulls":12},"Snatch-Grip Push-Press","Normal",5,4,"7.5-8",{"$nulls":12},"Snatch-Grip Push-Press","Normal",5,4,"7.5-8",{"$nulls":12},"Snatch-Grip Push-Press","Normal",5,3,7]
[null,null,"Back-Squat","2-0-1",3,4,8,{"$nulls":7},{"$f":"IF(SUMPRODUCT(I55:I57,J55:J57,K55:K57), SUMPRODUCT(I55:I57,J55:J57,K55:K57), \"\")","v":""},{"$f":"IFERROR(IF(SUM(K55:K57)/COUNT(I55:I57), ROUND(SUM(K55:K57)/COUNT(I55:I57),1), \"\"),\"\")","v":""},{"$f":"IF(MAX(K55:K57),MAX(K55:K57),\"\")","v":""},null,null,"Back-Squat","2-0-1",3,4,"8.5-9",{"$nulls":7},{"$f":"IF(SUMPRODUCT(Z55:Z57,AA55:AA57,AB55:AB57), SUMPRODUCT(Z55:Z57,AA55:AA57,AB55:AB57), \"\")","v":""},{"$f":"IFERROR(IF(SUM(AB55:AB57)/COUNT(Z55:Z57), ROUND(SUM(AB55:AB57)/COUNT(Z55:Z57),1), \"\"),\"\")","v":""},{"$f":"IF(MAX(AB55:AB57),MAX(AB55:AB57),\"\")","v":""},null,null,"Back-Squat","2-0-1",3,4,"top set at 9.5-10",{"$nulls":7},{"$f":"IF(SUMPRODUCT(AQ55:AQ57,AR55:AR57,AS55:AS57), SUMPRODUCT(AQ55:AQ57,AR55:AR57,AS55:AS57), \"\")","v":""},{"$f":"IFERROR(IF(SUM(AS55:AS57)/COUNT(AQ55:AQ57), ROUND(SUM(AS55:AS57)/COUNT(AQ55:AQ57),1), \"\"),\"\")","v":""},{"$f":"IF(MAX(AS55:AS57),MAX(AS55:AS57),\"\")","v":""},null,null,"Back-Squat","2-0-1",3,4,8,{"$nulls":7},{"$f":"IF(SUMPRODUCT(BH55:BH57,BI55:BI57,BJ55:BJ57), SUMPRODUCT(BH55:BH57,BI55:BI57,BJ55:BJ57), \"\")","v":""},{"$f":"IFERROR(IF(SUM(BJ55:BJ57)/COUNT(BH55:BH57), ROUND(SUM(BJ55:BJ57)/COUNT(BH55:BH57),1), \"\"),\"\")","v":""},{"$f":"IF(MAX(BJ55:BJ57),MAX(BJ55:BJ57),\"\")","v":""}]
[null,null,"Back-Squat","2-0-1",3,4,8,{"$nulls":12},"Back-Squat","2-0-1",3,4,"8.5-9",{"$nulls":12},"Back-Squat","2-0-1",3,4,"top set at 9.5-10",{"$nulls":12},"Back-Squat","2-0-1",3,4,8]
[null,null,"Back-Squat","2-0-1",3,4,8,{"$nulls":12},"Back-Squat","2-0-1",3,4,"8.5-9",{"$nulls":12},"Back-Squat","2-0-1",3,4,"top set at 9.5-10",{"$nulls":12},"Back-Squat","2-0-1",3,4,8]
[null,null,"RDL","2-0-1",6,3,7,{"$nulls":7},{"$f":"IF(SUMPRODUCT(I58:I60,J58:J60,K58:K60), SUMPRODUCT(I58:I60,J58:J60,K58:K60), \"\")","v":""},{"$f":"IFERROR(IF(SUM(K58:K60)/COUNT(I58:I60), ROUND(SUM(K58:K60)/COUNT(I58:I60),1), \"\"),\"\")","v":""},{"$f":"IF(MAX(K58:K60),MAX(K58:K60),\"\")","v":""},null,null,"RDL","2-0-1",5,4,"7.5-8",{"$nulls":7},{"$f":"IF(SUMPRODUCT(Z58:Z60,AA58:AA60,AB58:AB60), SUMPRODUCT(Z58:Z60,AA58:AA60,AB58:AB60), \"\")","v":""},{"$f":"IFERROR(IF(SUM(AB58:AB60)/COUNT(Z58:Z60), ROUND(SUM(AB58:AB60)/COUNT(Z58:Z60),1), \"\"),\"\")","v":""},{"$f":"IF(MAX(AB58:AB60),MAX(AB58:AB60),\"\")","v":""},null,null,"RDL","2-0-1",5,4,8,{"$nulls":7},{"$f":"IF(SUMPRODUCT(AQ58:AQ60,AR58:AR60,AS58:AS60), SUMPRODUCT(AQ58:AQ60,AR58:AR60,AS58:AS60), \"\")","v":""},{"$f":"IFERROR(IF(SUM(AS58:AS60)/COUNT(AQ58:AQ60), ROUND(SUM(AS58:AS60)/COUNT(AQ58:AQ60),1), \"\"),\"\")","v":""},{"$f":"IF(MAX(AS58:AS60),MAX(AS58:AS60),\"\")","v":""},null,null,"RDL","2-0-1",6,3,7,{"$nulls":7},{"$f":"IF(SUMPRODUCT(BH58:BH60,BI58:BI60,BJ58:BJ60), SUMPRODUCT(BH58:BH60,BI58:BI60,BJ58:BJ60), \"\")","v":""},{"$f":"IFERROR(IF(SUM(BJ58:BJ60)/COUNT(BH58:BH60), ROUND(SUM(BJ58:BJ60)/COUNT(BH58:BH60),1), \"\"),\"\")","v":""},{"$f":"IF(MAX(BJ58:BJ60),MAX(BJ58:BJ60),\"\")","v":""}]
[null,null,"RDL","2-0-1",6,3,7,{"$nulls":12},"RDL","2-0-1",5,4,"7.5-8",{"$nulls":12},"RDL","2-0-1",5,4,8,{"$nulls":12},"RDL","2-0-1",6,3,7]
[null,null,"RDL","2-0-1",6,3,7,{"$nulls":12},"RDL","2-0-1",5,4,"7.5-8",{"$nulls":12},"RDL","2-0-1",5,4,8,{"$nulls":12},"RDL","2-0-1",6,3,7]
[null,"Session RPE:",null,"Session Duration:",null,"Session Score:",{"$nulls":3},{"$f":"IFERROR(IF(SUBSTITUTE(C61,\"RPE \",\"\")*E61, CONCATENATE(SUBSTITUTE(C61,\"RPE \",\"\")*E61, \" AU\"),0),0)","v":0},{"$nulls":3},"Daily Totals:",{"$f":"IF(SUM(O52:O59)<1,\"\",SUM(O52:O59))","v":""},{"$f":"IFERROR(IF(SUM(K52:K60)/COUNT(I52:I60), ROUND(SUM(K52:K60)/COUNT(I52:I60),1),\"\"),\"\")","v":""},{"$f":"IF(MAX(Q52:Q60)>0,MAX(Q52:Q60),\"\")","v":""},null,"Session RPE:",null,"Session Duration:",null,"Session Score:",{"$nulls":3},{"$f":"IFERROR(IF(SUBSTITUTE(T61,\"RPE \",\"\")*V61, CONCATENATE(SUBSTITUTE(T61,\"RPE \",\"\")*V61, \" AU\"),0),0)","v":0},{"$nulls":3},"Daily Totals:",{"$f":"IF(SUM(AF52:AF59)<1,\"\",SUM(AF52:AF59))","v":""},{"$f":"IFERROR(IF(SUM(AB52:AB60)/COUNT(Z52:Z60), ROUND(SUM(AB52:AB60)/COUNT(Z52:Z60),1),\"\"),\"\")","v":""},{"$f":"IF(MAX(AH52:AH60)>0,MAX(AH52:AH60),\"\")","v":""},null,"Session RPE:",null,"Session Duration:",null,"Session Score:",{"$nulls":3},{"$f":"IFERROR(IF(SUBSTITUTE(AK61,\"RPE \",\"\")*AM61, CONCATENATE(SUBSTITUTE(AK61,\"RPE \",\"\")*AM61, \" AU\"),0),0)","v":0},{"$nulls":3},"Daily Totals:",{"$f":"IF(SUM(AW52:AW59)<1,\"\",SUM(AW52:AW59))","v":""},{"$f":"IFERROR(IF(SUM(AS52:AS60)/COUNT(AQ52:AQ60), ROUND(SUM(AS52:AS60)/COUNT(AQ52:AQ60),1),\"\"),\"\")","v":""},{"$f":"IF(MAX(AY52:AY60)>0,MAX(AY52:AY60),\"\")","v":""},null,"Session RPE:",null,"Session Duration:",null,"Session Score:",{"$nulls":3},{"$f":"IFERROR(IF(SUBSTITUTE(BB61,\"RPE \",\"\")*BD61, CONCATENATE(SUBSTITUTE(BB61,\"RPE \",\"\")*BD61, \" AU\"),0),0)","v":0},{"$nulls":3},"Daily Totals:",{"$f":"IF(SUM(BN52:BN59)<1,\"\",SUM(BN52:BN59))","v":""},{"$f":"IFERROR(IF(SUM(BJ52:BJ60)/COUNT(BH52:BH60), ROUND(SUM(BJ52:BJ60)/COUNT(BH52:BH60),1),\"\"),\"\")","v":""},{"$f":"IF(MAX(BP52:BP60)>0,MAX(BP52:BP60),\"\")","v":""}]
["WEEKLY \nTOTALS","Tonnage:",null,{"$f":"IF(SUM(O61,O37,O13,O25,O49)>0, SUM(O61,O37,O13,O25,O49),\"\")","v":""},null,"Average\nIntensity:",{"$nulls":3},{"$f":"IFERROR(IF(SUM(K4:K12,K16:K24,K28:K36,K40:K48,K52:K60)/COUNT(I4:I12,I16:I24,I28:I36,I40:I48,I52:I60)>0,ROUND(SUM(K4:K12,K16:K24,K28:K36,K40:K48,K52:K60)/COUNT(I4:I12,I16:I24,I28:I36,I40:I48,I52:I60),1),\"\"),\"\")","v":""},null,"Absolute\n Intensity:",null,null,{"$f":"IF(MAX(Q13,Q25,Q37,Q49,Q61) > 0, MAX(Q13,Q25,Q37,Q49,Q61),\"\")","v":""},"Total AUs:",{"$f":"IFERROR(IF(SUBSTITUTE(J13, \" AU\", \"\") + SUBSTITUTE(J25, \" AU\", \"\")  + SUBSTITUTE(J37, \" AU\", \"\") + SUBSTITUTE(J49, \" AU\", \"\") + SUBSTITUTE(J61, \" AU\", \"\")  > 0, CONCATENATE(SUBSTITUTE(J13, \" AU\", \"\") + SUBSTITUTE(J25, \" AU\", \"\")  + SUBSTITUTE(J37, \" AU\", \"\") + SUBSTITUTE(J49, \" AU\", \"\") + SUBSTITUTE(J61, \" AU\", \"\"), \" AU\"), \"\"),\"\")","v":""},null,"Tonnage:",null,{"$f":"IF(SUM(AF61,AF37,AF13,AF25,AF49)>0, SUM(AF61,AF37,AF13,AF25,AF49),\"\")","v":""},null,"Average\nIntensity:",{"$nulls":3},{"$f":"IFERROR(IF(SUM(AB4:AB12,AB16:AB24,AB28:AB36,AB40:AB48,AB52:AB60)/COUNT(Z4:Z12,Z16:Z24,Z28:Z36,Z40:Z48,Z52:Z60)>0,ROUND(SUM(AB4:AB12,AB16:AB24,AB28:AB36,AB40:AB48,AB52:AB60)/COUNT(Z4:Z12,Z16:Z24,Z28:Z36,Z40:Z48,Z52:Z60),1),\"\"),\"\")","v":""},null,"Absolute\n Intensity:",null,null,{"$f":"IF(MAX(AH13,AH25,AH37,AH49,AH61) > 0, MAX(AH13,AH25,AH37,AH49,AH61),\"\")","v":""},"Total AUs:",{"$f":"IFERROR(IF(SUBSTITUTE(AA13, \" AU\", \"\") + SUBSTITUTE(AA25, \" AU\", \"\")  + SUBSTITUTE(AA37, \" AU\", \"\") + SUBSTITUTE(AA49, \" AU\", \"\") + SUBSTITUTE(AA61, \" AU\", \"\")  > 0, CONCATENATE(SUBSTITUTE(AA13, \" AU\", \"\") + SUBSTITUTE(AA25, \" AU\", \"\")  + SUBSTITUTE(AA37, \" AU\", \"\") + SUBSTITUTE(AA49, \" AU\", \"\") + SUBSTITUTE(AA61, \" AU\", \"\"), \" AU\"), \"\"),\"\")","v":""},null,"Tonnage:",null,{"$f":"IF(SUM(AW61,AW37,AW13,AW25,AW49)>0, SUM(AW61,AW37,AW13,AW25,AW49),\"\")","v":""},null,"Average\nIntensity:",{"$nulls":3},{"$f":"IFERROR(IF(SUM(AS4:AS12,AS16:AS24,AS28:AS36,AS40:AS48,AS52:AS60)/COUNT(AQ4:AQ12,AQ16:AQ24,AQ28:AQ36,AQ40:AQ48,AQ52:AQ60)>0,ROUND(SUM(AS4:AS12,AS16:AS24,AS28:AS36,AS40:AS48,AS52:AS60)/COUNT(AQ4:AQ12,AQ16:AQ24,AQ28:AQ36,AQ40:AQ48,AQ52:AQ60),1),\"\"),\"\")","v":""},null,"Absolute\n Intensity:",null,null,{"$f":"IF(MAX(AY13,AY25,AY37,AY49,AY61) > 0, MAX(AY13,AY25,AY37,AY49,AY61),\"\")","v":""},"Total AUs:",{"$f":"IFERROR(IF(SUBSTITUTE(AR13, \" AU\", \"\") + SUBSTITUTE(AR25, \" AU\", \"\")  + SUBSTITUTE(AR37, \" AU\", \"\") + SUBSTITUTE(AR49, \" AU\", \"\") + SUBSTITUTE(AR61, \" AU\", \"\")  > 0, CONCATENATE(SUBSTITUTE(AR13, \" AU\", \"\") + SUBSTITUTE(AR25, \" AU\", \"\")  + SUBSTITUTE(AR37, \" AU\", \"\") + SUBSTITUTE(AR49, \" AU\", \"\") + SUBSTITUTE(AR61, \" AU\", \"\"), \" AU\"), \"\"),\"\")","v":""},null,"Tonnage:",null,{"$f":"IF(SUM(BN61,BN37,BN13,BN25,BN49)>0, SUM(BN61,BN37,BN13,BN25,BN49),\"\")","v":""},null,"Average\nIntensity:",{"$nulls":3},{"$f":"IFERROR(IF(SUM(BJ4:BJ12,BJ16:BJ24,BJ28:BJ36,BJ40:BJ48,BJ52:BJ60)/COUNT(BH4:BH12,BH16:BH24,BH28:BH36,BH40:BH48,BH52:BH60)>0,ROUND(SUM(BJ4:BJ12,BJ16:BJ24,BJ28:BJ36,BJ40:BJ48,BJ52:BJ60)/COUNT(BH4:BH12,BH16:BH24,BH28:BH36,BH40:BH48,BH52:BH60),1),\"\"),\"\")","v":""},null,"Absolute\n Intensity:",null,null,{"$f":"IF(MAX(BP13,BP25,BP37,BP49,BP61) > 0, MAX(BP13,BP25,BP37,BP49,BP61),\"\")","v":""},"Total AUs:",{"$f":"IFERROR(IF(SUBSTITUTE(BI13, \" AU\", \"\") + SUBSTITUTE(BI25, \" AU\", \"\")  + SUBSTITUTE(BI37, \" AU\", \"\") + SUBSTITUTE(BI49, \" AU\", \"\") + SUBSTITUTE(BI61, \" AU\", \"\")  > 0, CONCATENATE(SUBSTITUTE(BI13, \" AU\", \"\") + SUBSTITUTE(BI25, \" AU\", \"\")  + SUBSTITUTE(BI37, \" AU\", \"\") + SUBSTITUTE(BI49, \" AU\", \"\") + SUBSTITUTE(BI61, \" AU\", \"\"), \" AU\"), \"\"),\"\")","v":""}]
[{"$nulls":18},"Weekly\n% Difference",null,{"$f":"IF( U62 <> \"\", (IF(U62<>\"\",U62, 0) - IF(D62<>\"\",D62, 0))/IF(D62<>\"\",D62, 1), \"\")","v":""},{"$nulls":5},{"$f":"IF( AA62 <> \"\", (IF(AA62<>\"\",AA62, 0) - IF(J62<>\"\",J62, 0))/IF(J62<>\"\",J62, 1), \"\")","v":""},{"$nulls":4},{"$f":"IF(AF62 <> \"\", (IF(AF62<>\"\",AF62, 0) - IF(O62<>\"\",O62, 0))/IF(O62<>\"\",O62,1), \"\")","v":""},null,{"$f":"IF(AH62 <> \"\", (IF(AH62<>\"\",SUBSTITUTE(AH62,\" AU\",\"\"), 0) - IF(Q62<>\"\",SUBSTITUTE(Q62,\" AU\",\"\"), 0))/IF(Q62<>\"\",SUBSTITUTE(Q62,\" AU\",\"\"), 1), \"\")","v":""},null,"Weekly\n% Difference",null,{"$f":"IF( AL62 <> \"\", (IF(AL62<>\"\",AL62, 0) - IF(U62<>\"\",U62, 0))/IF(U62<>\"\",U62, 1), \"\")","v":""},{"$nulls":5},{"$f":"IF( AR62 <> \"\", (IF(AR62<>\"\",AR62, 0) - IF(AA62<>\"\",AA62, 0))/IF(AA62<>\"\",AA62, 1), \"\")","v":""},{"$nulls":4},{"$f":"IF(AW62 <> \"\", (IF(AW62<>\"\",AW62, 0) - IF(AF62<>\"\",AF62, 0))/IF(AF62<>\"\",AF62,1), \"\")","v":""},null,{"$f":"IF(AY62 <> \"\", (IF(AY62<>\"\",SUBSTITUTE(AY62,\" AU\",\"\"), 0) - IF(AH62<>\"\",SUBSTITUTE(AH62,\" AU\",\"\"), 0))/IF(AH62<>\"\",SUBSTITUTE(AH62,\" AU\",\"\"), 1), \"\")","v":""},null,"Weekly\n% Difference",null,{"$f":"IF( BC62 <> \"\", (IF(BC62<>\"\",BC62, 0) - IF(AL62<>\"\",AL62, 0))/IF(AL62<>\"\",AL62, 1), \"\")","v":""},{"$nulls":5},{"$f":"IF( BI62 <> \"\", (IF(BI62<>\"\",BI62, 0) - IF(AR62<>\"\",AR62, 0))/IF(AR62<>\"\",AR62, 1), \"\")","v":""},{"$nulls":4},{"$f":"IF(BN62 <> \"\", (IF(BN62<>\"\",BN62, 0) - IF(AW62<>\"\",AW62, 0))/IF(AW62<>\"\",AW62,1), \"\")","v":""},null,{"$f":"IF(BP62 <> \"\", (IF(BP62<>\"\",SUBSTITUTE(BP62,\" AU\",\"\"), 0) - IF(AY62<>\"\",SUBSTITUTE(AY62,\" AU\",\"\"), 0))/IF(AY62<>\"\",SUBSTITUTE(AY62,\" AU\",\"\"), 1), \"\")","v":""}]

{"sheet":"Data Analysis(DEMO)","index":5,"n_rows":21,"n_cols":8,"rows_kept":21,"merged":[[0,0,0,29]]}
[]
[null,"Week","Tonnage","Average Intensity","Absolute Intensity","Arbitrary Units","sRPE","AC Ratio"]
[null,"Week 2",{"$f":"RANDBETWEEN(10,40)*100","v":3000},{"$f":"RANDBETWEEN(10,40)","v":27},{"$f":"RANDBETWEEN(100,200)","v":133},{"$f":"RANDBETWEEN(10,30)*100","v":1700},{"$f":"RANDBETWEEN(40,70)/10","v":5.8}]
[null,"Week 3",{"$f":"RANDBETWEEN(10,40)*100","v":1800},{"$f":"RANDBETWEEN(10,40)","v":11},{"$f":"RANDBETWEEN(100,200)","v":163},{"$f":"RANDBETWEEN(10,30)*100","v":2600},{"$f":"RANDBETWEEN(40,70)/10","v":5.5}]
[null,"Week 4",3900,16,164,1500,5]
[null,"Week 5",1900,18,153,2800,6.7]
[null,"Week 6",{"$f":"RANDBETWEEN(30,70)*100","v":6200},{"$f":"RANDBETWEEN(30,60)","v":46},{"$f":"RANDBETWEEN(150,250)","v":198},{"$f":"RANDBETWEEN(25,35)*100","v":2500},{"$f":"RANDBETWEEN(50,75)/10","v":5.9},{"$f":"Table3[[#This Row],[Arbitrary Units]]/AVERAGE(F3:F6)","v":{"v":1.1627906976744187,"d":"1.1628"}}]
[null,"Week 7",{"$f":"RANDBETWEEN(30,70)*100","v":6000},{"$f":"RANDBETWEEN(30,60)","v":40},{"$f":"RANDBETWEEN(150,250)","v":230},{"$f":"RANDBETWEEN(25,35)*100","v":2800},{"$f":"RANDBETWEEN(50,75)/10","v":6.6},{"$f":"Table3[[#This Row],[Arbitrary Units]]/AVERAGE(F4:F7)","v":{"v":1.1914893617021276,"d":"1.1915"}}]
[null,"Week 8",6500,30,206,2700,7,{"$f":"Table3[[#This Row],[Arbitrary Units]]/AVERAGE(F5:F8)","v":{"v":1.125,"d":"1.1250"}}]
[null,"Week 9",3100,34,199,2600,6.3,{"$f":"Table3[[#This Row],[Arbitrary Units]]/AVERAGE(F6:F9)","v":{"v":0.9629629629629629,"d":"0.9630"}}]
[null,"Week 10",{"$f":"RANDBETWEEN(50,80)*100","v":6000},{"$f":"RANDBETWEEN(40,70)","v":56},{"$f":"RANDBETWEEN(200,300)","v":268},{"$f":"RANDBETWEEN(30,40)*100","v":3200},{"$f":"RANDBETWEEN(60,80)/10","v":6},{"$f":"Table3[[#This Row],[Arbitrary Units]]/AVERAGE(F7:F10)","v":{"v":1.2075471698113207,"d":"1.2075"}}]
[null,"Week 11",{"$f":"RANDBETWEEN(50,80)*100","v":8000},{"$f":"RANDBETWEEN(40,70)","v":45},{"$f":"RANDBETWEEN(200,300)","v":245},{"$f":"RANDBETWEEN(30,40)*100","v":3300},{"$f":"RANDBETWEEN(60,80)/10","v":7.2},{"$f":"Table3[[#This Row],[Arbitrary Units]]/AVERAGE(F8:F11)","v":{"v":1.168141592920354,"d":"1.1681"}}]
[null,"Week 12",5000,46,275,3100,7.6,{"$f":"Table3[[#This Row],[Arbitrary Units]]/AVERAGE(F9:F12)","v":{"v":1.0508474576271187,"d":"1.0508"}}]
[null,"Week 13",5700,69,292,3400,6,{"$f":"Table3[[#This Row],[Arbitrary Units]]/AVERAGE(F10:F13)","v":{"v":1.1147540983606556,"d":"1.1148"}}]
[null,"Week 14",{"$f":"RANDBETWEEN(60,90)*100","v":6700},{"$f":"RANDBETWEEN(60,90)","v":83},{"$f":"RANDBETWEEN(250,350)","v":350},{"$f":"RANDBETWEEN(38,45)*100","v":3900},{"$f":"RANDBETWEEN(70,88)/10","v":8.4},{"$f":"Table3[[#This Row],[Arbitrary Units]]/AVERAGE(F11:F14)","v":{"v":1.2,"d":"1.2000"}}]
[null,"Week 15",{"$f":"RANDBETWEEN(60,90)*100","v":8200},{"$f":"RANDBETWEEN(60,90)","v":87},{"$f":"RANDBETWEEN(250,350)","v":343},{"$f":"RANDBETWEEN(38,45)*100","v":3900},{"$f":"RANDBETWEEN(70,88)/10","v":7.3},{"$f":"Table3[[#This Row],[Arbitrary Units]]/AVERAGE(F12:F15)","v":{"v":1.1386861313868613,"d":"1.1387"}}]
[null,"Week 16",7300,61,274,4100,7.7,{"$f":"Table3[[#This Row],[Arbitrary Units]]/AVERAGE(F13:F16)","v":{"v":1.1468531468531469,"d":"1.1469"}}]
[null,"Week 17",8900,87,281,4500,7.8,{"$f":"Table3[[#This Row],[Arbitrary Units]]/AVERAGE(F14:F17)","v":{"v":1.1764705882352942,"d":"1.1765"}}]
[null,"Week 18",{"$f":"RANDBETWEEN(80,100)*100","v":8100},{"$f":"RANDBETWEEN(80,100)","v":91},{"$f":"RANDBETWEEN(325,400)","v":398},{"$f":"RANDBETWEEN(44,50)*100","v":4500},{"$f":"RANDBETWEEN(85,99)/10","v":9.6},{"$f":"Table3[[#This Row],[Arbitrary Units]]/AVERAGE(F15:F18)","v":{"v":1.0975609756097562,"d":"1.0976"}}]
[null,"Week 19",{"$f":"RANDBETWEEN(80,100)*100","v":8300},{"$f":"RANDBETWEEN(80,100)","v":96},{"$f":"RANDBETWEEN(325,400)","v":325},{"$f":"RANDBETWEEN(44,50)*100","v":5000},{"$f":"RANDBETWEEN(85,99)/10","v":9.8},{"$f":"Table3[[#This Row],[Arbitrary Units]]/AVERAGE(F16:F19)","v":{"v":1.1764705882352942,"d":"1.1765"}}]
[null,"Week 20",{"$f":"RANDBETWEEN(90,100)*100","v":9400},{"$f":"RANDBETWEEN(90,100)","v":99},{"$f":"RANDBETWEEN(350,400)","v":379},{"$f":"RANDBETWEEN(48,50)*100","v":4900},{"$f":"RANDBETWEEN(90,99)/10","v":9.6},{"$f":"Table3[[#This Row],[Arbitrary Units]]/AVERAGE(F17:F20)","v":{"v":1.0828729281767955,"d":"1.0829"}}]

{"sheet":"Data Analysis","index":6,"n_rows":22,"n_cols":8,"rows_kept":22}
[]
[null,null,"Tonnage","Average Intensity","Absolute Intensity","Arbitrary Units","sRPE","AC Ratio"]
[null,"Week 1",{"$nulls":3},{"$f":"IFERROR(ROUND(SUBSTITUTE('Phase I'!N81,\" AU\",\"\"),0),\"\")","v":""},{"$f":"IFERROR(ROUND(AVERAGE('Phase I'!D80,'Phase I'!D69,'Phase I'!D58,'Phase I'!D47,'Phase I'!D36,'Phase I'!D25,'Phase I'!D14),1),\"\")","v":""}]
[null,"Week 2",{"$f":"'Phase II '!$D$95","v":""},{"$f":"'Phase II '!$H$95","v":""},{"$f":"'Phase II '!$N$95","v":""},{"$f":"IFERROR(ROUND(SUBSTITUTE('Phase II '!R95,\" AU\",\"\"),0),\"\")","v":""},{"$f":"IFERROR(ROUND(AVERAGE('Phase II '!$D$50,'Phase II '!$D$81,'Phase II '!$D$32,'Phase II '!$D$19,'Phase II '!$D$63,'Phase II '!$D$94),1),\"\")","v":""}]
[null,"Week 3",{"$f":"'Phase II '!$W$95","v":""},{"$f":"'Phase II '!$AA$95","v":""},{"$f":"'Phase II '!$AG$95","v":""},{"$f":"IFERROR(ROUND(SUBSTITUTE('Phase II '!AK95,\" AU\",\"\"),0),\"\")","v":""},{"$f":"IFERROR(ROUND(AVERAGE('Phase II '!W19,'Phase II '!W32,'Phase II '!W50,'Phase II '!W63,'Phase II '!W81,'Phase II '!W94),1),\"\")","v":""}]
[null,"Week 4",{"$f":"'Phase II '!$AP$95","v":""},{"$f":"'Phase II '!$AT$95","v":""},{"$f":"'Phase II '!$AZ$95","v":""},{"$f":"IFERROR(ROUND(SUBSTITUTE('Phase II '!BD95,\" AU\",\"\"),0),\"\")","v":""},{"$f":"IFERROR(ROUND(AVERAGE('Phase II '!AP94,'Phase II '!AP81,'Phase II '!AP63,'Phase II '!AP50,'Phase II '!AP32,'Phase II '!AP19),1),\"\")","v":""}]
[null,"Week 5",{"$f":"'Phase II '!$BI$95","v":""},{"$f":"'Phase II '!$BM$95","v":""},{"$f":"'Phase II '!$BS$95","v":""},{"$f":"IFERROR(ROUND(SUBSTITUTE('Phase II '!BW95,\" AU\",\"\"),0),\"\")","v":""},{"$f":"IFERROR(ROUND(AVERAGE('Phase II '!BI19,'Phase II '!BI32,'Phase II '!BI50,'Phase II '!BI63,'Phase II '!BI81,'Phase II '!BI94),1),\"\")","v":""},{"$f":"IFERROR(Table2[[#This Row],[Arbitrary Units]]/AVERAGE(F3:F6),\"\")","v":""}]
[null,"Week 6",{"$f":"'Phase III'!$D$132","v":""},{"$f":"'Phase III'!$H$132","v":""},{"$f":"'Phase III'!$N$132","v":""},{"$f":"IFERROR(ROUND(SUBSTITUTE('Phase III'!R132,\" AU\",\"\"),0),\"\")","v":""},{"$f":"IFERROR(ROUND(AVERAGE('Phase III'!D131,'Phase III'!D113,'Phase III'!D84,'Phase III'!D66,'Phase III'!D48,'Phase III'!D30),1),\"\")","v":""},{"$f":"IFERROR(Table2[[#This Row],[Arbitrary Units]]/AVERAGE(F4:F7),\"\")","v":""}]
[null,"Week 7",{"$f":"'Phase III'!$W$132","v":""},{"$f":"'Phase III'!$AA$132","v":""},{"$f":"'Phase III'!$AG$132","v":""},{"$f":"IFERROR(ROUND(SUBSTITUTE('Phase III'!AK132,\" AU\",\"\"),0),\"\")","v":""},{"$f":"IFERROR(ROUND(AVERAGE('Phase III'!W30,'Phase III'!W48,'Phase III'!W66,'Phase III'!W84,'Phase III'!W113,'Phase III'!W131),1),\"\")","v":""},{"$f":"IFERROR(Table2[[#This Row],[Arbitrary Units]]/AVERAGE(F5:F8),\"\")","v":""}]
[null,"Week 8",{"$f":"'Phase III'!$AP$132","v":""},{"$f":"'Phase III'!$AT$132","v":""},{"$f":"'Phase III'!$AZ$132","v":""},{"$f":"IFERROR(ROUND(SUBSTITUTE('Phase III'!BD132,\" AU\",\"\"),0),\"\")","v":""},{"$f":"IFERROR(ROUND(AVERAGE('Phase III'!AP30,'Phase III'!AP66,'Phase III'!AP48,'Phase III'!AP84,'Phase III'!AP113,'Phase III'!AP131),1),\"\")","v":""},{"$f":"IFERROR(Table2[[#This Row],[Arbitrary Units]]/AVERAGE(F6:F9),\"\")","v":""}]
[null,"Week 9",{"$f":"'Phase III'!$BI$132","v":""},{"$f":"'Phase III'!$BM$132","v":""},{"$f":"'Phase III'!$BS$132","v":""},{"$f":"IFERROR(ROUND(SUBSTITUTE('Phase III'!BW132,\" AU\",\"\"),0),\"\")","v":""},{"$f":"IFERROR(ROUND(AVERAGE('Phase III'!BI30,'Phase III'!BI48,'Phase III'!BI66,'Phase III'!BI84,'Phase III'!BI113,'Phase III'!BI131),1),\"\")","v":""},{"$f":"IFERROR(Table2[[#This Row],[Arbitrary Units]]/AVERAGE(F7:F10),\"\")","v":""}]
[null,"Week 10",{"$f":"'Phase III'!$CB$132","v":""},{"$f":"'Phase III'!$CF$132","v":""},{"$f":"'Phase III'!$CL$132","v":""},{"$f":"IFERROR(ROUND(SUBSTITUTE('Phase III'!CP132,\" AU\",\"\"),0),\"\")","v":""},{"$f":"IFERROR(ROUND(AVERAGE('Phase III'!CB30,'Phase III'!CB48,'Phase III'!CB66,'Phase III'!CB84,'Phase III'!CB113,'Phase III'!CB131),1),\"\")","v":""},{"$f":"IFERROR(Table2[[#This Row],[Arbitrary Units]]/AVERAGE(F8:F11),\"\")","v":""}]
[null,"Week 11",{"$f":"'Phase III'!$CU$132","v":""},{"$f":"'Phase III'!$CY$132","v":""},{"$f":"'Phase III'!$DE$132","v":""},{"$f":"IFERROR(ROUND(SUBSTITUTE('Phase III'!DI132,\" AU\",\"\"),0),\"\")","v":""},{"$f":"IFERROR(ROUND(AVERAGE('Phase III'!CU30,'Phase III'!CU48,'Phase III'!CU66,'Phase III'!CU84,'Phase III'!CU113,'Phase III'!CU131),1),\"\")","v":""},{"$f":"IFERROR(Table2[[#This Row],[Arbitrary Units]]/AVERAGE(F9:F12),\"\")","v":""}]
[null,"Week 12",{"$f":"'Phase III'!$DN$132","v":""},{"$f":"'Phase III'!$DR$132","v":""},{"$f":"'Phase III'!$DX$132","v":""},{"$f":"IFERROR(ROUND(SUBSTITUTE('Phase III'!EB132,\" AU\",\"\"),0),\"\")","v":""},{"$f":"IFERROR(ROUND(AVERAGE('Phase III'!DN30,'Phase III'!DN48,'Phase III'!DN66,'Phase III'!DN84,'Phase III'!DN113,'Phase III'!DN131),1),\"\")","v":""},{"$f":"IFERROR(Table2[[#This Row],[Arbitrary Units]]/AVERAGE(F10:F13),\"\")","v":""}]
[null,"Week 13",{"$f":"'Phase III'!$EG$132","v":""},{"$f":"'Phase III'!$EK$132","v":""},{"$f":"'Phase III'!$EQ$132","v":""},{"$f":"IFERROR(ROUND(SUBSTITUTE('Phase III'!EU132,\" AU\",\"\"),0),\"\")","v":""},{"$f":"IFERROR(ROUND(AVERAGE('Phase III'!EG30,'Phase III'!EG48,'Phase III'!EG66,'Phase III'!EG84,'Phase III'!EG113,'Phase III'!EG131),1),\"\")","v":""},{"$f":"IFERROR(Table2[[#This Row],[Arbitrary Units]]/AVERAGE(F11:F14),\"\")","v":""}]
[null,"Week 14",{"$f":"'Phase III'!$EZ$132","v":""},{"$f":"'Phase III'!$FD$132","v":""},{"$f":"'Phase III'!$FJ$132","v":""},{"$f":"IFERROR(ROUND(SUBSTITUTE('Phase III'!FN132,\" AU\",\"\"),0),\"\")","v":""},{"$f":"IFERROR(ROUND(AVERAGE('Phase III'!EZ30,'Phase III'!EZ48,'Phase III'!EZ66,'Phase III'!EZ84,'Phase III'!EZ113,'Phase III'!EZ131),1),\"\")","v":""},{"$f":"IFERROR(Table2[[#This Row],[Arbitrary Units]]/AVERAGE(F12:F15),\"\")","v":""}]
[null,"Week 15",{"$f":"'Phase III'!$FS$132","v":""},{"$f":"'Phase III'!$FW$132","v":""},{"$f":"'Phase III'!$GC$132","v":""},{"$f":"IFERROR(ROUND(SUBSTITUTE('Phase III'!GG132,\" AU\",\"\"),0),\"\")","v":""},{"$f":"IFERROR(ROUND(AVERAGE('Phase III'!FS30,'Phase III'!FS48,'Phase III'!FS66,'Phase III'!FS84,'Phase III'!FS113,'Phase III'!FS131),1),\"\")","v":""},{"$f":"IFERROR(Table2[[#This Row],[Arbitrary Units]]/AVERAGE(F13:F16),\"\")","v":""}]
[null,"Week 16",{"$f":"'Phase III'!$GL$132","v":""},{"$f":"'Phase III'!$GP$132","v":""},{"$f":"'Phase III'!$GV$132","v":""},{"$f":"IFERROR(ROUND(SUBSTITUTE('Phase III'!GZ132,\" AU\",\"\"),0),\"\")","v":""},{"$f":"IFERROR(ROUND(AVERAGE('Phase III'!GL131,'Phase III'!GL113,'Phase III'!GL84,'Phase III'!GL66,'Phase III'!GL48,'Phase III'!GL30),1),\"\")","v":""},{"$f":"IFERROR(Table2[[#This Row],[Arbitrary Units]]/AVERAGE(F14:F17),\"\")","v":""}]
[null,"Week 17",{"$f":"'Phase IV'!$D$62","v":""},{"$f":"'Phase IV'!$J$62","v":""},{"$f":"'Phase IV'!$O$62","v":""},{"$f":"IFERROR(ROUND(SUBSTITUTE('Phase IV'!Q62,\" AU\",\"\"),0),\"\")","v":""},{"$f":"IFERROR(ROUND(AVERAGE('Phase IV'!C13,'Phase IV'!C25,'Phase IV'!C37,'Phase IV'!C49,'Phase IV'!C61),1),\"\")","v":""},{"$f":"IFERROR(Table2[[#This Row],[Arbitrary Units]]/AVERAGE(F15:F18),\"\")","v":""}]
[null,"Week 18",{"$f":"'Phase IV'!$U$62","v":""},{"$f":"'Phase IV'!$AA$62","v":""},{"$f":"'Phase IV'!$AF$62","v":""},{"$f":"IFERROR(ROUND(SUBSTITUTE('Phase IV'!AH62,\" AU\",\"\"),0),\"\")","v":""},{"$f":"IFERROR(ROUND(AVERAGE('Phase IV'!T13,'Phase IV'!T25,'Phase IV'!T37,'Phase IV'!T49,'Phase IV'!T61),1),\"\")","v":""},{"$f":"IFERROR(Table2[[#This Row],[Arbitrary Units]]/AVERAGE(F16:F19),\"\")","v":""}]
[null,"Week 19",{"$f":"'Phase IV'!$AL$62","v":""},{"$f":"'Phase IV'!$AR$62","v":""},{"$f":"'Phase IV'!$AW$62","v":""},{"$f":"IFERROR(ROUND(SUBSTITUTE('Phase IV'!AY62,\" AU\",\"\"),0),\"\")","v":""},{"$f":"IFERROR(ROUND(AVERAGE('Phase IV'!AK13,'Phase IV'!AK25,'Phase IV'!AK37,'Phase IV'!AK49,'Phase IV'!AK61),1),\"\")","v":""},{"$f":"IFERROR(Table2[[#This Row],[Arbitrary Units]]/AVERAGE(F17:F20),\"\")","v":""}]
[null,"Week 20",{"$f":"'Phase IV'!$BC$62","v":""},{"$f":"'Phase IV'!$BI$62","v":""},{"$f":"'Phase IV'!$BN$62","v":""},{"$f":"IFERROR(ROUND(SUBSTITUTE('Phase IV'!BP62,\" AU\",\"\"),0),\"\")","v":""},{"$f":"IFERROR(ROUND(AVERAGE('Phase IV'!BB13,'Phase IV'!BB25,'Phase IV'!BB37,'Phase IV'!BB49,'Phase IV'!BB61),1),\"\")","v":""},{"$f":"IFERROR(Table2[[#This Row],[Arbitrary Units]]/AVERAGE(F18:F21),\"\")","v":""}]

{"sheet":"Exercise Selection","index":7,"n_rows":32,"n_cols":16,"rows_kept":32,"hidden":true,"merged":[[2,0,2,1],[2,4,2,9],[3,4,3,5],[3,6,3,7],[3,8,3,9],[4,4,6,4],[4,6,6,6],[4,8,6,8],[7,4,9,4],[7,6,8,6],[7,8,9,8],[9,6,10,6],[10,4,11,4],[10,8,12,8],[11,6,14,6],[12,4,17,4],[13,0,13,1],[13,8,15,8],[15,6,17,6],[16,8,17,8],[18,6,20,6],[21,6,23,6]]}
[{"$nulls":13},"Blue","#2C479E","rgb(44,71,158)"]
[{"$nulls":13},"Red","#A51F2A","rgb(165,31,42)"]
["Isometric Exercises Selection",{"$nulls":3},"Clusters"]
["Unilateral","Bilateral",null,null,"Clean",null,"Snatch",null,"Jerk"]
["Split Squat","Wall-Sit",null,null,"Clean Cluster 1","Lift-Off to Knee","Snatch Cluster 1","Lift-Off to Knee","Jerk Cluster 1","Push-Press (w/Tempo Dip & Pause)"]
["Knee Extension (60º Degrees)","Spanish Squat",{"$nulls":3},"Lift-Off to Hip",null,"Lift-Off to Hip",null,"Push-Press (w/Tempo Dip)"]
[null,"Counter Balance Squat",{"$nulls":3},"Pull/Extension",null,"Pull/Extension",null,"Push-Press"]
[{"$nulls":4},"Clean Cluster 2","Muscle-Clean (No Feet, No Hook)","Snatch Cluster 2","Muscle Snatch (No Feet,No Hook)","Jerk Cluster 2","Push-Jerk (w/Tempo Dip & Pause)"]
[{"$nulls":5},"Power-Clean (No Feet, w/ Pause iin Catch)",null,"Snatch Push-Press (w/ Tempo Dip & Pause)",null,"Push-Jerk (w/Tempo Dip)"]
[{"$nulls":5},"Power-Clean (No Feet) + Front-Squat (Tempo)","Snatch Cluster 3","Snatch Push-Press to Tempo Overhead-Squat",null,"Push-Jerk "]
[{"$nulls":4},"Clean Cluster 3","Power-Clean (w/ Pause in Catch)",null,"Power-Snatch (No Feet, w/ Pause at Catch)","Jerk Cluster 3","Power-Jerk (w/Tempo Dip & Pause)"]
[{"$nulls":5},"Power-Clean + Front-Squat (Tempo)","Snatch Cluster 4","Snatch-Balance (No Feet, w/ Tempo Dip & Pause)",null,"Power-Jerk (w/Tempo Dip)"]
[{"$nulls":4},"Clean Cluster 4","Tall-Clean (No Feet)",null,"Snatch-Balance (No Feet, w/ Tempo Dip)",null,"Power-Jerk "]
["Tempo-Strength Training",{"$nulls":4},"Dip-Clean (No Feet)",null,"Snatch-Balance (No Feet)","Jerk Cluster 4","Press in Split"]
["Unilateral","Bilateral",{"$nulls":3},"Full-Clean  (No Feet)",null,"Drop-Snatch (No Feet)",null,"Jerk-Balance (w/ Pause in Split)"]
["Single Leg Squat (Pistol)","Counterbalance Squat",{"$nulls":3},"Tall-Clean","Snatch Cluster 5","Power-Snatch (No Feet) + Overhead-Squat (Tempo)",null,"Tall-Jerk (w/ Pause in Split)"]
["Split Squat","Belt Squat",{"$nulls":3},"Dip-Clean",null,"Power-Snatch (w/ Pause in Catch)","Jerk Cluster 5","Jerk (w/ Pause in Split)"]
["Front-Foot Elevated Split Squat","Bilateral Leg Press",{"$nulls":3},"Full-Clean",null,"Power-Snatch + Overrhead-Squat (Tempo)",null,"Split-Jerk"]
["Bulgarian Split Squat","Hack Squat",{"$nulls":4},"Snatch Cluster 6","Snatch-Balance"]
["Unilateral Leg Press","Safety Bar Squat",{"$nulls":5},"Snatch (No Feet)"]
["Leg Extension","High Bar Back Squat",{"$nulls":5},"Drop-Snatch"]
["Step-Ups (Hip at 90 degrees of","Front Squat",{"$nulls":4},"Snatch Cluster 7","Tall-Snatch"]
["flexion)","Overhead Squat",{"$nulls":5},"Dip-Snatch"]
[null,"Lift-Offs",{"$nulls":5},"Snatch"]
[null,"Snatch-Grip Deadlift"]
[null,"bla exercise"]
[null,"Clean-Grip Deadlift"]
[]
[]
["Test #1","Test #2"]
["Pass","Pass"]
["Fail","Fail"]

{"sheet":"RPE Chart","index":8,"n_rows":20,"n_cols":14,"rows_kept":20,"hidden":true,"merged":[[0,0,0,10],[0,12,0,13]]}
["Effort/Reps Chart",{"$nulls":11},"RPE Scale"]
["REPS",1,2,3,4,5,6,7,8,9,10,null,10,"You could not have done 1 more rep."]
["RPE 10",{"v":1,"d":"100.00%"},{"v":0.959,"d":"95.90%"},{"v":0.93,"d":"93.00%"},{"v":0.902,"d":"90.20%"},{"v":0.876,"d":"87.60%"},{"v":0.852,"d":"85.20%"},{"v":0.828,"d":"82.80%"},{"v":0.805,"d":"80.50%"},{"v":0.783,"d":"78.30%"},{"v":0.762,"d":"76.20%"},null,9.5,"You could have maybe done 1 more rep."]
["RPE 9.5",{"v":0.98,"d":"98.00%"},{"v":0.945,"d":"94.50%"},{"v":0.916,"d":"91.60%"},{"v":0.889,"d":"88.90%"},{"v":0.864,"d":"86.40%"},{"v":0.84,"d":"84.00%"},{"v":0.817,"d":"81.70%"},{"v":0.794,"d":"79.40%"},{"v":0.773,"d":"77.30%"},{"v":0.747,"d":"74.70%"},null,9,"You could have definitely done 1 more rep."]
["RPE 9",{"v":0.959,"d":"95.90%"},{"v":0.93,"d":"93.00%"},{"v":0.902,"d":"90.20%"},{"v":0.876,"d":"87.60%"},{"v":0.852,"d":"85.20%"},{"v":0.828,"d":"82.80%"},{"v":0.805,"d":"80.50%"},{"v":0.783,"d":"78.30%"},{"v":0.762,"d":"76.20%"},{"v":0.732,"d":"73.20%"},null,8.5,"You could have maybe done 2 more reps."]
["RPE 8.5",{"v":0.945,"d":"94.50%"},{"v":0.916,"d":"91.60%"},{"v":0.889,"d":"88.90%"},{"v":0.864,"d":"86.40%"},{"v":0.84,"d":"84.00%"},{"v":0.817,"d":"81.70%"},{"v":0.794,"d":"79.40%"},{"v":0.773,"d":"77.30%"},{"v":0.747,"d":"74.70%"},{"v":0.72,"d":"72.00%"},null,8,"You could have definitely done 2 more reps."]
["RPE 8",{"v":0.93,"d":"93.00%"},{"v":0.902,"d":"90.20%"},{"v":0.876,"d":"87.60%"},{"v":0.852,"d":"85.20%"},{"v":0.828,"d":"82.80%"},{"v":0.805,"d":"80.50%"},{"v":0.783,"d":"78.30%"},{"v":0.762,"d":"76.20%"},{"v":0.732,"d":"73.20%"},{"v":0.707,"d":"70.70%"},null,7.5,"You could have maybe done 3 more reps."]
["RPE 7.5",{"v":0.916,"d":"91.60%"},{"v":0.889,"d":"88.90%"},{"v":0.864,"d":"86.40%"},{"v":0.84,"d":"84.00%"},{"v":0.817,"d":"81.70%"},{"v":0.794,"d":"79.40%"},{"v":0.773,"d":"77.30%"},{"v":0.747,"d":"74.70%"},{"v":0.72,"d":"72.00%"},{"v":0.695,"d":"69.50%"},null,7,"You could have definitely done 3 more reps."]
["RPE 7",{"v":0.902,"d":"90.20%"},{"v":0.876,"d":"87.60%"},{"v":0.852,"d":"85.20%"},{"v":0.828,"d":"82.80%"},{"v":0.805,"d":"80.50%"},{"v":0.783,"d":"78.30%"},{"v":0.762,"d":"76.20%"},{"v":0.732,"d":"73.20%"},{"v":0.707,"d":"70.70%"},{"v":0.681,"d":"68.10%"},null,6.5,"You could have maybe done 4 more reps."]
["RPE 6.5",{"v":0.889,"d":"88.90%"},{"v":0.864,"d":"86.40%"},{"v":0.84,"d":"84.00%"},{"v":0.817,"d":"81.70%"},{"v":0.794,"d":"79.40%"},{"v":0.773,"d":"77.30%"},{"v":0.747,"d":"74.70%"},{"v":0.72,"d":"72.00%"},{"v":0.695,"d":"69.50%"},{"v":0.669,"d":"66.90%"},null,6]
[{"$nulls":12},5.5]
[{"$nulls":12},5]
[{"$nulls":12},4.5]
[{"$nulls":12},4]
[{"$nulls":12},3.5]
[{"$nulls":12},3]
[{"$nulls":12},2.5]
[{"$nulls":12},2]
[{"$nulls":12},1.5]
[{"$nulls":12},1]